{
 "currentVersion": 11.0,
 "serviceDescription": "CARTOGRAFIA_10K_1974",
 "name": "CARTOGRAFIA_10K_1974",
 "description": "",
 "extent": {
  "xmin": -64000.291403247604,
  "ymin": 214999.7088381686,
  "xmax": -39997.765264658345,
  "ymax": 245001.21458255875,
  "spatialReference": {
   "wkid": 102161,
   "latestWkid": 102161
  }
 },
 "initialExtent": {
  "xmin": -64000.291403247604,
  "ymin": 214999.7088381686,
  "xmax": -39997.765264658345,
  "ymax": 245001.21458255875,
  "spatialReference": {
   "wkid": 102161,
   "latestWkid": 102161
  }
 },
 "fullExtent": {
  "xmin": -64000.291403247604,
  "ymin": 214999.7088381686,
  "xmax": -39997.765264658345,
  "ymax": 245001.21458255875,
  "spatialReference": {
   "wkid": 102161,
   "latestWkid": 102161
  }
 },
 "sortableFields": "",
 "bandCount": 3,
 "pixelType": "U8",
 "minValues": [
  0,
  0,
  0
 ],
 "maxValues": [
  255,
  255,
  253
 ],
 "meanValues": [
  188.8052841578102,
  194.78193042598122,
  179.37386947376555
 ],
 "stdvValues": [
  41.18381158299033,
  37.6130505675733,
  35.627604417737736
 ],
 "hasMultidimensions": false,
 "pixelSizeX": 0.8259644232136703,
 "pixelSizeY": 0.8259644232136707,
 "datasetFormat": "FGDBR",
 "uncompressedSize": 3166639140,
 "blockWidth": 128,
 "blockHeight": 128,
 "compressionType": "LZ77",
 "bandNames": [
  "Band_1",
  "Band_2",
  "Band_3"
 ],
 "allowCopy": true,
 "allowAnalysis": true,
 "minPixelSize": 0,
 "maxPixelSize": 0,
 "copyrightText": "",
 "serviceDataType": "esriImageServiceDataTypeRGB",
 "serviceSourceType": "esriImageServiceSourceTypeDataset",
 "objectIdField": "",
 "fields": [],
 "capabilities": "Image,Metadata,Mensuration",
 "defaultMosaicMethod": "Center",
 "allowedMosaicMethods": "",
 "sortField": "",
 "sortValue": null,
 "sortAscending": true,
 "mosaicOperator": "First",
 "defaultCompressionQuality": 75,
 "defaultResamplingMethod": "Bilinear",
 "maxImageHeight": 4100,
 "maxImageWidth": 15000,
 "allowRasterFunction": true,
 "rasterFunctionInfos": [
  {
   "name": "None",
   "description": "",
   "help": ""
  }
 ],
 "rasterTypeInfos": [
  {
   "name": "Raster Dataset",
   "description": "Supports all ArcGIS Raster Datasets",
   "help": ""
  }
 ],
 "mensurationCapabilities": "Basic",
 "hasHistograms": true,
 "hasColormap": false,
 "hasRasterAttributeTable": false,
 "minScale": 0,
 "maxScale": 0,
 "exportTilesAllowed": false,
 "supportsStatistics": false,
 "supportsAdvancedQueries": false,
 "editFieldsInfo": null,
 "ownershipBasedAccessControlForRasters": null,
 "allowComputeTiePoints": false,
 "useStandardizedQueries": true,
 "advancedQueryCapabilities": {
  "useStandardizedQueries": true,
  "supportsStatistics": false,
  "supportsOrderBy": false,
  "supportsDistinct": false,
  "supportsPagination": false
 },
 "spatialReference": {
  "wkid": 102161,
  "latestWkid": 102161
 }
}
