{
 "currentVersion": 11.0,
 "serviceDescription": "CARTOGRAFIA_2K_1981",
 "name": "CARTOGRAFIA_2K_1981",
 "description": "",
 "extent": {
  "xmin": -62400,
  "ymin": 216999.9562574067,
  "xmax": -43199.34545600003,
  "ymax": 235999.978747,
  "spatialReference": {
   "wkid": 102165,
   "latestWkid": 102165
  }
 },
 "initialExtent": {
  "xmin": -62400,
  "ymin": 216999.9562574067,
  "xmax": -43199.34545600003,
  "ymax": 235999.978747,
  "spatialReference": {
   "wkid": 102165,
   "latestWkid": 102165
  }
 },
 "fullExtent": {
  "xmin": -62400,
  "ymin": 216999.9562574067,
  "xmax": -43199.34545600003,
  "ymax": 235999.978747,
  "spatialReference": {
   "wkid": 102165,
   "latestWkid": 102165
  }
 },
 "sortableFields": "",
 "bandCount": 1,
 "pixelType": "U8",
 "minValues": [
  0
 ],
 "maxValues": [
  255
 ],
 "meanValues": [
  236.83500690996766
 ],
 "stdvValues": [
  65.58928512066316
 ],
 "hasMultidimensions": false,
 "pixelSizeX": 0.16894399999999973,
 "pixelSizeY": 0.16894164842033768,
 "datasetFormat": "FGDBR",
 "uncompressedSize": 12781647250,
 "blockWidth": 128,
 "blockHeight": 128,
 "compressionType": "LZ77",
 "bandNames": [
  "Band_1"
 ],
 "allowCopy": true,
 "allowAnalysis": true,
 "minPixelSize": 0,
 "maxPixelSize": 0,
 "copyrightText": "",
 "serviceDataType": "esriImageServiceDataTypeGeneric",
 "serviceSourceType": "esriImageServiceSourceTypeDataset",
 "objectIdField": "",
 "fields": [],
 "capabilities": "Image,Metadata",
 "defaultMosaicMethod": "Center",
 "allowedMosaicMethods": "",
 "sortField": "",
 "sortValue": null,
 "sortAscending": true,
 "mosaicOperator": "First",
 "defaultCompressionQuality": 75,
 "defaultResamplingMethod": "Bilinear",
 "maxImageHeight": 4100,
 "maxImageWidth": 15000,
 "allowRasterFunction": true,
 "rasterFunctionInfos": [
  {
   "name": "None",
   "description": "",
   "help": ""
  }
 ],
 "rasterTypeInfos": [
  {
   "name": "Raster Dataset",
   "description": "Supports all ArcGIS Raster Datasets",
   "help": ""
  }
 ],
 "mensurationCapabilities": "",
 "hasHistograms": true,
 "hasColormap": false,
 "hasRasterAttributeTable": true,
 "minScale": 0,
 "maxScale": 0,
 "exportTilesAllowed": false,
 "supportsStatistics": false,
 "supportsAdvancedQueries": false,
 "editFieldsInfo": null,
 "ownershipBasedAccessControlForRasters": null,
 "allowComputeTiePoints": false,
 "useStandardizedQueries": true,
 "advancedQueryCapabilities": {
  "useStandardizedQueries": true,
  "supportsStatistics": false,
  "supportsOrderBy": false,
  "supportsDistinct": false,
  "supportsPagination": false
 },
 "spatialReference": {
  "wkid": 102165,
  "latestWkid": 102165
 }
}
