{
 "currentVersion": 11.0,
 "serviceDescription": "CARTOGRAFIA_MILITAR_25K_1997",
 "name": "CARTOGRAFIA_MILITAR_25K_1997",
 "description": "",
 "extent": {
  "xmin": -64002.39623120753,
  "ymin": 209998.13093971807,
  "xmax": -31998.332223271504,
  "ymax": 240003.73812056376,
  "spatialReference": {
   "wkid": 102161,
   "latestWkid": 102161
  }
 },
 "initialExtent": {
  "xmin": -64002.39623120753,
  "ymin": 209998.13093971807,
  "xmax": -31998.332223271504,
  "ymax": 240003.73812056376,
  "spatialReference": {
   "wkid": 102161,
   "latestWkid": 102161
  }
 },
 "fullExtent": {
  "xmin": -64002.39623120753,
  "ymin": 209998.13093971807,
  "xmax": -31998.332223271504,
  "ymax": 240003.73812056376,
  "spatialReference": {
   "wkid": 102161,
   "latestWkid": 102161
  }
 },
 "sortableFields": "",
 "bandCount": 3,
 "pixelType": "U8",
 "minValues": [
  0,
  0,
  0
 ],
 "maxValues": [
  255,
  255,
  255
 ],
 "meanValues": [
  225.74553610443462,
  227.83433451225872,
  228.8068019333592
 ],
 "stdvValues": [
  38.69992076091542,
  40.55167802924707,
  41.26358501646312
 ],
 "hasMultidimensions": false,
 "pixelSizeX": 2.39623120754238,
 "pixelSizeY": 2.396231207542381,
 "datasetFormat": "FGDBR",
 "uncompressedSize": 501731496,
 "blockWidth": 128,
 "blockHeight": 128,
 "compressionType": "LZ77",
 "bandNames": [
  "Band_1",
  "Band_2",
  "Band_3"
 ],
 "allowCopy": true,
 "allowAnalysis": true,
 "minPixelSize": 0,
 "maxPixelSize": 0,
 "copyrightText": "",
 "serviceDataType": "esriImageServiceDataTypeRGB",
 "serviceSourceType": "esriImageServiceSourceTypeDataset",
 "objectIdField": "",
 "fields": [],
 "capabilities": "Image,Metadata,Mensuration",
 "defaultMosaicMethod": "Center",
 "allowedMosaicMethods": "",
 "sortField": "",
 "sortValue": null,
 "sortAscending": true,
 "mosaicOperator": "First",
 "defaultCompressionQuality": 75,
 "defaultResamplingMethod": "Bilinear",
 "maxImageHeight": 4100,
 "maxImageWidth": 15000,
 "allowRasterFunction": true,
 "rasterFunctionInfos": [
  {
   "name": "None",
   "description": "",
   "help": ""
  }
 ],
 "rasterTypeInfos": [
  {
   "name": "Raster Dataset",
   "description": "Supports all ArcGIS Raster Datasets",
   "help": ""
  }
 ],
 "mensurationCapabilities": "Basic",
 "hasHistograms": true,
 "hasColormap": false,
 "hasRasterAttributeTable": false,
 "minScale": 0,
 "maxScale": 0,
 "exportTilesAllowed": false,
 "supportsStatistics": false,
 "supportsAdvancedQueries": false,
 "editFieldsInfo": null,
 "ownershipBasedAccessControlForRasters": null,
 "allowComputeTiePoints": false,
 "useStandardizedQueries": true,
 "advancedQueryCapabilities": {
  "useStandardizedQueries": true,
  "supportsStatistics": false,
  "supportsOrderBy": false,
  "supportsDistinct": false,
  "supportsPagination": false
 },
 "spatialReference": {
  "wkid": 102161,
  "latestWkid": 102161
 }
}
