<?xml version="1.0" encoding="UTF-8" standalone="no"?>
<metadata xml:lang="pt">
<Esri>
<MetaID>{439DAB66-2210-4EBA-9502-0ECE17FBED41}</MetaID>
<CreaDate>20081029</CreaDate>
<CreaTime>09185100</CreaTime>
<SyncOnce>FALSE</SyncOnce>
<DataProperties>
<lineage>
<Process Date="20081029" Time="091851" ToolSource="C:\Program Files\ArcGIS\ArcToolbox\Toolboxes\Data Management Tools.tbx\CreateRasterDataset">CreateRasterDataset \\mvc-geo\ESRI_MXD\RasterGeodatabase.gdb PDM_ZAcustico # 8_BIT_UNSIGNED PROJCS['Lisboa_Hayford_Gauss_IPCC',GEOGCS['GCS_Datum_Lisboa_Hayford',DATUM['D_Datum_Lisboa_Hayford',SPHEROID['International_1924',6378388.0,297.0]],PRIMEM['Greenwich',0.0],UNIT['Degree',0.0174532925199433]],PROJECTION['Transverse_Mercator'],PARAMETER['False_Easting',0.0],PARAMETER['False_Northing',0.0],PARAMETER['Central_Meridian',-8.131906111111112],PARAMETER['Scale_Factor',1.0],PARAMETER['Latitude_Of_Origin',39.66666666666666],UNIT['Meter',1.0]] 3 # "PYRAMIDS -1 NEAREST" "128 128" LZ77 "-5623254,98073414 5609694,15872771" \\mvc-geo\ESRI_MXD\RasterGeodatabase.gdb\PDM_ZAcustico</Process>
<Process Date="20081029" Time="094641" ToolSource="C:\Program Files\ArcGIS\ArcToolbox\Toolboxes\Data Management Tools.tbx\Mosaic">Mosaic 'W:\PMOT\PDMVC\Volume 1\Pl_cond_Zona_Acustico\JPG\Cond_Z_ACUST-55-1.jpg';'W:\PMOT\PDMVC\Volume 1\Pl_cond_Zona_Acustico\JPG\Cond_Z_ACUST-54-2.jpg';'W:\PMOT\PDMVC\Volume 1\Pl_cond_Zona_Acustico\JPG\Cond_Z_ACUST-54-1.jpg';'W:\PMOT\PDMVC\Volume 1\Pl_cond_Zona_Acustico\JPG\Cond_Z_ACUST-41-3.jpg';'W:\PMOT\PDMVC\Volume 1\Pl_cond_Zona_Acustico\JPG\Cond_Z_ACUST-41-1.jpg';'W:\PMOT\PDMVC\Volume 1\Pl_cond_Zona_Acustico\JPG\Cond_Z_ACUST-40-4.jpg';'W:\PMOT\PDMVC\Volume 1\Pl_cond_Zona_Acustico\JPG\Cond_Z_ACUST-40-3.jpg';'W:\PMOT\PDMVC\Volume 1\Pl_cond_Zona_Acustico\JPG\Cond_Z_ACUST-40-2.jpg';'W:\PMOT\PDMVC\Volume 1\Pl_cond_Zona_Acustico\JPG\Cond_Z_ACUST-40-1.jpg';'W:\PMOT\PDMVC\Volume 1\Pl_cond_Zona_Acustico\JPG\Cond_Z_ACUST-28-3.jpg';'W:\PMOT\PDMVC\Volume 1\Pl_cond_Zona_Acustico\JPG\Cond_Z_ACUST-28-1.jpg';'W:\PMOT\PDMVC\Volume 1\Pl_cond_Zona_Acustico\JPG\Cond_Z_ACUST-27-4.jpg';'W:\PMOT\PDMVC\Volume 1\Pl_cond_Zona_Acustico\JPG\Cond_Z_ACUST-27-3.jpg';'W:\PMOT\PDMVC\Volume 1\Pl_cond_Zona_Acustico\JPG\Cond_Z_ACUST-27-2.jpg';'W:\PMOT\PDMVC\Volume 1\Pl_cond_Zona_Acustico\JPG\Cond_Z_ACUST-27-1.jpg';'W:\PMOT\PDMVC\Volume 1\Pl_cond_Zona_Acustico\JPG\Cond_Z_ACUST-14-4.jpg' \\mvc-geo\ESRI_MXD\RasterGeodatabase.gdb\PDM_ZAcustico LAST MATCH # # NONE 0 \\mvc-geo\ESRI_MXD\RasterGeodatabase.gdb\PDM_ZAcustico NONE</Process>
<Process Date="20081029" Time="124430" ToolSource="C:\Program Files\ArcGIS\ArcToolbox\Toolboxes\Data Management Tools.tbx\CalculateStatistics">CalculateStatistics \\mvc-geo\ESRI_MXD\RasterGeodatabase.gdb\Condicionantes_ZAcustico 1 1 # \\mvc-geo\ESRI_MXD\RasterGeodatabase.gdb\Condicionantes_ZAcustico</Process>
<Process Date="20091204" Time="103235" ToolSource="C:\Program Files\ArcGIS\ArcToolbox\Toolboxes\Data Management Tools.tbx\CopyRaster">CopyRaster "Database Connections\Connection to MUNISIG.sde\GEO_ADMIN.CONDICIONANTES_ZACUSTICO" \\mvc-geo\ESRI_MXD\RasterGeodatabase.gdb\CONDICIONANTES_ZACUSTICO # # # NONE NONE #</Process>
</lineage>
<itemProps>
<itemName Sync="TRUE">CONDICIONANTES_ZACUSTICO</itemName>
<imsContentType Sync="TRUE">002</imsContentType>
<nativeExtBox>
<westBL Sync="TRUE">-64000.444628</westBL>
<eastBL Sync="TRUE">-39999.428641</eastBL>
<southBL Sync="TRUE">215000.228508</southBL>
<northBL Sync="TRUE">245000.228512</northBL>
<exTypeCode Sync="TRUE">1</exTypeCode>
</nativeExtBox>
<itemLocation>
<linkage Sync="TRUE">file://\\mvc-geo\ESRI_MXD\RasterGeodatabase.gdb</linkage>
<protocol Sync="TRUE">Local Area Network</protocol>
</itemLocation>
</itemProps>
<coordRef>
<type Sync="TRUE">Projected</type>
<geogcsn Sync="TRUE">GCS_Datum_Lisboa_Hayford</geogcsn>
<csUnits Sync="TRUE">Linear Unit: Meter (1.000000)</csUnits>
<projcsn Sync="TRUE">Lisboa_Hayford_Gauss_IPCC</projcsn>
<peXml Sync="TRUE">&lt;ProjectedCoordinateSystem xsi:type='typens:ProjectedCoordinateSystem' xmlns:xsi='http://www.w3.org/2001/XMLSchema-instance' xmlns:xs='http://www.w3.org/2001/XMLSchema' xmlns:typens='http://www.esri.com/schemas/ArcGIS/10.0'&gt;&lt;WKT&gt;PROJCS[&amp;quot;Lisboa_Hayford_Gauss_IPCC&amp;quot;,GEOGCS[&amp;quot;GCS_Datum_Lisboa_Hayford&amp;quot;,DATUM[&amp;quot;D_Datum_Lisboa_Hayford&amp;quot;,SPHEROID[&amp;quot;International_1924&amp;quot;,6378388.0,297.0]],PRIMEM[&amp;quot;Greenwich&amp;quot;,0.0],UNIT[&amp;quot;Degree&amp;quot;,0.0174532925199433]],PROJECTION[&amp;quot;Transverse_Mercator&amp;quot;],PARAMETER[&amp;quot;False_Easting&amp;quot;,0.0],PARAMETER[&amp;quot;False_Northing&amp;quot;,0.0],PARAMETER[&amp;quot;Central_Meridian&amp;quot;,-8.131906111111112],PARAMETER[&amp;quot;Scale_Factor&amp;quot;,1.0],PARAMETER[&amp;quot;Latitude_Of_Origin&amp;quot;,39.66666666666666],UNIT[&amp;quot;Meter&amp;quot;,1.0],AUTHORITY[&amp;quot;ESRI&amp;quot;,102165]]&lt;/WKT&gt;&lt;XOrigin&gt;-5623400&lt;/XOrigin&gt;&lt;YOrigin&gt;-14395000&lt;/YOrigin&gt;&lt;XYScale&gt;450251902.2805022&lt;/XYScale&gt;&lt;ZOrigin&gt;0&lt;/ZOrigin&gt;&lt;ZScale&gt;1&lt;/ZScale&gt;&lt;MOrigin&gt;0&lt;/MOrigin&gt;&lt;MScale&gt;1&lt;/MScale&gt;&lt;XYTolerance&gt;0.001&lt;/XYTolerance&gt;&lt;ZTolerance&gt;2&lt;/ZTolerance&gt;&lt;MTolerance&gt;2&lt;/MTolerance&gt;&lt;HighPrecision&gt;true&lt;/HighPrecision&gt;&lt;WKID&gt;102165&lt;/WKID&gt;&lt;/ProjectedCoordinateSystem&gt;</peXml>
</coordRef>
</DataProperties>
<SyncDate>20120301</SyncDate>
<SyncTime>12415800</SyncTime>
<ModDate>20120301</ModDate>
<ModTime>12415800</ModTime>
</Esri>
<idinfo>
<native Sync="TRUE">Microsoft Windows Vista Version 6.0 (Build 6002) Service Pack 2; ESRI ArcCatalog 9.3.1.3000</native>
<descript>
<langdata Sync="TRUE">pt</langdata>
<abstract>REQUIRED: A brief narrative summary of the data set.</abstract>
<purpose>REQUIRED: A summary of the intentions with which the data set was developed.</purpose>
</descript>
<citation>
<citeinfo>
<origin>REQUIRED: The name of an organization or individual that developed the data set.</origin>
<pubdate>REQUIRED: The date when the data set is published or otherwise made available for release.</pubdate>
<title Sync="TRUE">CONDICIONANTES_ZACUSTICO</title>
<ftname Sync="TRUE">CONDICIONANTES_ZACUSTICO</ftname>
<geoform Sync="TRUE">Fgdb raster digital data</geoform>
<onlink Sync="TRUE">\\mvc-geo\ESRI_MXD\RasterGeodatabase.gdb</onlink>
</citeinfo>
</citation>
<timeperd>
<current>REQUIRED: The basis on which the time period of content information is determined.</current>
<timeinfo>
<sngdate>
<caldate>REQUIRED: The year (and optionally month, or month and day) for which the data set corresponds to the ground.</caldate>
</sngdate>
</timeinfo>
</timeperd>
<status>
<progress>REQUIRED: The state of the data set.</progress>
<update>REQUIRED: The frequency with which changes and additions are made to the data set after the initial data set is completed.</update>
</status>
<spdom>
<bounding>
<westbc Sync="TRUE">-8.902783</westbc>
<eastbc Sync="TRUE">-8.611692</eastbc>
<northbc Sync="TRUE">41.871818</northbc>
<southbc Sync="TRUE">41.600169</southbc>
</bounding>
<lboundng>
<leftbc Sync="TRUE">-64000.444628</leftbc>
<rightbc Sync="TRUE">-39999.428641</rightbc>
<bottombc Sync="TRUE">215000.228508</bottombc>
<topbc Sync="TRUE">245000.228512</topbc>
</lboundng>
</spdom>
<keywords>
<theme>
<themekt>REQUIRED: Reference to a formally registered thesaurus or a similar authoritative source of theme keywords.</themekt>
<themekey>REQUIRED: Common-use word or phrase used to describe the subject of the data set.</themekey>
</theme>
</keywords>
<accconst>REQUIRED: Restrictions and legal prerequisites for accessing the data set.</accconst>
<useconst>REQUIRED: Restrictions and legal prerequisites for using the data set after access is granted.</useconst>
<natvform Sync="TRUE">File Geodatabase Raster Dataset</natvform>
</idinfo>
<dataIdInfo>
<envirDesc Sync="TRUE">Microsoft Windows 7 Version 6.1 (Build 7601) Service Pack 1; ESRI ArcGIS 10.0.3.3600</envirDesc>
<dataLang>
<languageCode Sync="TRUE" value="por"/>
<countryCode Sync="TRUE" value="PRT"/>
</dataLang>
<idCitation>
<resTitle Sync="TRUE">CONDICIONANTES_ZACUSTICO</resTitle>
<presForm>
<PresFormCd Sync="TRUE" value="011"/>
</presForm>
</idCitation>
<dataExt>
<geoEle>
<GeoBndBox esriExtentType="native">
<westBL Sync="TRUE">-64000.444628</westBL>
<eastBL Sync="TRUE">-39999.428641</eastBL>
<northBL Sync="TRUE">245000.228512</northBL>
<southBL Sync="TRUE">215000.228508</southBL>
<exTypeCode Sync="TRUE">1</exTypeCode>
</GeoBndBox>
</geoEle>
</dataExt>
<geoBox esriExtentType="decdegrees">
<westBL Sync="TRUE">-8.902783</westBL>
<eastBL Sync="TRUE">-8.611692</eastBL>
<northBL Sync="TRUE">41.871818</northBL>
<southBL Sync="TRUE">41.600169</southBL>
<exTypeCode Sync="TRUE">1</exTypeCode>
</geoBox>
<spatRpType>
<SpatRepTypCd Sync="TRUE" value="002"/>
</spatRpType>
<dataExt>
<geoEle>
<GeoBndBox esriExtentType="search">
<exTypeCode Sync="TRUE">1</exTypeCode>
<westBL Sync="TRUE">-8.902783</westBL>
<eastBL Sync="TRUE">-8.611692</eastBL>
<northBL Sync="TRUE">41.871818</northBL>
<southBL Sync="TRUE">41.600169</southBL>
</GeoBndBox>
</geoEle>
</dataExt>
<idAbs/>
<idPurp/>
<idCredit/>
<resConst>
<Consts>
<useLimit/>
</Consts>
</resConst>
</dataIdInfo>
<metainfo>
<langmeta Sync="TRUE">pt</langmeta>
<metstdn Sync="TRUE">FGDC Content Standards for Digital Geospatial Metadata</metstdn>
<metstdv Sync="TRUE">FGDC-STD-001-1998</metstdv>
<mettc Sync="TRUE">local time</mettc>
<metc>
<cntinfo>
<cntorgp>
<cntper>REQUIRED: The person responsible for the metadata information.</cntper>
<cntorg>REQUIRED: The organization responsible for the metadata information.</cntorg>
</cntorgp>
<cntaddr>
<addrtype>REQUIRED: The mailing and/or physical address for the organization or individual.</addrtype>
<city>REQUIRED: The city of the address.</city>
<state>REQUIRED: The state or province of the address.</state>
<postal>REQUIRED: The ZIP or other postal code of the address.</postal>
</cntaddr>
<cntvoice>REQUIRED: The telephone number by which individuals can speak to the organization or individual.</cntvoice>
</cntinfo>
</metc>
<metd Sync="TRUE">20091204</metd>
</metainfo>
<mdLang>
<languageCode Sync="TRUE" value="por"/>
<countryCode Sync="TRUE" value="PRT"/>
</mdLang>
<mdStanName Sync="TRUE">ISO 19115 Geographic Information - Metadata</mdStanName>
<mdStanVer Sync="TRUE">DIS_ESRI1.0</mdStanVer>
<mdChar>
<CharSetCd Sync="TRUE" value="004"/>
</mdChar>
<mdHrLv>
<ScopeCd Sync="TRUE" value="005"/>
</mdHrLv>
<mdHrLvName Sync="TRUE">dataset</mdHrLvName>
<distinfo>
<resdesc Sync="TRUE">Downloadable Data</resdesc>
</distinfo>
<distInfo>
<distributor>
<distorTran>
<onLineSrc>
<orDesc Sync="TRUE">002</orDesc>
<linkage Sync="TRUE">file://\\mvc-geo\ESRI_MXD\RasterGeodatabase.gdb</linkage>
<protocol Sync="TRUE">Local Area Network</protocol>
</onLineSrc>
</distorTran>
<distorFormat>
<formatName Sync="TRUE">File Geodatabase Raster Dataset</formatName>
</distorFormat>
</distributor>
<distFormat>
<formatName Sync="TRUE">File Geodatabase Raster Dataset</formatName>
</distFormat>
</distInfo>
<spdoinfo>
<direct Sync="TRUE">Raster</direct>
<rastinfo>
<rasttype Sync="TRUE">Pixel</rasttype>
<rowcount Sync="TRUE">23622</rowcount>
<colcount Sync="TRUE">18899</colcount>
<rastxsz Sync="TRUE">1.269962</rastxsz>
<rastysz Sync="TRUE">1.270003</rastysz>
<rastbpp Sync="TRUE">8</rastbpp>
<vrtcount Sync="TRUE">1</vrtcount>
<rastorig Sync="TRUE">Upper Left</rastorig>
<rastcmap Sync="TRUE">FALSE</rastcmap>
<rastcomp Sync="TRUE">LZ77</rastcomp>
<rastband Sync="TRUE">3</rastband>
<rastdtyp Sync="TRUE">pixel codes</rastdtyp>
<rastifor Sync="TRUE">FGDBR</rastifor>
<rastplyr Sync="TRUE">TRUE</rastplyr>
</rastinfo>
</spdoinfo>
<spref>
<horizsys>
<cordsysn>
<geogcsn Sync="TRUE">GCS_Datum_Lisboa_Hayford</geogcsn>
<projcsn Sync="TRUE">Lisboa_Hayford_Gauss_IPCC</projcsn>
</cordsysn>
<planar>
<planci>
<plance Sync="TRUE">row and column</plance>
<plandu Sync="TRUE">meters</plandu>
<coordrep>
<absres Sync="TRUE">1.269962</absres>
<ordres Sync="TRUE">1.270003</ordres>
</coordrep>
</planci>
</planar>
<geodetic>
<horizdn Sync="TRUE">D_Datum_Lisboa_Hayford</horizdn>
<ellips Sync="TRUE">International_1924</ellips>
<semiaxis Sync="TRUE">6378388.000000</semiaxis>
<denflat Sync="TRUE">297.000000</denflat>
</geodetic>
</horizsys>
<vertdef>
<altsys>
<altenc Sync="TRUE">Explicit elevation coordinate included with horizontal coordinates</altenc>
<altres Sync="TRUE">1.000000</altres>
</altsys>
</vertdef>
</spref>
<refSysInfo>
<RefSystem>
<refSysID>
<identCode Sync="TRUE" value="102165">Lisboa_Hayford_Gauss_IPCC</identCode>
<idCodeSpace Sync="TRUE">ESRI</idCodeSpace>
<idVersion Sync="TRUE">10.0.0</idVersion>
</refSysID>
</RefSystem>
</refSysInfo>
<mdDateSt Sync="TRUE">20120301</mdDateSt>
</metadata>
