{
 "currentVersion": 11.0,
 "serviceDescription": "LEVANTAMENTO_CIDADE_1K_1938",
 "name": "LEVANTAMENTO_CIDADE_1K_1938",
 "description": "",
 "extent": {
  "xmin": -60126.757938345705,
  "ymin": 223845.7867267182,
  "xmax": -56144.36342226631,
  "ymax": 226672.15206072046,
  "spatialReference": {
   "wkid": 102161,
   "latestWkid": 102161
  }
 },
 "initialExtent": {
  "xmin": -60126.757938345705,
  "ymin": 223845.7867267182,
  "xmax": -56144.36342226631,
  "ymax": 226672.15206072046,
  "spatialReference": {
   "wkid": 102161,
   "latestWkid": 102161
  }
 },
 "fullExtent": {
  "xmin": -60126.757938345705,
  "ymin": 223845.7867267182,
  "xmax": -56144.36342226631,
  "ymax": 226672.15206072046,
  "spatialReference": {
   "wkid": 102161,
   "latestWkid": 102161
  }
 },
 "sortableFields": "",
 "bandCount": 3,
 "pixelType": "U8",
 "minValues": [
  0,
  0,
  0
 ],
 "maxValues": [
  255,
  255,
  255
 ],
 "meanValues": [
  164.2979645026761,
  164.09713344170837,
  165.06131595808435
 ],
 "stdvValues": [
  96.737388499099,
  96.75679065314715,
  97.47547724154504
 ],
 "hasMultidimensions": false,
 "pixelSizeX": 0.12643726437690558,
 "pixelSizeY": 0.16153428210563364,
 "datasetFormat": "FGDBR",
 "uncompressedSize": 1653309027,
 "blockWidth": 128,
 "blockHeight": 128,
 "compressionType": "LZ77",
 "bandNames": [
  "Band_1",
  "Band_2",
  "Band_3"
 ],
 "allowCopy": true,
 "allowAnalysis": true,
 "minPixelSize": 0,
 "maxPixelSize": 0,
 "copyrightText": "",
 "serviceDataType": "esriImageServiceDataTypeRGB",
 "serviceSourceType": "esriImageServiceSourceTypeDataset",
 "objectIdField": "",
 "fields": [],
 "capabilities": "Image,Metadata,Mensuration",
 "defaultMosaicMethod": "Center",
 "allowedMosaicMethods": "",
 "sortField": "",
 "sortValue": null,
 "sortAscending": true,
 "mosaicOperator": "First",
 "defaultCompressionQuality": 75,
 "defaultResamplingMethod": "Bilinear",
 "maxImageHeight": 4100,
 "maxImageWidth": 15000,
 "allowRasterFunction": true,
 "rasterFunctionInfos": [
  {
   "name": "None",
   "description": "",
   "help": ""
  }
 ],
 "rasterTypeInfos": [
  {
   "name": "Raster Dataset",
   "description": "Supports all ArcGIS Raster Datasets",
   "help": ""
  }
 ],
 "mensurationCapabilities": "Basic",
 "hasHistograms": true,
 "hasColormap": false,
 "hasRasterAttributeTable": false,
 "minScale": 0,
 "maxScale": 0,
 "exportTilesAllowed": false,
 "supportsStatistics": false,
 "supportsAdvancedQueries": false,
 "editFieldsInfo": null,
 "ownershipBasedAccessControlForRasters": null,
 "allowComputeTiePoints": false,
 "useStandardizedQueries": true,
 "advancedQueryCapabilities": {
  "useStandardizedQueries": true,
  "supportsStatistics": false,
  "supportsOrderBy": false,
  "supportsDistinct": false,
  "supportsPagination": false
 },
 "spatialReference": {
  "wkid": 102161,
  "latestWkid": 102161
 }
}
