<?xml version="1.0" encoding="UTF-8" standalone="no"?>
<metadata xml:lang="pt">
<Esri>
<MetaID>{79A409A8-DD65-43DF-8CD8-7879452181AF}</MetaID>
<CreaDate>20091221</CreaDate>
<CreaTime>14343400</CreaTime>
<SyncOnce>FALSE</SyncOnce>
<DataProperties>
<lineage>
<Process Date="20091221" Time="143434" ToolSource="C:\Program Files\ArcGIS\ArcToolbox\Toolboxes\Data Management Tools.tbx\CreateRasterDataset">CreateRasterDataset U:\RasterGeodatabase.gdb ORTOS2003 # 8_BIT_UNSIGNED PROJCS['Datum_73_Hayford_Gauss_IPCC',GEOGCS['GCS_Datum_73',DATUM['D_Datum_73',SPHEROID['International_1924',6378388.0,297.0]],PRIMEM['Greenwich',0.0],UNIT['Degree',0.0174532925199433]],PROJECTION['Transverse_Mercator'],PARAMETER['False_Easting',180.598],PARAMETER['False_Northing',-86.99],PARAMETER['Central_Meridian',-8.131906111111112],PARAMETER['Scale_Factor',1.0],PARAMETER['Latitude_Of_Origin',39.66666666666666],UNIT['Meter',1.0]] 3 # "PYRAMIDS -1 NEAREST" "128 128" LZ77 "-5623074,38273414 5609607,16872771" U:\RasterGeodatabase.gdb\ORTOS2003</Process>
<Process Date="20091222" Time="060212" ToolSource="C:\Program Files\ArcGIS\ArcToolbox\Toolboxes\Data Management Tools.tbx\Mosaic">Mosaic R:\ORTOFOTOMAPAS\TIF_2003\13505250.tif;R:\ORTOFOTOMAPAS\TIF_2003\13505300.tif;R:\ORTOFOTOMAPAS\TIF_2003\13505350.tif;R:\ORTOFOTOMAPAS\TIF_2003\14005150.tif;R:\ORTOFOTOMAPAS\TIF_2003\14005200.tif;R:\ORTOFOTOMAPAS\TIF_2003\14005250.tif;R:\ORTOFOTOMAPAS\TIF_2003\14005300.tif;R:\ORTOFOTOMAPAS\TIF_2003\14005350.tif;R:\ORTOFOTOMAPAS\TIF_2003\14505150.tif;R:\ORTOFOTOMAPAS\TIF_2003\14505200.tif;R:\ORTOFOTOMAPAS\TIF_2003\14505250.tif;R:\ORTOFOTOMAPAS\TIF_2003\14505300.tif;R:\ORTOFOTOMAPAS\TIF_2003\14505350.tif;R:\ORTOFOTOMAPAS\TIF_2003\14505400.tif;R:\ORTOFOTOMAPAS\TIF_2003\15005150.tif;R:\ORTOFOTOMAPAS\TIF_2003\15005200.tif;R:\ORTOFOTOMAPAS\TIF_2003\15005250.tif;R:\ORTOFOTOMAPAS\TIF_2003\15005300.tif;R:\ORTOFOTOMAPAS\TIF_2003\15005350.tif;R:\ORTOFOTOMAPAS\TIF_2003\15505150.tif;R:\ORTOFOTOMAPAS\TIF_2003\15505200.tif;R:\ORTOFOTOMAPAS\TIF_2003\15505250.tif;R:\ORTOFOTOMAPAS\TIF_2003\15505300.tif U:\RasterGeodatabase.gdb\ORTOS2003 LAST FIRST # # NONE 0 U:\RasterGeodatabase.gdb\ORTOS2003 NONE</Process>
<Process Date="20100108" Time="145503" ToolSource="C:\Program Files\ArcGIS\ArcToolbox\Toolboxes\Data Management Tools.tbx\CalculateStatistics">CalculateStatistics \\mvc-geo\ESRI_MXD\RasterGeodatabase.gdb\ORTOS2003 1 1 # \\mvc-geo\ESRI_MXD\RasterGeodatabase.gdb\ORTOS2003</Process>
</lineage>
<itemProps>
<itemName Sync="TRUE">ORTOS2003</itemName>
<imsContentType Sync="TRUE">002</imsContentType>
<nativeExtBox>
<westBL Sync="TRUE">-65049.882734</westBL>
<eastBL Sync="TRUE">-39949.882734</eastBL>
<southBL Sync="TRUE">214950.082758</southBL>
<northBL Sync="TRUE">245050.004356</northBL>
<exTypeCode Sync="TRUE">1</exTypeCode>
</nativeExtBox>
<itemLocation>
<linkage Sync="TRUE">file://\\mvc-geo-int\esri_mxd\RasterGeodatabase.gdb</linkage>
<protocol Sync="TRUE">Local Area Network</protocol>
</itemLocation>
</itemProps>
<coordRef>
<type Sync="TRUE">Projected</type>
<geogcsn Sync="TRUE">GCS_Datum_73</geogcsn>
<csUnits Sync="TRUE">Linear Unit: Meter (1.000000)</csUnits>
<projcsn Sync="TRUE">Datum_73_Hayford_Gauss_IPCC</projcsn>
<peXml Sync="TRUE">&lt;ProjectedCoordinateSystem xsi:type='typens:ProjectedCoordinateSystem' xmlns:xsi='http://www.w3.org/2001/XMLSchema-instance' xmlns:xs='http://www.w3.org/2001/XMLSchema' xmlns:typens='http://www.esri.com/schemas/ArcGIS/10.1'&gt;&lt;WKT&gt;PROJCS[&amp;quot;Datum_73_Hayford_Gauss_IPCC&amp;quot;,GEOGCS[&amp;quot;GCS_Datum_73&amp;quot;,DATUM[&amp;quot;D_Datum_73&amp;quot;,SPHEROID[&amp;quot;International_1924&amp;quot;,6378388.0,297.0]],PRIMEM[&amp;quot;Greenwich&amp;quot;,0.0],UNIT[&amp;quot;Degree&amp;quot;,0.0174532925199433]],PROJECTION[&amp;quot;Transverse_Mercator&amp;quot;],PARAMETER[&amp;quot;False_Easting&amp;quot;,180.598],PARAMETER[&amp;quot;False_Northing&amp;quot;,-86.99],PARAMETER[&amp;quot;Central_Meridian&amp;quot;,-8.131906111111112],PARAMETER[&amp;quot;Scale_Factor&amp;quot;,1.0],PARAMETER[&amp;quot;Latitude_Of_Origin&amp;quot;,39.66666666666666],UNIT[&amp;quot;Meter&amp;quot;,1.0],AUTHORITY[&amp;quot;ESRI&amp;quot;,102161]]&lt;/WKT&gt;&lt;XOrigin&gt;-5623200&lt;/XOrigin&gt;&lt;YOrigin&gt;-14395100&lt;/YOrigin&gt;&lt;XYScale&gt;450249651.57241428&lt;/XYScale&gt;&lt;ZOrigin&gt;0&lt;/ZOrigin&gt;&lt;ZScale&gt;1&lt;/ZScale&gt;&lt;MOrigin&gt;0&lt;/MOrigin&gt;&lt;MScale&gt;1&lt;/MScale&gt;&lt;XYTolerance&gt;0.001&lt;/XYTolerance&gt;&lt;ZTolerance&gt;2&lt;/ZTolerance&gt;&lt;MTolerance&gt;2&lt;/MTolerance&gt;&lt;HighPrecision&gt;true&lt;/HighPrecision&gt;&lt;WKID&gt;102161&lt;/WKID&gt;&lt;LatestWKID&gt;102161&lt;/LatestWKID&gt;&lt;/ProjectedCoordinateSystem&gt;</peXml>
</coordRef>
</DataProperties>
<SyncDate>20141020</SyncDate>
<SyncTime>12160300</SyncTime>
<ModDate>20141020</ModDate>
<ModTime>12160300</ModTime>
</Esri>
<dataIdInfo>
<envirDesc Sync="TRUE">Microsoft Windows Server 2008 R2 Version 6.1 (Build 7601) Service Pack 1; Esri ArcGIS 10.2.0.3370</envirDesc>
<dataLang>
<languageCode Sync="TRUE" value="por"/>
<countryCode Sync="TRUE" value="PRT"/>
</dataLang>
<idCitation>
<resTitle Sync="TRUE">ORTOS2003</resTitle>
<presForm>
<PresFormCd Sync="TRUE" value="011"/>
</presForm>
</idCitation>
<spatRpType>
<SpatRepTypCd Sync="TRUE" value="002"/>
</spatRpType>
<dataExt>
<geoEle>
<GeoBndBox esriExtentType="search">
<exTypeCode Sync="TRUE">1</exTypeCode>
<westBL Sync="TRUE">-8.917612</westBL>
<eastBL Sync="TRUE">-8.613267</eastBL>
<northBL Sync="TRUE">41.873042</northBL>
<southBL Sync="TRUE">41.600401</southBL>
</GeoBndBox>
</geoEle>
</dataExt>
<idAbs/>
<idPurp/>
<idCredit/>
<resConst>
<Consts>
<useLimit/>
</Consts>
</resConst>
</dataIdInfo>
<mdLang>
<languageCode Sync="TRUE" value="por"/>
<countryCode Sync="TRUE" value="PRT"/>
</mdLang>
<distInfo>
<distFormat>
<formatName Sync="TRUE">File Geodatabase Raster Dataset</formatName>
</distFormat>
</distInfo>
<mdHrLv>
<ScopeCd Sync="TRUE" value="005"/>
</mdHrLv>
<mdHrLvName Sync="TRUE">dataset</mdHrLvName>
<refSysInfo>
<RefSystem>
<refSysID>
<identCode Sync="TRUE" code="102161"/>
<idCodeSpace Sync="TRUE">ESRI</idCodeSpace>
<idVersion Sync="TRUE">10.2.0</idVersion>
</refSysID>
</RefSystem>
</refSysInfo>
<spdoinfo>
<rastinfo>
<rasttype Sync="TRUE">Pixel</rasttype>
<rowcount Sync="TRUE">120402</rowcount>
<colcount Sync="TRUE">100400</colcount>
<rastxsz Sync="TRUE">0,250000</rastxsz>
<rastysz Sync="TRUE">0,249995</rastysz>
<rastbpp Sync="TRUE">8</rastbpp>
<vrtcount Sync="TRUE">1</vrtcount>
<rastorig Sync="TRUE">Upper Left</rastorig>
<rastcmap Sync="TRUE">FALSE</rastcmap>
<rastcomp Sync="TRUE">LZ77</rastcomp>
<rastband Sync="TRUE">3</rastband>
<rastdtyp Sync="TRUE">pixel codes</rastdtyp>
<rastifor Sync="TRUE">FGDBR</rastifor>
<rastplyr Sync="TRUE">TRUE</rastplyr>
</rastinfo>
</spdoinfo>
<spref>
<horizsys>
<planar>
<planci>
<plance Sync="TRUE">row and column</plance>
<coordrep>
<absres Sync="TRUE">0,250000</absres>
<ordres Sync="TRUE">0,249995</ordres>
</coordrep>
</planci>
</planar>
</horizsys>
</spref>
<mdDateSt Sync="TRUE">20141020</mdDateSt>
</metadata>
