{
 "currentVersion": 11.0,
 "serviceDescription": "ORTOS2007",
 "name": "ORTOS2007",
 "description": "",
 "extent": {
  "xmin": -65050.228607083634,
  "ymin": 214950.07193118584,
  "xmax": -39949.91329019797,
  "ymax": 245050.07519338114,
  "spatialReference": {
   "wkid": 102165,
   "latestWkid": 102165
  }
 },
 "initialExtent": {
  "xmin": -65050.228607083634,
  "ymin": 214950.07193118584,
  "xmax": -39949.91329019797,
  "ymax": 245050.07519338114,
  "spatialReference": {
   "wkid": 102165,
   "latestWkid": 102165
  }
 },
 "fullExtent": {
  "xmin": -65050.228607083634,
  "ymin": 214950.07193118584,
  "xmax": -39949.91329019797,
  "ymax": 245050.07519338114,
  "spatialReference": {
   "wkid": 102165,
   "latestWkid": 102165
  }
 },
 "sortableFields": "",
 "bandCount": 3,
 "pixelType": "U8",
 "minValues": [
  0,
  0,
  0
 ],
 "maxValues": [
  255,
  255,
  255
 ],
 "meanValues": [
  173.5237120394391,
  174.7478085342518,
  159.48765826695941
 ],
 "stdvValues": [
  67.72500232791214,
  65.50563957460287,
  75.1517913348365
 ],
 "hasMultidimensions": false,
 "pixelSizeX": 0.3499862700700754,
 "pixelSizeY": 0.3499796902760921,
 "datasetFormat": "FGDBR",
 "uncompressedSize": 18504319770,
 "blockWidth": 128,
 "blockHeight": 128,
 "compressionType": "LZ77",
 "bandNames": [
  "Band_1",
  "Band_2",
  "Band_3"
 ],
 "allowCopy": true,
 "allowAnalysis": true,
 "minPixelSize": 0,
 "maxPixelSize": 0,
 "copyrightText": "",
 "serviceDataType": "esriImageServiceDataTypeRGB",
 "serviceSourceType": "esriImageServiceSourceTypeDataset",
 "objectIdField": "",
 "fields": [],
 "capabilities": "Image,Metadata,Mensuration",
 "defaultMosaicMethod": "Center",
 "allowedMosaicMethods": "",
 "sortField": "",
 "sortValue": null,
 "sortAscending": true,
 "mosaicOperator": "First",
 "defaultCompressionQuality": 75,
 "defaultResamplingMethod": "Bilinear",
 "maxImageHeight": 4100,
 "maxImageWidth": 15000,
 "allowRasterFunction": true,
 "rasterFunctionInfos": [
  {
   "name": "None",
   "description": "",
   "help": ""
  }
 ],
 "rasterTypeInfos": [
  {
   "name": "Raster Dataset",
   "description": "Supports all ArcGIS Raster Datasets",
   "help": ""
  }
 ],
 "mensurationCapabilities": "Basic",
 "hasHistograms": true,
 "hasColormap": false,
 "hasRasterAttributeTable": false,
 "minScale": 0,
 "maxScale": 0,
 "exportTilesAllowed": false,
 "supportsStatistics": false,
 "supportsAdvancedQueries": false,
 "editFieldsInfo": null,
 "ownershipBasedAccessControlForRasters": null,
 "allowComputeTiePoints": false,
 "useStandardizedQueries": true,
 "advancedQueryCapabilities": {
  "useStandardizedQueries": true,
  "supportsStatistics": false,
  "supportsOrderBy": false,
  "supportsDistinct": false,
  "supportsPagination": false
 },
 "spatialReference": {
  "wkid": 102165,
  "latestWkid": 102165
 }
}
