{
 "currentVersion": 11.0,
 "serviceDescription": "ORTOS_2K_2014",
 "name": "ORTOS_2K_2014",
 "description": "",
 "extent": {
  "xmin": -63996.08235947175,
  "ymin": 214963.68987871142,
  "xmax": -41955.82143398722,
  "ymax": 241254.04931718003,
  "spatialReference": {
   "wkid": 102161,
   "latestWkid": 102161
  }
 },
 "initialExtent": {
  "xmin": -63996.08235947175,
  "ymin": 214963.68987871142,
  "xmax": -41955.82143398722,
  "ymax": 241254.04931718003,
  "spatialReference": {
   "wkid": 102161,
   "latestWkid": 102161
  }
 },
 "fullExtent": {
  "xmin": -63996.08235947175,
  "ymin": 214963.68987871142,
  "xmax": -41955.82143398722,
  "ymax": 241254.04931718003,
  "spatialReference": {
   "wkid": 102161,
   "latestWkid": 102161
  }
 },
 "sortableFields": "",
 "bandCount": 3,
 "pixelType": "U8",
 "minValues": [
  0,
  0,
  0
 ],
 "maxValues": [
  255,
  255,
  255
 ],
 "meanValues": [
  80.99865524442232,
  87.96681510879847,
  98.86355389301548
 ],
 "stdvValues": [
  56.187654945485995,
  47.25457512686057,
  39.777672953205546
 ],
 "hasMultidimensions": false,
 "pixelSizeX": 0.25000579550000035,
 "pixelSizeY": 0.2500057954000001,
 "datasetFormat": "FGDBR",
 "uncompressedSize": 27812136843,
 "blockWidth": 128,
 "blockHeight": 128,
 "compressionType": "LZ77",
 "bandNames": [
  "Band_1",
  "Band_2",
  "Band_3"
 ],
 "allowCopy": true,
 "allowAnalysis": true,
 "minPixelSize": 0,
 "maxPixelSize": 0,
 "copyrightText": "",
 "serviceDataType": "esriImageServiceDataTypeRGB",
 "serviceSourceType": "esriImageServiceSourceTypeDataset",
 "objectIdField": "",
 "fields": [],
 "capabilities": "Image,Metadata,Mensuration",
 "defaultMosaicMethod": "Center",
 "allowedMosaicMethods": "",
 "sortField": "",
 "sortValue": null,
 "sortAscending": true,
 "mosaicOperator": "First",
 "defaultCompressionQuality": 75,
 "defaultResamplingMethod": "Bilinear",
 "maxImageHeight": 4100,
 "maxImageWidth": 15000,
 "allowRasterFunction": true,
 "rasterFunctionInfos": [
  {
   "name": "None",
   "description": "",
   "help": ""
  }
 ],
 "rasterTypeInfos": [
  {
   "name": "Raster Dataset",
   "description": "Supports all ArcGIS Raster Datasets",
   "help": ""
  }
 ],
 "mensurationCapabilities": "Basic",
 "hasHistograms": true,
 "hasColormap": false,
 "hasRasterAttributeTable": false,
 "minScale": 0,
 "maxScale": 0,
 "exportTilesAllowed": false,
 "supportsStatistics": false,
 "supportsAdvancedQueries": false,
 "editFieldsInfo": null,
 "ownershipBasedAccessControlForRasters": null,
 "allowComputeTiePoints": false,
 "useStandardizedQueries": true,
 "advancedQueryCapabilities": {
  "useStandardizedQueries": true,
  "supportsStatistics": false,
  "supportsOrderBy": false,
  "supportsDistinct": false,
  "supportsPagination": false
 },
 "spatialReference": {
  "wkid": 102161,
  "latestWkid": 102161
 }
}
