<?xml version="1.0" encoding="UTF-8" standalone="no"?>
<metadata xml:lang="pt">
<Esri>
<MetaID>{B450DAEE-FFDD-483A-AECB-CBBA91E560EA}</MetaID>
<CreaDate>20100324</CreaDate>
<CreaTime>15360100</CreaTime>
<SyncOnce>FALSE</SyncOnce>
<DataProperties>
<lineage>
<Process Date="20100324" Time="153601" ToolSource="C:\Program Files\ArcGIS\ArcToolbox\Toolboxes\Data Management Tools.tbx\CreateRasterDataset">CreateRasterDataset U:\RasterGeodatabase.gdb ORTOS_LITORAL2009 # 8_BIT_UNSIGNED PROJCS['Datum_73_Hayford_Gauss_IPCC',GEOGCS['GCS_Datum_73',DATUM['D_Datum_73',SPHEROID['International_1924',6378388.0,297.0]],PRIMEM['Greenwich',0.0],UNIT['Degree',0.0174532925199433]],PROJECTION['Transverse_Mercator'],PARAMETER['False_Easting',180.598],PARAMETER['False_Northing',-86.99],PARAMETER['Central_Meridian',-8.131906111111112],PARAMETER['Scale_Factor',1.0],PARAMETER['Latitude_Of_Origin',39.66666666666666],UNIT['Meter',1.0]] 3 # "PYRAMIDS -1 NEAREST" "128 128" LZ77 "-5623074,38273414 5609607,16872771" U:\RasterGeodatabase.gdb\ORTOS_LITORAL2009</Process>
<Process Date="20100324" Time="194716" ToolSource="C:\Program Files\ArcGIS\ArcToolbox\Toolboxes\Data Management Tools.tbx\Mosaic">Mosaic 'C:\Users\catarinat\Desktop\Viana do Castelo\Produtos Finais\TIFF\104.tif';'C:\Users\catarinat\Desktop\Viana do Castelo\Produtos Finais\TIFF\105.tif';'C:\Users\catarinat\Desktop\Viana do Castelo\Produtos Finais\TIFF\106.tif';'C:\Users\catarinat\Desktop\Viana do Castelo\Produtos Finais\TIFF\107.tif';'C:\Users\catarinat\Desktop\Viana do Castelo\Produtos Finais\TIFF\108.tif';'C:\Users\catarinat\Desktop\Viana do Castelo\Produtos Finais\TIFF\109.tif';'C:\Users\catarinat\Desktop\Viana do Castelo\Produtos Finais\TIFF\110.tif';'C:\Users\catarinat\Desktop\Viana do Castelo\Produtos Finais\TIFF\111.tif';'C:\Users\catarinat\Desktop\Viana do Castelo\Produtos Finais\TIFF\112.tif';'C:\Users\catarinat\Desktop\Viana do Castelo\Produtos Finais\TIFF\113.tif';'C:\Users\catarinat\Desktop\Viana do Castelo\Produtos Finais\TIFF\114.tif';'C:\Users\catarinat\Desktop\Viana do Castelo\Produtos Finais\TIFF\115.tif';'C:\Users\catarinat\Desktop\Viana do Castelo\Produtos Finais\TIFF\116.tif';'C:\Users\catarinat\Desktop\Viana do Castelo\Produtos Finais\TIFF\117.tif';'C:\Users\catarinat\Desktop\Viana do Castelo\Produtos Finais\TIFF\118.tif';'C:\Users\catarinat\Desktop\Viana do Castelo\Produtos Finais\TIFF\119.tif';'C:\Users\catarinat\Desktop\Viana do Castelo\Produtos Finais\TIFF\120.tif';'C:\Users\catarinat\Desktop\Viana do Castelo\Produtos Finais\TIFF\121.tif';'C:\Users\catarinat\Desktop\Viana do Castelo\Produtos Finais\TIFF\122.tif';'C:\Users\catarinat\Desktop\Viana do Castelo\Produtos Finais\TIFF\123.tif';'C:\Users\catarinat\Desktop\Viana do Castelo\Produtos Finais\TIFF\124.tif';'C:\Users\catarinat\Desktop\Viana do Castelo\Produtos Finais\TIFF\125.tif';'C:\Users\catarinat\Desktop\Viana do Castelo\Produtos Finais\TIFF\126.tif';'C:\Users\catarinat\Desktop\Viana do Castelo\Produtos Finais\TIFF\127.tif';'C:\Users\catarinat\Desktop\Viana do Castelo\Produtos Finais\TIFF\128.tif';'C:\Users\catarinat\Desktop\Viana do Castelo\Produtos Finais\TIFF\129.tif';'C:\Users\catarinat\Desktop\Viana do Castelo\Produtos Finais\TIFF\130.tif';'C:\Users\catarinat\Desktop\Viana do Castelo\Produtos Finais\TIFF\131.tif';'C:\Users\catarinat\Desktop\Viana do Castelo\Produtos Finais\TIFF\132.tif';'C:\Users\catarinat\Desktop\Viana do Castelo\Produtos Finais\TIFF\133.tif';'C:\Users\catarinat\Desktop\Viana do Castelo\Produtos Finais\TIFF\134.tif';'C:\Users\catarinat\Desktop\Viana do Castelo\Produtos Finais\TIFF\135.tif';'C:\Users\catarinat\Desktop\Viana do Castelo\Produtos Finais\TIFF\136.tif';'C:\Users\catarinat\Desktop\Viana do Castelo\Produtos Finais\TIFF\137.tif';'C:\Users\catarinat\Desktop\Viana do Castelo\Produtos Finais\TIFF\138.tif';'C:\Users\catarinat\Desktop\Viana do Castelo\Produtos Finais\TIFF\139.tif';'C:\Users\catarinat\Desktop\Viana do Castelo\Produtos Finais\TIFF\140.tif';'C:\Users\catarinat\Desktop\Viana do Castelo\Produtos Finais\TIFF\141.tif';'C:\Users\catarinat\Desktop\Viana do Castelo\Produtos Finais\TIFF\142.tif';'C:\Users\catarinat\Desktop\Viana do Castelo\Produtos Finais\TIFF\143.tif';'C:\Users\catarinat\Desktop\Viana do Castelo\Produtos Finais\TIFF\144.tif';'C:\Users\catarinat\Desktop\Viana do Castelo\Produtos Finais\TIFF\145.tif';'C:\Users\catarinat\Desktop\Viana do Castelo\Produtos Finais\TIFF\146.tif';'C:\Users\catarinat\Desktop\Viana do Castelo\Produtos Finais\TIFF\147.tif';'C:\Users\catarinat\Desktop\Viana do Castelo\Produtos Finais\TIFF\148.tif';'C:\Users\catarinat\Desktop\Viana do Castelo\Produtos Finais\TIFF\149.tif';'C:\Users\catarinat\Desktop\Viana do Castelo\Produtos Finais\TIFF\150.tif';'C:\Users\catarinat\Desktop\Viana do Castelo\Produtos Finais\TIFF\151.tif';'C:\Users\catarinat\Desktop\Viana do Castelo\Produtos Finais\TIFF\152.tif';'C:\Users\catarinat\Desktop\Viana do Castelo\Produtos Finais\TIFF\153.tif';'C:\Users\catarinat\Desktop\Viana do Castelo\Produtos Finais\TIFF\154.tif';'C:\Users\catarinat\Desktop\Viana do Castelo\Produtos Finais\TIFF\155.tif';'C:\Users\catarinat\Desktop\Viana do Castelo\Produtos Finais\TIFF\156.tif';'C:\Users\catarinat\Desktop\Viana do Castelo\Produtos Finais\TIFF\157.tif';'C:\Users\catarinat\Desktop\Viana do Castelo\Produtos Finais\TIFF\158.tif';'C:\Users\catarinat\Desktop\Viana do Castelo\Produtos Finais\TIFF\159.tif';'C:\Users\catarinat\Desktop\Viana do Castelo\Produtos Finais\TIFF\160.tif';'C:\Users\catarinat\Desktop\Viana do Castelo\Produtos Finais\TIFF\161.tif';'C:\Users\catarinat\Desktop\Viana do Castelo\Produtos Finais\TIFF\162.tif';'C:\Users\catarinat\Desktop\Viana do Castelo\Produtos Finais\TIFF\163.tif';'C:\Users\catarinat\Desktop\Viana do Castelo\Produtos Finais\TIFF\164.tif';'C:\Users\catarinat\Desktop\Viana do Castelo\Produtos Finais\TIFF\165.tif';'C:\Users\catarinat\Desktop\Viana do Castelo\Produtos Finais\TIFF\166.tif';'C:\Users\catarinat\Desktop\Viana do Castelo\Produtos Finais\TIFF\167.tif';'C:\Users\catarinat\Desktop\Viana do Castelo\Produtos Finais\TIFF\168.tif';'C:\Users\catarinat\Desktop\Viana do Castelo\Produtos Finais\TIFF\169.tif';'C:\Users\catarinat\Desktop\Viana do Castelo\Produtos Finais\TIFF\170.tif';'C:\Users\catarinat\Desktop\Viana do Castelo\Produtos Finais\TIFF\171.tif';'C:\Users\catarinat\Desktop\Viana do Castelo\Produtos Finais\TIFF\172.tif';'C:\Users\catarinat\Desktop\Viana do Castelo\Produtos Finais\TIFF\173.tif';'C:\Users\catarinat\Desktop\Viana do Castelo\Produtos Finais\TIFF\174.tif';'C:\Users\catarinat\Desktop\Viana do Castelo\Produtos Finais\TIFF\175.tif';'C:\Users\catarinat\Desktop\Viana do Castelo\Produtos Finais\TIFF\176.tif';'C:\Users\catarinat\Desktop\Viana do Castelo\Produtos Finais\TIFF\177.tif';'C:\Users\catarinat\Desktop\Viana do Castelo\Produtos Finais\TIFF\178.tif';'C:\Users\catarinat\Desktop\Viana do Castelo\Produtos Finais\TIFF\179.tif';'C:\Users\catarinat\Desktop\Viana do Castelo\Produtos Finais\TIFF\180.tif';'C:\Users\catarinat\Desktop\Viana do Castelo\Produtos Finais\TIFF\181.tif';'C:\Users\catarinat\Desktop\Viana do Castelo\Produtos Finais\TIFF\182.tif';'C:\Users\catarinat\Desktop\Viana do Castelo\Produtos Finais\TIFF\183.tif';'C:\Users\catarinat\Desktop\Viana do Castelo\Produtos Finais\TIFF\184.tif';'C:\Users\catarinat\Desktop\Viana do Castelo\Produtos Finais\TIFF\185.tif';'C:\Users\catarinat\Desktop\Viana do Castelo\Produtos Finais\TIFF\186.tif';'C:\Users\catarinat\Desktop\Viana do Castelo\Produtos Finais\TIFF\187.tif';'C:\Users\catarinat\Desktop\Viana do Castelo\Produtos Finais\TIFF\188.tif';'C:\Users\catarinat\Desktop\Viana do Castelo\Produtos Finais\TIFF\189.tif';'C:\Users\catarinat\Desktop\Viana do Castelo\Produtos Finais\TIFF\190.tif';'C:\Users\catarinat\Desktop\Viana do Castelo\Produtos Finais\TIFF\191.tif';'C:\Users\catarinat\Desktop\Viana do Castelo\Produtos Finais\TIFF\192.tif';'C:\Users\catarinat\Desktop\Viana do Castelo\Produtos Finais\TIFF\193.tif';'C:\Users\catarinat\Desktop\Viana do Castelo\Produtos Finais\TIFF\194.tif';'C:\Users\catarinat\Desktop\Viana do Castelo\Produtos Finais\TIFF\195.tif';'C:\Users\catarinat\Desktop\Viana do Castelo\Produtos Finais\TIFF\196.tif';'C:\Users\catarinat\Desktop\Viana do Castelo\Produtos Finais\TIFF\197.tif';'C:\Users\catarinat\Desktop\Viana do Castelo\Produtos Finais\TIFF\198.tif';'C:\Users\catarinat\Desktop\Viana do Castelo\Produtos Finais\TIFF\199.tif';'C:\Users\catarinat\Desktop\Viana do Castelo\Produtos Finais\TIFF\200.tif';'C:\Users\catarinat\Desktop\Viana do Castelo\Produtos Finais\TIFF\201.tif';'C:\Users\catarinat\Desktop\Viana do Castelo\Produtos Finais\TIFF\202.tif';'C:\Users\catarinat\Desktop\Viana do Castelo\Produtos Finais\TIFF\203.tif';'C:\Users\catarinat\Desktop\Viana do Castelo\Produtos Finais\TIFF\204.tif';'C:\Users\catarinat\Desktop\Viana do Castelo\Produtos Finais\TIFF\205.tif';'C:\Users\catarinat\Desktop\Viana do Castelo\Produtos Finais\TIFF\206.tif';'C:\Users\catarinat\Desktop\Viana do Castelo\Produtos Finais\TIFF\207.tif';'C:\Users\catarinat\Desktop\Viana do Castelo\Produtos Finais\TIFF\208.tif';'C:\Users\catarinat\Desktop\Viana do Castelo\Produtos Finais\TIFF\209.tif';'C:\Users\catarinat\Desktop\Viana do Castelo\Produtos Finais\TIFF\210.tif';'C:\Users\catarinat\Desktop\Viana do Castelo\Produtos Finais\TIFF\211.tif';'C:\Users\catarinat\Desktop\Viana do Castelo\Produtos Finais\TIFF\212.tif';'C:\Users\catarinat\Desktop\Viana do Castelo\Produtos Finais\TIFF\213.tif';'C:\Users\catarinat\Desktop\Viana do Castelo\Produtos Finais\TIFF\214.tif';'C:\Users\catarinat\Desktop\Viana do Castelo\Produtos Finais\TIFF\215.tif';'C:\Users\catarinat\Desktop\Viana do Castelo\Produtos Finais\TIFF\216.tif';'C:\Users\catarinat\Desktop\Viana do Castelo\Produtos Finais\TIFF\217.tif';'C:\Users\catarinat\Desktop\Viana do Castelo\Produtos Finais\TIFF\218.tif';'C:\Users\catarinat\Desktop\Viana do Castelo\Produtos Finais\TIFF\219.tif';'C:\Users\catarinat\Desktop\Viana do Castelo\Produtos Finais\TIFF\220.tif';'C:\Users\catarinat\Desktop\Viana do Castelo\Produtos Finais\TIFF\221.tif';'C:\Users\catarinat\Desktop\Viana do Castelo\Produtos Finais\TIFF\222.tif';'C:\Users\catarinat\Desktop\Viana do Castelo\Produtos Finais\TIFF\223.tif';'C:\Users\catarinat\Desktop\Viana do Castelo\Produtos Finais\TIFF\224.tif';'C:\Users\catarinat\Desktop\Viana do Castelo\Produtos Finais\TIFF\225.tif';'C:\Users\catarinat\Desktop\Viana do Castelo\Produtos Finais\TIFF\226.tif';'C:\Users\catarinat\Desktop\Viana do Castelo\Produtos Finais\TIFF\227.tif';'C:\Users\catarinat\Desktop\Viana do Castelo\Produtos Finais\TIFF\228.tif';'C:\Users\catarinat\Desktop\Viana do Castelo\Produtos Finais\TIFF\229.tif';'C:\Users\catarinat\Desktop\Viana do Castelo\Produtos Finais\TIFF\230.tif';'C:\Users\catarinat\Desktop\Viana do Castelo\Produtos Finais\TIFF\231.tif';'C:\Users\catarinat\Desktop\Viana do Castelo\Produtos Finais\TIFF\232.tif';'C:\Users\catarinat\Desktop\Viana do Castelo\Produtos Finais\TIFF\233.tif';'C:\Users\catarinat\Desktop\Viana do Castelo\Produtos Finais\TIFF\234.tif';'C:\Users\catarinat\Desktop\Viana do Castelo\Produtos Finais\TIFF\235.tif';'C:\Users\catarinat\Desktop\Viana do Castelo\Produtos Finais\TIFF\236.tif';'C:\Users\catarinat\Desktop\Viana do Castelo\Produtos Finais\TIFF\237.tif';'C:\Users\catarinat\Desktop\Viana do Castelo\Produtos Finais\TIFF\238.tif';'C:\Users\catarinat\Desktop\Viana do Castelo\Produtos Finais\TIFF\239.tif';'C:\Users\catarinat\Desktop\Viana do Castelo\Produtos Finais\TIFF\240.tif';'C:\Users\catarinat\Desktop\Viana do Castelo\Produtos Finais\TIFF\241.tif';'C:\Users\catarinat\Desktop\Viana do Castelo\Produtos Finais\TIFF\242.tif';'C:\Users\catarinat\Desktop\Viana do Castelo\Produtos Finais\TIFF\243.tif';'C:\Users\catarinat\Desktop\Viana do Castelo\Produtos Finais\TIFF\244.tif';'C:\Users\catarinat\Desktop\Viana do Castelo\Produtos Finais\TIFF\245.tif';'C:\Users\catarinat\Desktop\Viana do Castelo\Produtos Finais\TIFF\246.tif';'C:\Users\catarinat\Desktop\Viana do Castelo\Produtos Finais\TIFF\247.tif';'C:\Users\catarinat\Desktop\Viana do Castelo\Produtos Finais\TIFF\248.tif';'C:\Users\catarinat\Desktop\Viana do Castelo\Produtos Finais\TIFF\249.tif';'C:\Users\catarinat\Desktop\Viana do Castelo\Produtos Finais\TIFF\250.tif';'C:\Users\catarinat\Desktop\Viana do Castelo\Produtos Finais\TIFF\251.tif';'C:\Users\catarinat\Desktop\Viana do Castelo\Produtos Finais\TIFF\252.tif';'C:\Users\catarinat\Desktop\Viana do Castelo\Produtos Finais\TIFF\253.tif';'C:\Users\catarinat\Desktop\Viana do Castelo\Produtos Finais\TIFF\254.tif';'C:\Users\catarinat\Desktop\Viana do Castelo\Produtos Finais\TIFF\255.tif';'C:\Users\catarinat\Desktop\Viana do Castelo\Produtos Finais\TIFF\256.tif';'C:\Users\catarinat\Desktop\Viana do Castelo\Produtos Finais\TIFF\257.tif';'C:\Users\catarinat\Desktop\Viana do Castelo\Produtos Finais\TIFF\258.tif';'C:\Users\catarinat\Desktop\Viana do Castelo\Produtos Finais\TIFF\259.tif';'C:\Users\catarinat\Desktop\Viana do Castelo\Produtos Finais\TIFF\260.tif';'C:\Users\catarinat\Desktop\Viana do Castelo\Produtos Finais\TIFF\261.tif';'C:\Users\catarinat\Desktop\Viana do Castelo\Produtos Finais\TIFF\262.tif';'C:\Users\catarinat\Desktop\Viana do Castelo\Produtos Finais\TIFF\263.tif';'C:\Users\catarinat\Desktop\Viana do Castelo\Produtos Finais\TIFF\264.tif';'C:\Users\catarinat\Desktop\Viana do Castelo\Produtos Finais\TIFF\265.tif';'C:\Users\catarinat\Desktop\Viana do Castelo\Produtos Finais\TIFF\266.tif';'C:\Users\catarinat\Desktop\Viana do Castelo\Produtos Finais\TIFF\267.tif';'C:\Users\catarinat\Desktop\Viana do Castelo\Produtos Finais\TIFF\268.tif';'C:\Users\catarinat\Desktop\Viana do Castelo\Produtos Finais\TIFF\269.tif';'C:\Users\catarinat\Desktop\Viana do Castelo\Produtos Finais\TIFF\270.tif';'C:\Users\catarinat\Desktop\Viana do Castelo\Produtos Finais\TIFF\271.tif';'C:\Users\catarinat\Desktop\Viana do Castelo\Produtos Finais\TIFF\272.tif';'C:\Users\catarinat\Desktop\Viana do Castelo\Produtos Finais\TIFF\273.tif';'C:\Users\catarinat\Desktop\Viana do Castelo\Produtos Finais\TIFF\274.tif';'C:\Users\catarinat\Desktop\Viana do Castelo\Produtos Finais\TIFF\275.tif';'C:\Users\catarinat\Desktop\Viana do Castelo\Produtos Finais\TIFF\276.tif';'C:\Users\catarinat\Desktop\Viana do Castelo\Produtos Finais\TIFF\277.tif';'C:\Users\catarinat\Desktop\Viana do Castelo\Produtos Finais\TIFF\278.tif';'C:\Users\catarinat\Desktop\Viana do Castelo\Produtos Finais\TIFF\279.tif';'C:\Users\catarinat\Desktop\Viana do Castelo\Produtos Finais\TIFF\280.tif';'C:\Users\catarinat\Desktop\Viana do Castelo\Produtos Finais\TIFF\281.tif';'C:\Users\catarinat\Desktop\Viana do Castelo\Produtos Finais\TIFF\282.tif' U:\RasterGeodatabase.gdb\ORTOS_LITORAL2009 LAST FIRST # # NONE 0 U:\RasterGeodatabase.gdb\ORTOS_LITORAL2009 NONE</Process>
<Process Date="20100529" Time="085920" ToolSource="C:\Program Files (x86)\ArcGIS\ArcToolbox\Toolboxes\Data Management Tools.tbx\CalculateStatistics">CalculateStatistics \\mvc-geo\ESRI_MXD\RasterGeodatabase.gdb\ORTOS_LITORAL2009 1 1 # \\mvc-geo\ESRI_MXD\RasterGeodatabase.gdb\ORTOS_LITORAL2009</Process>
</lineage>
<itemProps>
<itemName Sync="TRUE">ORTOS_LITORAL2009</itemName>
<imsContentType Sync="TRUE">002</imsContentType>
<nativeExtBox>
<westBL Sync="TRUE">-62499.982734</westBL>
<eastBL Sync="TRUE">-52999.942734</eastBL>
<southBL Sync="TRUE">214999.878727</southBL>
<northBL Sync="TRUE">236999.928727</northBL>
<exTypeCode Sync="TRUE">1</exTypeCode>
</nativeExtBox>
<itemLocation>
<linkage Sync="TRUE">file://\\mvc-geo-int\esri_mxd\RasterGeodatabase.gdb</linkage>
<protocol Sync="TRUE">Local Area Network</protocol>
</itemLocation>
</itemProps>
<coordRef>
<type Sync="TRUE">Projected</type>
<geogcsn Sync="TRUE">GCS_Datum_73</geogcsn>
<csUnits Sync="TRUE">Linear Unit: Meter (1.000000)</csUnits>
<projcsn Sync="TRUE">Datum_73_Hayford_Gauss_IPCC</projcsn>
<peXml Sync="TRUE">&lt;ProjectedCoordinateSystem xsi:type='typens:ProjectedCoordinateSystem' xmlns:xsi='http://www.w3.org/2001/XMLSchema-instance' xmlns:xs='http://www.w3.org/2001/XMLSchema' xmlns:typens='http://www.esri.com/schemas/ArcGIS/10.1'&gt;&lt;WKT&gt;PROJCS[&amp;quot;Datum_73_Hayford_Gauss_IPCC&amp;quot;,GEOGCS[&amp;quot;GCS_Datum_73&amp;quot;,DATUM[&amp;quot;D_Datum_73&amp;quot;,SPHEROID[&amp;quot;International_1924&amp;quot;,6378388.0,297.0]],PRIMEM[&amp;quot;Greenwich&amp;quot;,0.0],UNIT[&amp;quot;Degree&amp;quot;,0.0174532925199433]],PROJECTION[&amp;quot;Transverse_Mercator&amp;quot;],PARAMETER[&amp;quot;False_Easting&amp;quot;,180.598],PARAMETER[&amp;quot;False_Northing&amp;quot;,-86.99],PARAMETER[&amp;quot;Central_Meridian&amp;quot;,-8.131906111111112],PARAMETER[&amp;quot;Scale_Factor&amp;quot;,1.0],PARAMETER[&amp;quot;Latitude_Of_Origin&amp;quot;,39.66666666666666],UNIT[&amp;quot;Meter&amp;quot;,1.0],AUTHORITY[&amp;quot;ESRI&amp;quot;,102161]]&lt;/WKT&gt;&lt;XOrigin&gt;-5623200&lt;/XOrigin&gt;&lt;YOrigin&gt;-14395100&lt;/YOrigin&gt;&lt;XYScale&gt;450249651.57241428&lt;/XYScale&gt;&lt;ZOrigin&gt;-100000&lt;/ZOrigin&gt;&lt;ZScale&gt;10000&lt;/ZScale&gt;&lt;MOrigin&gt;-100000&lt;/MOrigin&gt;&lt;MScale&gt;10000&lt;/MScale&gt;&lt;XYTolerance&gt;0.001&lt;/XYTolerance&gt;&lt;ZTolerance&gt;0.001&lt;/ZTolerance&gt;&lt;MTolerance&gt;0.001&lt;/MTolerance&gt;&lt;HighPrecision&gt;true&lt;/HighPrecision&gt;&lt;WKID&gt;102161&lt;/WKID&gt;&lt;LatestWKID&gt;102161&lt;/LatestWKID&gt;&lt;/ProjectedCoordinateSystem&gt;</peXml>
</coordRef>
</DataProperties>
<SyncDate>20141020</SyncDate>
<SyncTime>12160400</SyncTime>
<ModDate>20141020</ModDate>
<ModTime>12160400</ModTime>
</Esri>
<dataIdInfo>
<envirDesc Sync="TRUE">Microsoft Windows Server 2008 R2 Version 6.1 (Build 7601) Service Pack 1; Esri ArcGIS 10.2.0.3370</envirDesc>
<dataLang>
<languageCode Sync="TRUE" value="por"/>
<countryCode Sync="TRUE" value="PRT"/>
</dataLang>
<idCitation>
<resTitle Sync="TRUE">ORTOS_LITORAL2009</resTitle>
<presForm>
<PresFormCd Sync="TRUE" value="011"/>
</presForm>
</idCitation>
<spatRpType>
<SpatRepTypCd Sync="TRUE" value="002"/>
</spatRpType>
<dataExt>
<geoEle>
<GeoBndBox esriExtentType="search">
<exTypeCode Sync="TRUE">1</exTypeCode>
<westBL Sync="TRUE">-8.886050</westBL>
<eastBL Sync="TRUE">-8.769797</eastBL>
<northBL Sync="TRUE">41.799803</northBL>
<southBL Sync="TRUE">41.601054</southBL>
</GeoBndBox>
</geoEle>
</dataExt>
<idAbs/>
<idPurp/>
<idCredit/>
<resConst>
<Consts>
<useLimit/>
</Consts>
</resConst>
</dataIdInfo>
<mdLang>
<languageCode Sync="TRUE" value="por"/>
<countryCode Sync="TRUE" value="PRT"/>
</mdLang>
<distInfo>
<distFormat>
<formatName Sync="TRUE">File Geodatabase Raster Dataset</formatName>
</distFormat>
</distInfo>
<mdHrLv>
<ScopeCd Sync="TRUE" value="005"/>
</mdHrLv>
<mdHrLvName Sync="TRUE">dataset</mdHrLvName>
<refSysInfo>
<RefSystem>
<refSysID>
<identCode Sync="TRUE" code="102161"/>
<idCodeSpace Sync="TRUE">ESRI</idCodeSpace>
<idVersion Sync="TRUE">10.2.0</idVersion>
</refSysID>
</RefSystem>
</refSysInfo>
<spdoinfo>
<rastinfo>
<rasttype Sync="TRUE">Pixel</rasttype>
<rowcount Sync="TRUE">244445</rowcount>
<colcount Sync="TRUE">105556</colcount>
<rastxsz Sync="TRUE">0,090000</rastxsz>
<rastysz Sync="TRUE">0,090000</rastysz>
<rastbpp Sync="TRUE">8</rastbpp>
<vrtcount Sync="TRUE">1</vrtcount>
<rastorig Sync="TRUE">Upper Left</rastorig>
<rastcmap Sync="TRUE">FALSE</rastcmap>
<rastcomp Sync="TRUE">LZ77</rastcomp>
<rastband Sync="TRUE">3</rastband>
<rastdtyp Sync="TRUE">pixel codes</rastdtyp>
<rastifor Sync="TRUE">FGDBR</rastifor>
<rastplyr Sync="TRUE">TRUE</rastplyr>
</rastinfo>
</spdoinfo>
<spref>
<horizsys>
<planar>
<planci>
<plance Sync="TRUE">row and column</plance>
<coordrep>
<absres Sync="TRUE">0,090000</absres>
<ordres Sync="TRUE">0,090000</ordres>
</coordrep>
</planci>
</planar>
</horizsys>
</spref>
<mdDateSt Sync="TRUE">20141020</mdDateSt>
</metadata>
