<?xml version="1.0" encoding="UTF-8" standalone="no"?>
<metadata xml:lang="pt">
<Esri>
<MetaID>{9D744C0D-7291-4788-9E7D-6022F00DACFB}</MetaID>
<CreaDate>20081027</CreaDate>
<CreaTime>10471000</CreaTime>
<SyncOnce>FALSE</SyncOnce>
<DataProperties>
<lineage>
<Process Date="20081027" Time="104710" ToolSource="C:\Program Files\ArcGIS\ArcToolbox\Toolboxes\Data Management Tools.tbx\CreateRasterDataset">CreateRasterDataset \\mvc-geo\ESRI_MXD\RasterGeodatabase.gdb PDM_Ordenamento # 8_BIT_UNSIGNED PROJCS['Lisboa_Hayford_Gauss_IPCC',GEOGCS['GCS_Datum_Lisboa_Hayford',DATUM['D_Datum_Lisboa_Hayford',SPHEROID['International_1924',6378388.0,297.0]],PRIMEM['Greenwich',0.0],UNIT['Degree',0.0174532925199433]],PROJECTION['Transverse_Mercator'],PARAMETER['False_Easting',0.0],PARAMETER['False_Northing',0.0],PARAMETER['Central_Meridian',-8.131906111111112],PARAMETER['Scale_Factor',1.0],PARAMETER['Latitude_Of_Origin',39.66666666666666],UNIT['Meter',1.0]] 3 # "PYRAMIDS -1 NEAREST" "128 128" LZ77 "-5623254,98073414 5609694,15872771" \\mvc-geo\ESRI_MXD\RasterGeodatabase.gdb\PDM_Ordenamento</Process>
<Process Date="20081027" Time="105737" ToolSource="C:\Program Files\ArcGIS\ArcToolbox\Toolboxes\Data Management Tools.tbx\Mosaic">Mosaic 'W:\PMOT\PDMVC\Volume 1\Planta de Ordenamento\JPG\ORDENAMENTO-14-4.jpg';'W:\PMOT\PDMVC\Volume 1\Planta de Ordenamento\JPG\ORDENAMENTO-27-1.jpg';'W:\PMOT\PDMVC\Volume 1\Planta de Ordenamento\JPG\ORDENAMENTO-27-2.jpg';'W:\PMOT\PDMVC\Volume 1\Planta de Ordenamento\JPG\ORDENAMENTO-27-3.jpg';'W:\PMOT\PDMVC\Volume 1\Planta de Ordenamento\JPG\ORDENAMENTO-27-4.jpg';'W:\PMOT\PDMVC\Volume 1\Planta de Ordenamento\JPG\ORDENAMENTO-28-1.jpg';'W:\PMOT\PDMVC\Volume 1\Planta de Ordenamento\JPG\ORDENAMENTO-28-3.jpg';'W:\PMOT\PDMVC\Volume 1\Planta de Ordenamento\JPG\ORDENAMENTO-40-1.jpg';'W:\PMOT\PDMVC\Volume 1\Planta de Ordenamento\JPG\ORDENAMENTO-40-2.jpg';'W:\PMOT\PDMVC\Volume 1\Planta de Ordenamento\JPG\ORDENAMENTO-40-3.jpg';'W:\PMOT\PDMVC\Volume 1\Planta de Ordenamento\JPG\ORDENAMENTO-40-4.jpg';'W:\PMOT\PDMVC\Volume 1\Planta de Ordenamento\JPG\ORDENAMENTO-41-1.jpg';'W:\PMOT\PDMVC\Volume 1\Planta de Ordenamento\JPG\ORDENAMENTO-41-3.jpg';'W:\PMOT\PDMVC\Volume 1\Planta de Ordenamento\JPG\ORDENAMENTO-54-1.jpg';'W:\PMOT\PDMVC\Volume 1\Planta de Ordenamento\JPG\ORDENAMENTO-54-2.jpg';'W:\PMOT\PDMVC\Volume 1\Planta de Ordenamento\JPG\ORDENAMENTO-55-1.jpg' \\mvc-geo\ESRI_MXD\RasterGeodatabase.gdb\PDM_Ordenamento LAST MATCH # # NONE 0 \\mvc-geo\ESRI_MXD\RasterGeodatabase.gdb\PDM_Ordenamento NONE</Process>
<Process Date="20091202" Time="123409" ToolSource="C:\Program Files\ArcGIS\ArcToolbox\Toolboxes\Data Management Tools.tbx\CalculateStatistics">CalculateStatistics "Database Connections\Connection to mvc-geo.sde\GEO_ADMIN.PDM_ORDENAMENTO" 1 1 # "Database Connections\Connection to mvc-geo.sde\GEO_ADMIN.PDM_ORDENAMENTO"</Process>
<Process Date="20091203" Time="180658" ToolSource="C:\Programas\ArcGIS\ArcToolbox\Toolboxes\Data Management Tools.tbx\CopyRaster">CopyRaster "Database Connections\Connection to mvc-geo.sde\GEO_ADMIN.PDM_ORDENAMENTO" X:\RasterGeodatabase.gdb\PDM_ORDENAMENTO # # # NONE NONE #</Process>
</lineage>
</DataProperties>
<SyncDate>20091203</SyncDate>
<SyncTime>18010000</SyncTime>
<ModDate>20091203</ModDate>
<ModTime>18010000</ModTime>
</Esri>
<idinfo>
<native Sync="TRUE">Microsoft Windows XP Version 5.1 (Build 2600) Service Pack 3; ESRI ArcCatalog 9.3.1.3000</native>
<descript>
<langdata Sync="TRUE">pt</langdata>
<abstract>REQUIRED: A brief narrative summary of the data set.</abstract>
<purpose>REQUIRED: A summary of the intentions with which the data set was developed.</purpose>
</descript>
<citation>
<citeinfo>
<origin>REQUIRED: The name of an organization or individual that developed the data set.</origin>
<pubdate>REQUIRED: The date when the data set is published or otherwise made available for release.</pubdate>
<title Sync="TRUE">PDM_ORDENAMENTO</title>
<ftname Sync="TRUE">PDM_ORDENAMENTO</ftname>
<geoform Sync="TRUE">Fgdb raster digital data</geoform>
<onlink Sync="TRUE">\\mvc-geo\ESRI_MXD\RasterGeodatabase.gdb</onlink>
</citeinfo>
</citation>
<timeperd>
<current>REQUIRED: The basis on which the time period of content information is determined.</current>
<timeinfo>
<sngdate>
<caldate>REQUIRED: The year (and optionally month, or month and day) for which the data set corresponds to the ground.</caldate>
</sngdate>
</timeinfo>
</timeperd>
<status>
<progress>REQUIRED: The state of the data set.</progress>
<update>REQUIRED: The frequency with which changes and additions are made to the data set after the initial data set is completed.</update>
</status>
<spdom>
<bounding>
<westbc Sync="TRUE">-8.902783</westbc>
<eastbc Sync="TRUE">-8.611692</eastbc>
<northbc Sync="TRUE">41.871818</northbc>
<southbc Sync="TRUE">41.600169</southbc>
</bounding>
<lboundng>
<leftbc Sync="TRUE">-64000.444628</leftbc>
<rightbc Sync="TRUE">-39999.428641</rightbc>
<bottombc Sync="TRUE">215000.228508</bottombc>
<topbc Sync="TRUE">245000.228512</topbc>
</lboundng>
</spdom>
<keywords>
<theme>
<themekt>REQUIRED: Reference to a formally registered thesaurus or a similar authoritative source of theme keywords.</themekt>
<themekey>REQUIRED: Common-use word or phrase used to describe the subject of the data set.</themekey>
</theme>
</keywords>
<accconst>REQUIRED: Restrictions and legal prerequisites for accessing the data set.</accconst>
<useconst>REQUIRED: Restrictions and legal prerequisites for using the data set after access is granted.</useconst>
<natvform Sync="TRUE">File Geodatabase Raster Dataset</natvform>
</idinfo>
<dataIdInfo>
<envirDesc Sync="TRUE">Microsoft Windows XP Version 5.1 (Build 2600) Service Pack 3; ESRI ArcCatalog 9.3.1.3000</envirDesc>
<dataLang>
<languageCode Sync="TRUE" value="pt"/>
</dataLang>
<idCitation>
<resTitle Sync="TRUE">PDM_ORDENAMENTO</resTitle>
</idCitation>
<dataExt>
<geoEle>
<GeoBndBox esriExtentType="native">
<westBL Sync="TRUE">-64000.444628</westBL>
<eastBL Sync="TRUE">-39999.428641</eastBL>
<northBL Sync="TRUE">245000.228512</northBL>
<southBL Sync="TRUE">215000.228508</southBL>
<exTypeCode Sync="TRUE">1</exTypeCode>
</GeoBndBox>
</geoEle>
</dataExt>
<geoBox esriExtentType="decdegrees">
<westBL Sync="TRUE">-8.902783</westBL>
<eastBL Sync="TRUE">-8.611692</eastBL>
<northBL Sync="TRUE">41.871818</northBL>
<southBL Sync="TRUE">41.600169</southBL>
<exTypeCode Sync="TRUE">1</exTypeCode>
</geoBox>
<idAbs/>
<idPurp/>
<idCredit/>
<resConst>
<Consts>
<useLimit/>
</Consts>
</resConst>
</dataIdInfo>
<metainfo>
<langmeta Sync="TRUE">pt</langmeta>
<metstdn Sync="TRUE">FGDC Content Standards for Digital Geospatial Metadata</metstdn>
<metstdv Sync="TRUE">FGDC-STD-001-1998</metstdv>
<mettc Sync="TRUE">local time</mettc>
<metextns>
<onlink Sync="TRUE">http://www.esri.com/metadata/esriprof80.html</onlink>
<metprof Sync="TRUE">ESRI Metadata Profile</metprof>
</metextns>
<metc>
<cntinfo>
<cntorgp>
<cntper>REQUIRED: The person responsible for the metadata information.</cntper>
<cntorg>REQUIRED: The organization responsible for the metadata information.</cntorg>
</cntorgp>
<cntaddr>
<addrtype>REQUIRED: The mailing and/or physical address for the organization or individual.</addrtype>
<city>REQUIRED: The city of the address.</city>
<state>REQUIRED: The state or province of the address.</state>
<postal>REQUIRED: The ZIP or other postal code of the address.</postal>
</cntaddr>
<cntvoice>REQUIRED: The telephone number by which individuals can speak to the organization or individual.</cntvoice>
</cntinfo>
</metc>
<metd Sync="TRUE">20091203</metd>
</metainfo>
<mdLang>
<languageCode Sync="TRUE" value="pt"/>
</mdLang>
<mdStanName Sync="TRUE">ISO 19115 Geographic Information - Metadata</mdStanName>
<mdStanVer Sync="TRUE">DIS_ESRI1.0</mdStanVer>
<mdChar>
<CharSetCd Sync="TRUE" value="004"/>
</mdChar>
<mdHrLv>
<ScopeCd Sync="TRUE" value="005"/>
</mdHrLv>
<mdHrLvName Sync="TRUE">dataset</mdHrLvName>
<distinfo>
<resdesc Sync="TRUE">Downloadable Data</resdesc>
</distinfo>
<distInfo>
<distributor>
<distorTran>
<onLineSrc>
<orDesc Sync="TRUE">002</orDesc>
<linkage Sync="TRUE">file://\\mvc-geo\ESRI_MXD\RasterGeodatabase.gdb</linkage>
<protocol Sync="TRUE">Local Area Network</protocol>
</onLineSrc>
</distorTran>
<distorFormat>
<formatName Sync="TRUE">File Geodatabase Raster Dataset</formatName>
</distorFormat>
</distributor>
</distInfo>
<spdoinfo>
<direct Sync="TRUE">Raster</direct>
<rastinfo>
<rasttype Sync="TRUE">Pixel</rasttype>
<rowcount Sync="TRUE">23622</rowcount>
<colcount Sync="TRUE">18899</colcount>
<rastxsz Sync="TRUE">1,269962</rastxsz>
<rastysz Sync="TRUE">1,270003</rastysz>
<rastbpp Sync="TRUE">8</rastbpp>
<vrtcount Sync="TRUE">1</vrtcount>
<rastorig Sync="TRUE">Upper Left</rastorig>
<rastcmap Sync="TRUE">FALSE</rastcmap>
<rastcomp Sync="TRUE">LZ77</rastcomp>
<rastband Sync="TRUE">3</rastband>
<rastdtyp Sync="TRUE">pixel codes</rastdtyp>
<rastifor Sync="TRUE">FGDBR</rastifor>
<rastplyr Sync="TRUE">TRUE</rastplyr>
</rastinfo>
</spdoinfo>
<spref>
<horizsys>
<cordsysn>
<geogcsn Sync="TRUE">GCS_Datum_Lisboa_Hayford</geogcsn>
<projcsn Sync="TRUE">Lisboa_Hayford_Gauss_IPCC</projcsn>
</cordsysn>
<planar>
<mapproj>
<mapprojn Sync="TRUE">Transverse Mercator</mapprojn>
<transmer>
<sfctrmer Sync="TRUE">1.000000</sfctrmer>
<longcm Sync="TRUE">-8.131906</longcm>
<latprjo Sync="TRUE">39.666667</latprjo>
<feast Sync="TRUE">0.000000</feast>
<fnorth Sync="TRUE">0.000000</fnorth>
</transmer>
</mapproj>
<planci>
<plance Sync="TRUE">row and column</plance>
<plandu Sync="TRUE">meters</plandu>
<coordrep>
<absres Sync="TRUE">1,269962</absres>
<ordres Sync="TRUE">1,270003</ordres>
</coordrep>
</planci>
</planar>
<geodetic>
<horizdn Sync="TRUE">D_Datum_Lisboa_Hayford</horizdn>
<ellips Sync="TRUE">International_1924</ellips>
<semiaxis Sync="TRUE">6378388.000000</semiaxis>
<denflat Sync="TRUE">297.000000</denflat>
</geodetic>
</horizsys>
<vertdef>
<altsys>
<altenc Sync="TRUE">Explicit elevation coordinate included with horizontal coordinates</altenc>
<altres Sync="TRUE">1.000000</altres>
</altsys>
</vertdef>
</spref>
<refSysInfo>
<RefSystem>
<refSysID>
<identCode Sync="TRUE">Lisboa_Hayford_Gauss_IPCC</identCode>
</refSysID>
</RefSystem>
</refSysInfo>
<mdDateSt Sync="TRUE">20091203</mdDateSt>
</metadata>
