{
 "currentVersion": 11.0,
 "serviceDescription": "PDM_ORDENAMENTO",
 "name": "PDM_ORDENAMENTO",
 "description": "",
 "extent": {
  "xmin": -64000.444628074765,
  "ymin": 215000.22850784392,
  "xmax": -39999.428641339735,
  "ymax": 245000.2285124711,
  "spatialReference": {
   "wkid": 102165,
   "latestWkid": 102165
  }
 },
 "initialExtent": {
  "xmin": -64000.444628074765,
  "ymin": 215000.22850784392,
  "xmax": -39999.428641339735,
  "ymax": 245000.2285124711,
  "spatialReference": {
   "wkid": 102165,
   "latestWkid": 102165
  }
 },
 "fullExtent": {
  "xmin": -64000.444628074765,
  "ymin": 215000.22850784392,
  "xmax": -39999.428641339735,
  "ymax": 245000.2285124711,
  "spatialReference": {
   "wkid": 102165,
   "latestWkid": 102165
  }
 },
 "sortableFields": "",
 "bandCount": 3,
 "pixelType": "U8",
 "minValues": [
  0,
  0,
  0
 ],
 "maxValues": [
  255,
  255,
  255
 ],
 "meanValues": [
  205.71379661989442,
  209.7249130726447,
  201.4862537618919
 ],
 "stdvValues": [
  60.927213491779185,
  64.16408148911748,
  68.88695106329139
 ],
 "hasMultidimensions": false,
 "pixelSizeX": 1.2699622195214049,
 "pixelSizeY": 1.2700025402009647,
 "datasetFormat": "FGDBR",
 "uncompressedSize": 1339296534,
 "blockWidth": 128,
 "blockHeight": 128,
 "compressionType": "LZ77",
 "bandNames": [
  "Band_1",
  "Band_2",
  "Band_3"
 ],
 "allowCopy": true,
 "allowAnalysis": true,
 "minPixelSize": 0,
 "maxPixelSize": 0,
 "copyrightText": "",
 "serviceDataType": "esriImageServiceDataTypeRGB",
 "serviceSourceType": "esriImageServiceSourceTypeDataset",
 "objectIdField": "",
 "fields": [],
 "capabilities": "Image,Metadata,Mensuration",
 "defaultMosaicMethod": "Center",
 "allowedMosaicMethods": "",
 "sortField": "",
 "sortValue": null,
 "sortAscending": true,
 "mosaicOperator": "First",
 "defaultCompressionQuality": 75,
 "defaultResamplingMethod": "Bilinear",
 "maxImageHeight": 4100,
 "maxImageWidth": 15000,
 "allowRasterFunction": true,
 "rasterFunctionInfos": [
  {
   "name": "None",
   "description": "",
   "help": ""
  }
 ],
 "rasterTypeInfos": [
  {
   "name": "Raster Dataset",
   "description": "Supports all ArcGIS Raster Datasets",
   "help": ""
  }
 ],
 "mensurationCapabilities": "Basic",
 "hasHistograms": true,
 "hasColormap": false,
 "hasRasterAttributeTable": false,
 "minScale": 0,
 "maxScale": 0,
 "exportTilesAllowed": false,
 "supportsStatistics": false,
 "supportsAdvancedQueries": false,
 "editFieldsInfo": null,
 "ownershipBasedAccessControlForRasters": null,
 "allowComputeTiePoints": false,
 "useStandardizedQueries": true,
 "advancedQueryCapabilities": {
  "useStandardizedQueries": true,
  "supportsStatistics": false,
  "supportsOrderBy": false,
  "supportsDistinct": false,
  "supportsPagination": false
 },
 "spatialReference": {
  "wkid": 102165,
  "latestWkid": 102165
 }
}
