{
 "currentVersion": 11.0,
 "serviceDescription": "PIER_CONDICIONANTES_PIR",
 "name": "PIER_CONDICIONANTES_PIR",
 "description": "",
 "extent": {
  "xmin": -62976.80121231545,
  "ymin": 225048.93753749077,
  "xmax": -57227.72157770277,
  "ymax": 237050.0354374908,
  "spatialReference": {
   "wkid": 3763,
   "latestWkid": 3763
  }
 },
 "initialExtent": {
  "xmin": -62976.80121231545,
  "ymin": 225048.93753749077,
  "xmax": -57227.72157770277,
  "ymax": 237050.0354374908,
  "spatialReference": {
   "wkid": 3763,
   "latestWkid": 3763
  }
 },
 "fullExtent": {
  "xmin": -62976.80121231545,
  "ymin": 225048.93753749077,
  "xmax": -57227.72157770277,
  "ymax": 237050.0354374908,
  "spatialReference": {
   "wkid": 3763,
   "latestWkid": 3763
  }
 },
 "sortableFields": "",
 "bandCount": 3,
 "pixelType": "U8",
 "minValues": [
  0,
  0,
  0
 ],
 "maxValues": [
  255,
  255,
  255
 ],
 "meanValues": [
  252.2511842609204,
  252.1827548750819,
  252.03098294643493
 ],
 "stdvValues": [
  20.618313258755183,
  20.845531791079104,
  21.75543381127547
 ],
 "hasMultidimensions": false,
 "pixelSizeX": 1.693396063214339,
 "pixelSizeY": 1.6933960632143392,
 "datasetFormat": "FGDBR",
 "uncompressedSize": 72181095,
 "blockWidth": 128,
 "blockHeight": 128,
 "compressionType": "LZ77",
 "bandNames": [
  "Band_1",
  "Band_2",
  "Band_3"
 ],
 "allowCopy": true,
 "allowAnalysis": true,
 "minPixelSize": 0,
 "maxPixelSize": 0,
 "copyrightText": "",
 "serviceDataType": "esriImageServiceDataTypeRGB",
 "serviceSourceType": "esriImageServiceSourceTypeDataset",
 "objectIdField": "",
 "fields": [],
 "capabilities": "Image,Metadata,Mensuration",
 "defaultMosaicMethod": "Center",
 "allowedMosaicMethods": "",
 "sortField": "",
 "sortValue": null,
 "sortAscending": true,
 "mosaicOperator": "First",
 "defaultCompressionQuality": 75,
 "defaultResamplingMethod": "Bilinear",
 "maxImageHeight": 4100,
 "maxImageWidth": 15000,
 "allowRasterFunction": true,
 "rasterFunctionInfos": [
  {
   "name": "None",
   "description": "",
   "help": ""
  }
 ],
 "rasterTypeInfos": [
  {
   "name": "Raster Dataset",
   "description": "Supports all ArcGIS Raster Datasets",
   "help": ""
  }
 ],
 "mensurationCapabilities": "Basic",
 "hasHistograms": true,
 "hasColormap": false,
 "hasRasterAttributeTable": false,
 "minScale": 0,
 "maxScale": 0,
 "exportTilesAllowed": false,
 "supportsStatistics": false,
 "supportsAdvancedQueries": false,
 "editFieldsInfo": null,
 "ownershipBasedAccessControlForRasters": null,
 "allowComputeTiePoints": false,
 "useStandardizedQueries": true,
 "advancedQueryCapabilities": {
  "useStandardizedQueries": true,
  "supportsStatistics": false,
  "supportsOrderBy": false,
  "supportsDistinct": false,
  "supportsPagination": false
 },
 "spatialReference": {
  "wkid": 3763,
  "latestWkid": 3763
 }
}
