{
 "currentVersion": 11.0,
 "serviceDescription": "POOC_PLSINTESE",
 "name": "POOC_PLSINTESE",
 "description": "",
 "extent": {
  "xmin": -62218.846135933396,
  "ymin": 213402.815753625,
  "xmax": -55306.1145776902,
  "ymax": 239595.89613846698,
  "spatialReference": {
   "wkid": 102165,
   "latestWkid": 102165
  }
 },
 "initialExtent": {
  "xmin": -62218.846135933396,
  "ymin": 213402.815753625,
  "xmax": -55306.1145776902,
  "ymax": 239595.89613846698,
  "spatialReference": {
   "wkid": 102165,
   "latestWkid": 102165
  }
 },
 "fullExtent": {
  "xmin": -62218.846135933396,
  "ymin": 213402.815753625,
  "xmax": -55306.1145776902,
  "ymax": 239595.89613846698,
  "spatialReference": {
   "wkid": 102165,
   "latestWkid": 102165
  }
 },
 "sortableFields": "",
 "bandCount": 3,
 "pixelType": "U8",
 "minValues": [],
 "maxValues": [],
 "meanValues": [],
 "stdvValues": [],
 "hasMultidimensions": false,
 "pixelSizeX": 0.8475639477983323,
 "pixelSizeY": 0.8466860739863581,
 "datasetFormat": "FGDBR",
 "uncompressedSize": 756942048,
 "blockWidth": 128,
 "blockHeight": 128,
 "compressionType": "LZ77",
 "bandNames": [
  "Band_1",
  "Band_2",
  "Band_3"
 ],
 "allowCopy": true,
 "allowAnalysis": true,
 "minPixelSize": 0,
 "maxPixelSize": 0,
 "copyrightText": "",
 "serviceDataType": "esriImageServiceDataTypeRGB",
 "serviceSourceType": "esriImageServiceSourceTypeDataset",
 "objectIdField": "",
 "fields": [],
 "capabilities": "Image,Metadata,Mensuration",
 "defaultMosaicMethod": "Center",
 "allowedMosaicMethods": "",
 "sortField": "",
 "sortValue": null,
 "sortAscending": true,
 "mosaicOperator": "First",
 "defaultCompressionQuality": 75,
 "defaultResamplingMethod": "Bilinear",
 "maxImageHeight": 4100,
 "maxImageWidth": 15000,
 "allowRasterFunction": true,
 "rasterFunctionInfos": [
  {
   "name": "None",
   "description": "",
   "help": ""
  }
 ],
 "rasterTypeInfos": [
  {
   "name": "Raster Dataset",
   "description": "Supports all ArcGIS Raster Datasets",
   "help": ""
  }
 ],
 "mensurationCapabilities": "Basic",
 "hasHistograms": false,
 "hasColormap": false,
 "hasRasterAttributeTable": false,
 "minScale": 0,
 "maxScale": 0,
 "exportTilesAllowed": false,
 "supportsStatistics": false,
 "supportsAdvancedQueries": false,
 "editFieldsInfo": null,
 "ownershipBasedAccessControlForRasters": null,
 "allowComputeTiePoints": false,
 "useStandardizedQueries": true,
 "advancedQueryCapabilities": {
  "useStandardizedQueries": true,
  "supportsStatistics": false,
  "supportsOrderBy": false,
  "supportsDistinct": false,
  "supportsPagination": false
 },
 "spatialReference": {
  "wkid": 102165,
  "latestWkid": 102165
 }
}
