{
 "currentVersion": 11.0,
 "serviceDescription": "PP_CH_IMPLATACAO",
 "name": "PP_CH_IMPLATACAO",
 "description": "",
 "extent": {
  "xmin": -58680.9086023224,
  "ymin": 224592.25145070918,
  "xmax": -57240.6075725509,
  "ymax": 225596.88579409485,
  "spatialReference": {
   "wkid": 102165,
   "latestWkid": 102165
  }
 },
 "initialExtent": {
  "xmin": -58680.9086023224,
  "ymin": 224592.25145070918,
  "xmax": -57240.6075725509,
  "ymax": 225596.88579409485,
  "spatialReference": {
   "wkid": 102165,
   "latestWkid": 102165
  }
 },
 "fullExtent": {
  "xmin": -58680.9086023224,
  "ymin": 224592.25145070918,
  "xmax": -57240.6075725509,
  "ymax": 225596.88579409485,
  "spatialReference": {
   "wkid": 102165,
   "latestWkid": 102165
  }
 },
 "sortableFields": "",
 "bandCount": 3,
 "pixelType": "U8",
 "minValues": [
  0,
  0,
  0
 ],
 "maxValues": [
  255,
  255,
  255
 ],
 "meanValues": [
  236.26490897401916,
  230.29493503737342,
  210.86172517209678
 ],
 "stdvValues": [
  52.847665929361895,
  58.26858274115775,
  68.75176126769846
 ],
 "hasMultidimensions": false,
 "pixelSizeX": 0.1016013706102921,
 "pixelSizeY": 0.10160136967897121,
 "datasetFormat": "FGDBR",
 "uncompressedSize": 420516864,
 "blockWidth": 128,
 "blockHeight": 128,
 "compressionType": "LZ77",
 "bandNames": [
  "Band_1",
  "Band_2",
  "Band_3"
 ],
 "allowCopy": true,
 "allowAnalysis": true,
 "minPixelSize": 0,
 "maxPixelSize": 0,
 "copyrightText": "",
 "serviceDataType": "esriImageServiceDataTypeRGB",
 "serviceSourceType": "esriImageServiceSourceTypeDataset",
 "objectIdField": "",
 "fields": [],
 "capabilities": "Image,Metadata,Mensuration",
 "defaultMosaicMethod": "Center",
 "allowedMosaicMethods": "",
 "sortField": "",
 "sortValue": null,
 "sortAscending": true,
 "mosaicOperator": "First",
 "defaultCompressionQuality": 75,
 "defaultResamplingMethod": "Bilinear",
 "maxImageHeight": 4100,
 "maxImageWidth": 15000,
 "allowRasterFunction": true,
 "rasterFunctionInfos": [
  {
   "name": "None",
   "description": "",
   "help": ""
  }
 ],
 "rasterTypeInfos": [
  {
   "name": "Raster Dataset",
   "description": "Supports all ArcGIS Raster Datasets",
   "help": ""
  }
 ],
 "mensurationCapabilities": "Basic",
 "hasHistograms": true,
 "hasColormap": false,
 "hasRasterAttributeTable": false,
 "minScale": 0,
 "maxScale": 0,
 "exportTilesAllowed": false,
 "supportsStatistics": false,
 "supportsAdvancedQueries": false,
 "editFieldsInfo": null,
 "ownershipBasedAccessControlForRasters": null,
 "allowComputeTiePoints": false,
 "useStandardizedQueries": true,
 "advancedQueryCapabilities": {
  "useStandardizedQueries": true,
  "supportsStatistics": false,
  "supportsOrderBy": false,
  "supportsDistinct": false,
  "supportsPagination": false
 },
 "spatialReference": {
  "wkid": 102165,
  "latestWkid": 102165
 }
}
