{
 "currentVersion": 11.0,
 "serviceDescription": "PP_DARQUE_IMPLANTACAO",
 "name": "PP_DARQUE_IMPLANTACAO",
 "description": "",
 "extent": {
  "xmin": -56748.01493917592,
  "ymin": 223894.6545716982,
  "xmax": -53499.57910724367,
  "ymax": 224664.79731484503,
  "spatialReference": {
   "wkid": 102161,
   "latestWkid": 102161,
   "vcsWkid": 5780,
   "latestVcsWkid": 5780
  }
 },
 "initialExtent": {
  "xmin": -56748.01493917592,
  "ymin": 223894.6545716982,
  "xmax": -53499.57910724367,
  "ymax": 224664.79731484503,
  "spatialReference": {
   "wkid": 102161,
   "latestWkid": 102161,
   "vcsWkid": 5780,
   "latestVcsWkid": 5780
  }
 },
 "fullExtent": {
  "xmin": -56748.01493917592,
  "ymin": 223894.6545716982,
  "xmax": -53499.57910724367,
  "ymax": 224664.79731484503,
  "spatialReference": {
   "wkid": 102161,
   "latestWkid": 102161,
   "vcsWkid": 5780,
   "latestVcsWkid": 5780
  }
 },
 "sortableFields": "",
 "heightModelInfo": {
  "heightModel": "gravity_related_height",
  "vertCRS": "Cascais",
  "heightUnit": "meter"
 },
 "bandCount": 3,
 "pixelType": "U8",
 "minValues": [
  0,
  0,
  0
 ],
 "maxValues": [
  255,
  255,
  255
 ],
 "meanValues": [
  225.79701211358338,
  226.2678479753173,
  217.0931757573557
 ],
 "stdvValues": [
  53.2735820546136,
  53.88593710372118,
  60.593853404406104
 ],
 "hasMultidimensions": false,
 "pixelSizeX": 0.16933047497561765,
 "pixelSizeY": 0.16933657501029745,
 "datasetFormat": "FGDBR",
 "uncompressedSize": 261746496,
 "blockWidth": 128,
 "blockHeight": 128,
 "compressionType": "LZ77",
 "bandNames": [
  "Band_1",
  "Band_2",
  "Band_3"
 ],
 "allowCopy": true,
 "allowAnalysis": true,
 "minPixelSize": 0,
 "maxPixelSize": 0,
 "copyrightText": "",
 "serviceDataType": "esriImageServiceDataTypeRGB",
 "serviceSourceType": "esriImageServiceSourceTypeDataset",
 "objectIdField": "",
 "fields": [],
 "capabilities": "Image,Metadata,Mensuration",
 "defaultMosaicMethod": "Center",
 "allowedMosaicMethods": "",
 "sortField": "",
 "sortValue": null,
 "sortAscending": true,
 "mosaicOperator": "First",
 "defaultCompressionQuality": 75,
 "defaultResamplingMethod": "Bilinear",
 "maxImageHeight": 4100,
 "maxImageWidth": 15000,
 "allowRasterFunction": true,
 "rasterFunctionInfos": [
  {
   "name": "None",
   "description": "",
   "help": ""
  }
 ],
 "rasterTypeInfos": [
  {
   "name": "Raster Dataset",
   "description": "Supports all ArcGIS Raster Datasets",
   "help": ""
  }
 ],
 "mensurationCapabilities": "Basic",
 "hasHistograms": true,
 "hasColormap": false,
 "hasRasterAttributeTable": false,
 "minScale": 0,
 "maxScale": 0,
 "exportTilesAllowed": false,
 "supportsStatistics": false,
 "supportsAdvancedQueries": false,
 "editFieldsInfo": null,
 "ownershipBasedAccessControlForRasters": null,
 "allowComputeTiePoints": false,
 "useStandardizedQueries": true,
 "advancedQueryCapabilities": {
  "useStandardizedQueries": true,
  "supportsStatistics": false,
  "supportsOrderBy": false,
  "supportsDistinct": false,
  "supportsPagination": false
 },
 "spatialReference": {
  "wkid": 102161,
  "latestWkid": 102161,
  "vcsWkid": 5780,
  "latestVcsWkid": 5780
 }
}
