<?xml version="1.0" encoding="UTF-8" standalone="no"?>
<metadata xml:lang="pt">
<Esri>
<CreaDate>20220621</CreaDate>
<CreaTime>10144600</CreaTime>
<ArcGISFormat>1.0</ArcGISFormat>
<SyncOnce>FALSE</SyncOnce>
<DataProperties>
<itemProps>
<itemName Sync="TRUE">PP_FRCA_IMPLANTACAO_ETRS</itemName>
<imsContentType Sync="TRUE">002</imsContentType>
<nativeExtBox>
<westBL Sync="TRUE">-59505.556860</westBL>
<eastBL Sync="TRUE">-57201.259829</eastBL>
<southBL Sync="TRUE">223817.200906</southBL>
<northBL Sync="TRUE">226031.057826</northBL>
<exTypeCode Sync="TRUE">1</exTypeCode>
</nativeExtBox>
<itemLocation>
<linkage Sync="TRUE">file://\\192.168.100.67\Esri_App\Geodata\RasterGeodatabase.gdb</linkage>
<protocol Sync="TRUE">Local Area Network</protocol>
</itemLocation>
</itemProps>
<coordRef>
<type Sync="TRUE">Projected</type>
<geogcsn Sync="TRUE">GCS_ETRS_1989</geogcsn>
<csUnits Sync="TRUE">Linear Unit: Meter (1.000000)</csUnits>
<projcsn Sync="TRUE">ETRS_1989_Portugal_TM06</projcsn>
<peXml Sync="TRUE">&lt;ProjectedCoordinateSystem xsi:type='typens:ProjectedCoordinateSystem' xmlns:xsi='http://www.w3.org/2001/XMLSchema-instance' xmlns:xs='http://www.w3.org/2001/XMLSchema' xmlns:typens='http://www.esri.com/schemas/ArcGIS/3.3.0'&gt;&lt;WKT&gt;PROJCS[&amp;quot;ETRS_1989_Portugal_TM06&amp;quot;,GEOGCS[&amp;quot;GCS_ETRS_1989&amp;quot;,DATUM[&amp;quot;D_ETRS_1989&amp;quot;,SPHEROID[&amp;quot;GRS_1980&amp;quot;,6378137.0,298.257222101]],PRIMEM[&amp;quot;Greenwich&amp;quot;,0.0],UNIT[&amp;quot;Degree&amp;quot;,0.0174532925199433]],PROJECTION[&amp;quot;Transverse_Mercator&amp;quot;],PARAMETER[&amp;quot;False_Easting&amp;quot;,0.0],PARAMETER[&amp;quot;False_Northing&amp;quot;,0.0],PARAMETER[&amp;quot;Central_Meridian&amp;quot;,-8.133108333333334],PARAMETER[&amp;quot;Scale_Factor&amp;quot;,1.0],PARAMETER[&amp;quot;Latitude_Of_Origin&amp;quot;,39.66825833333333],UNIT[&amp;quot;Meter&amp;quot;,1.0],AUTHORITY[&amp;quot;EPSG&amp;quot;,3763]]&lt;/WKT&gt;&lt;XOrigin&gt;-5623200&lt;/XOrigin&gt;&lt;YOrigin&gt;-14394800&lt;/YOrigin&gt;&lt;XYScale&gt;450265407.00157917&lt;/XYScale&gt;&lt;ZOrigin&gt;0&lt;/ZOrigin&gt;&lt;ZScale&gt;100000&lt;/ZScale&gt;&lt;MOrigin&gt;-100000&lt;/MOrigin&gt;&lt;MScale&gt;10000&lt;/MScale&gt;&lt;XYTolerance&gt;0.001&lt;/XYTolerance&gt;&lt;ZTolerance&gt;0.001&lt;/ZTolerance&gt;&lt;MTolerance&gt;0.001&lt;/MTolerance&gt;&lt;HighPrecision&gt;true&lt;/HighPrecision&gt;&lt;WKID&gt;3763&lt;/WKID&gt;&lt;LatestWKID&gt;3763&lt;/LatestWKID&gt;&lt;/ProjectedCoordinateSystem&gt;</peXml>
</coordRef>
<lineage>
<Process Date="20250207" Time="110803" ToolSource="c:\program files\arcgis\pro\Resources\ArcToolbox\toolboxes\Data Management Tools.tbx\ProjectRaster">ProjectRaster PP_FRCA_IMPLANTACAO_2010_D73 \\192.168.100.67\Esri_App\Geodata\RasterGeodatabase.gdb\PP_FRCA_IMPLANTACAO_ETRS PROJCS["ETRS_1989_Portugal_TM06",GEOGCS["GCS_ETRS_1989",DATUM["D_ETRS_1989",SPHEROID["GRS_1980",6378137.0,298.257222101]],PRIMEM["Greenwich",0.0],UNIT["Degree",0.0174532925199433]],PROJECTION["Transverse_Mercator"],PARAMETER["False_Easting",0.0],PARAMETER["False_Northing",0.0],PARAMETER["Central_Meridian",-8.133108333333334],PARAMETER["Scale_Factor",1.0],PARAMETER["Latitude_Of_Origin",39.66825833333333],UNIT["Meter",1.0]] "Nearest neighbor" "0,195279409406874 0,251860855582548" # # PROJCS["ETRS_1989_Portugal_TM06",GEOGCS["GCS_ETRS_1989",DATUM["D_ETRS_1989",SPHEROID["GRS_1980",6378137.0,298.257222101]],PRIMEM["Greenwich",0.0],UNIT["Degree",0.0174532925199433]],PROJECTION["Transverse_Mercator"],PARAMETER["False_Easting",0.0],PARAMETER["False_Northing",0.0],PARAMETER["Central_Meridian",-8.133108333333334],PARAMETER["Scale_Factor",1.0],PARAMETER["Latitude_Of_Origin",39.66825833333333],UNIT["Meter",1.0]] NO_VERTICAL</Process>
</lineage>
</DataProperties>
<SyncDate>20250207</SyncDate>
<SyncTime>11075800</SyncTime>
<ModDate>20250207</ModDate>
<ModTime>11075800</ModTime>
</Esri>
<dataIdInfo>
<envirDesc Sync="TRUE">Microsoft Windows 10 Version 10.0 (Build 22631) ; Esri ArcGIS 13.3.2.52636</envirDesc>
<dataLang>
<languageCode Sync="TRUE" value="por"/>
<countryCode Sync="TRUE" value="PRT"/>
</dataLang>
<idCitation>
<resTitle Sync="TRUE">PP_FRCA_IMPLANTACAO_2010</resTitle>
<presForm>
<PresFormCd Sync="TRUE" value="011"/>
</presForm>
</idCitation>
<spatRpType>
<SpatRepTypCd Sync="TRUE" value="002"/>
</spatRpType>
<dataExt>
<geoEle>
<GeoBndBox esriExtentType="search">
<exTypeCode Sync="TRUE">1</exTypeCode>
<westBL Sync="TRUE">-8.848000</westBL>
<eastBL Sync="TRUE">-8.820107</eastBL>
<northBL Sync="TRUE">41.701642</northBL>
<southBL Sync="TRUE">41.681542</southBL>
</GeoBndBox>
</geoEle>
</dataExt>
<idAbs/>
<idPurp/>
<idCredit/>
<resConst>
<Consts>
<useLimit/>
</Consts>
</resConst>
</dataIdInfo>
<mdLang>
<languageCode Sync="TRUE" value="por"/>
<countryCode Sync="TRUE" value="PRT"/>
</mdLang>
<distInfo>
<distFormat>
<formatName Sync="TRUE">File Geodatabase Raster Dataset</formatName>
</distFormat>
</distInfo>
<mdHrLv>
<ScopeCd Sync="TRUE" value="005"/>
</mdHrLv>
<mdHrLvName Sync="TRUE">dataset</mdHrLvName>
<spdoinfo>
<rastinfo>
<rasttype Sync="TRUE">Pixel</rasttype>
<rowcount Sync="TRUE">8790</rowcount>
<colcount Sync="TRUE">11800</colcount>
<rastxsz Sync="TRUE">0,195279</rastxsz>
<rastysz Sync="TRUE">0,251861</rastysz>
<rastbpp Sync="TRUE">8</rastbpp>
<vrtcount Sync="TRUE">1</vrtcount>
<rastorig Sync="TRUE">Upper Left</rastorig>
<rastcmap Sync="TRUE">FALSE</rastcmap>
<rastcomp Sync="TRUE">LZ77</rastcomp>
<rastband Sync="TRUE">4</rastband>
<rastdtyp Sync="TRUE">pixel codes</rastdtyp>
<rastifor Sync="TRUE">FGDBR</rastifor>
<rastplyr Sync="TRUE">TRUE</rastplyr>
</rastinfo>
</spdoinfo>
<spref>
<horizsys>
<planar>
<planci>
<plance Sync="TRUE">row and column</plance>
<coordrep>
<absres Sync="TRUE">0,195279</absres>
<ordres Sync="TRUE">0,251861</ordres>
</coordrep>
</planci>
</planar>
</horizsys>
</spref>
<mdDateSt Sync="TRUE">20250207</mdDateSt>
<refSysInfo>
<RefSystem>
<refSysID>
<identCode Sync="TRUE" code="3763"/>
<idCodeSpace Sync="TRUE">EPSG</idCodeSpace>
<idVersion Sync="TRUE">9.8.8(9.3.0.0)</idVersion>
</refSysID>
</RefSystem>
</refSysInfo>
</metadata>
