{
 "currentVersion": 11.0,
 "serviceDescription": "PP_PC_IMPLANTACAO",
 "name": "PP_PC_IMPLANTACAO",
 "description": "",
 "extent": {
  "xmin": -57633.097304011884,
  "ymin": 224832.5257329411,
  "xmax": -55986.82694371362,
  "ymax": 226336.00042635942,
  "spatialReference": {
   "wkid": 3763,
   "latestWkid": 3763,
   "vcsWkid": 5780,
   "latestVcsWkid": 5780
  }
 },
 "initialExtent": {
  "xmin": -57633.097304011884,
  "ymin": 224832.5257329411,
  "xmax": -55986.82694371362,
  "ymax": 226336.00042635942,
  "spatialReference": {
   "wkid": 3763,
   "latestWkid": 3763,
   "vcsWkid": 5780,
   "latestVcsWkid": 5780
  }
 },
 "fullExtent": {
  "xmin": -57633.097304011884,
  "ymin": 224832.5257329411,
  "xmax": -55986.82694371362,
  "ymax": 226336.00042635942,
  "spatialReference": {
   "wkid": 3763,
   "latestWkid": 3763,
   "vcsWkid": 5780,
   "latestVcsWkid": 5780
  }
 },
 "sortableFields": "",
 "heightModelInfo": {
  "heightModel": "gravity_related_height",
  "vertCRS": "Cascais",
  "heightUnit": "meter"
 },
 "bandCount": 3,
 "pixelType": "U8",
 "minValues": [
  0,
  0,
  0
 ],
 "maxValues": [
  255,
  255,
  255
 ],
 "meanValues": [
  246.50470580919176,
  251.0082728794426,
  252.07211537466273
 ],
 "stdvValues": [
  24.22207470555033,
  21.128652574876273,
  21.687961988311578
 ],
 "hasMultidimensions": false,
 "pixelSizeX": 0.11288195010273351,
 "pixelSizeY": 0.11288195010273337,
 "datasetFormat": "FGDBR",
 "uncompressedSize": 582732888,
 "blockWidth": 128,
 "blockHeight": 128,
 "compressionType": "LZ77",
 "bandNames": [
  "Band_1",
  "Band_2",
  "Band_3"
 ],
 "allowCopy": true,
 "allowAnalysis": true,
 "minPixelSize": 0,
 "maxPixelSize": 0,
 "copyrightText": "",
 "serviceDataType": "esriImageServiceDataTypeRGB",
 "serviceSourceType": "esriImageServiceSourceTypeDataset",
 "objectIdField": "",
 "fields": [],
 "capabilities": "Image,Metadata,Mensuration",
 "defaultMosaicMethod": "Center",
 "allowedMosaicMethods": "",
 "sortField": "",
 "sortValue": null,
 "sortAscending": true,
 "mosaicOperator": "First",
 "defaultCompressionQuality": 75,
 "defaultResamplingMethod": "Bilinear",
 "maxImageHeight": 4100,
 "maxImageWidth": 15000,
 "allowRasterFunction": true,
 "rasterFunctionInfos": [
  {
   "name": "None",
   "description": "",
   "help": ""
  }
 ],
 "rasterTypeInfos": [
  {
   "name": "Raster Dataset",
   "description": "Supports all ArcGIS Raster Datasets",
   "help": ""
  }
 ],
 "mensurationCapabilities": "Basic",
 "hasHistograms": true,
 "hasColormap": false,
 "hasRasterAttributeTable": false,
 "minScale": 0,
 "maxScale": 0,
 "exportTilesAllowed": false,
 "supportsStatistics": false,
 "supportsAdvancedQueries": false,
 "editFieldsInfo": null,
 "ownershipBasedAccessControlForRasters": null,
 "allowComputeTiePoints": false,
 "useStandardizedQueries": true,
 "advancedQueryCapabilities": {
  "useStandardizedQueries": true,
  "supportsStatistics": false,
  "supportsOrderBy": false,
  "supportsDistinct": false,
  "supportsPagination": false
 },
 "spatialReference": {
  "wkid": 3763,
  "latestWkid": 3763,
  "vcsWkid": 5780,
  "latestVcsWkid": 5780
 }
}
