<?xml version="1.0" encoding="UTF-8" standalone="no"?>
<metadata xml:lang="pt">
<Esri>
<CreaDate>20120704</CreaDate>
<CreaTime>11593000</CreaTime>
<ArcGISFormat>1.0</ArcGISFormat>
<ArcGISstyle>ISO 19139 Metadata Implementation Specification</ArcGISstyle>
<SyncOnce>FALSE</SyncOnce>
<DataProperties>
<lineage>
<Process Date="20120704" Time="115931" ToolSource="c:\program files (x86)\arcgis\desktop10.0\ArcToolbox\Toolboxes\Data Management Tools.tbx\CreateRasterDataset">CreateRasterDataset \\mvc-geo\ESRI_MXD\RasterGeodatabase.gdb PROCESSOS_OBRAS # 8_BIT_UNSIGNED PROJCS['Datum_73_Hayford_Gauss_IPCC',GEOGCS['GCS_Datum_73',DATUM['D_Datum_73',SPHEROID['International_1924',6378388.0,297.0]],PRIMEM['Greenwich',0.0],UNIT['Degree',0.0174532925199433]],PROJECTION['Transverse_Mercator'],PARAMETER['False_Easting',180.598],PARAMETER['False_Northing',-86.99],PARAMETER['Central_Meridian',-8.131906111111112],PARAMETER['Scale_Factor',1.0],PARAMETER['Latitude_Of_Origin',39.66666666666666],UNIT['Meter',1.0]] 3 # "PYRAMIDS -1 NEAREST DEFAULT 75" "128 128" LZ77 "-5623074.38273316 5609606.87583244"</Process>
<Process Date="20120704" Time="131007" ToolSource="c:\program files (x86)\arcgis\desktop10.0\ArcToolbox\Toolboxes\Data Management Tools.tbx\Mosaic">Mosaic 'C:\Users\vmartins\Desktop\Planta cadastral de Processos\27-1_50.jpg';'C:\Users\vmartins\Desktop\Planta cadastral de Processos\27-2_50.jpg';'C:\Users\vmartins\Desktop\Planta cadastral de Processos\27-3_50.jpg';'C:\Users\vmartins\Desktop\Planta cadastral de Processos\27-4_50.jpg';'C:\Users\vmartins\Desktop\Planta cadastral de Processos\28-1_50.jpg';'C:\Users\vmartins\Desktop\Planta cadastral de Processos\28-3_50.jpg';'C:\Users\vmartins\Desktop\Planta cadastral de Processos\40-1_50.jpg';'C:\Users\vmartins\Desktop\Planta cadastral de Processos\40-2_50.jpg';'C:\Users\vmartins\Desktop\Planta cadastral de Processos\40-3_50.jpg';'C:\Users\vmartins\Desktop\Planta cadastral de Processos\40-4_50.jpg';'C:\Users\vmartins\Desktop\Planta cadastral de Processos\41-1_50.jpg';'C:\Users\vmartins\Desktop\Planta cadastral de Processos\41-3_50.jpg';'C:\Users\vmartins\Desktop\Planta cadastral de Processos\54-1_50.jpg';'C:\Users\vmartins\Desktop\Planta cadastral de Processos\54-2_50.jpg';'C:\Users\vmartins\Desktop\Planta cadastral de Processos\55-1_50.jpg' \\mvc-geo\ESRI_MXD\RasterGeodatabase.gdb\PROCESSOS_OBRAS LAST FIRST # # NONE 0 NONE</Process>
</lineage>
<itemProps>
<itemName Sync="TRUE">PROCESSOS_OBRAS</itemName>
<imsContentType Sync="TRUE">002</imsContentType>
<nativeExtBox>
<westBL Sync="TRUE">-64000.674308</westBL>
<eastBL Sync="TRUE">-39999.140713</eastBL>
<southBL Sync="TRUE">214999.763784</southBL>
<northBL Sync="TRUE">240001.201530</northBL>
<exTypeCode Sync="TRUE">1</exTypeCode>
</nativeExtBox>
<itemLocation>
<linkage Sync="TRUE">file://\\MVC-GEO-INT\E\ESRI_MXD\RasterGeodatabase.gdb</linkage>
<protocol Sync="TRUE">Local Area Network</protocol>
</itemLocation>
</itemProps>
<coordRef>
<type Sync="TRUE">Projected</type>
<geogcsn Sync="TRUE">GCS_Datum_73</geogcsn>
<csUnits Sync="TRUE">Linear Unit: Meter (1.000000)</csUnits>
<projcsn Sync="TRUE">Datum_73_Hayford_Gauss_IPCC</projcsn>
<peXml Sync="TRUE">&lt;ProjectedCoordinateSystem xsi:type='typens:ProjectedCoordinateSystem' xmlns:xsi='http://www.w3.org/2001/XMLSchema-instance' xmlns:xs='http://www.w3.org/2001/XMLSchema' xmlns:typens='http://www.esri.com/schemas/ArcGIS/10.1'&gt;&lt;WKT&gt;PROJCS[&amp;quot;Datum_73_Hayford_Gauss_IPCC&amp;quot;,GEOGCS[&amp;quot;GCS_Datum_73&amp;quot;,DATUM[&amp;quot;D_Datum_73&amp;quot;,SPHEROID[&amp;quot;International_1924&amp;quot;,6378388.0,297.0]],PRIMEM[&amp;quot;Greenwich&amp;quot;,0.0],UNIT[&amp;quot;Degree&amp;quot;,0.0174532925199433]],PROJECTION[&amp;quot;Transverse_Mercator&amp;quot;],PARAMETER[&amp;quot;False_Easting&amp;quot;,180.598],PARAMETER[&amp;quot;False_Northing&amp;quot;,-86.99],PARAMETER[&amp;quot;Central_Meridian&amp;quot;,-8.131906111111112],PARAMETER[&amp;quot;Scale_Factor&amp;quot;,1.0],PARAMETER[&amp;quot;Latitude_Of_Origin&amp;quot;,39.66666666666666],UNIT[&amp;quot;Meter&amp;quot;,1.0],AUTHORITY[&amp;quot;ESRI&amp;quot;,102161]]&lt;/WKT&gt;&lt;XOrigin&gt;-5623200&lt;/XOrigin&gt;&lt;YOrigin&gt;-14395100&lt;/YOrigin&gt;&lt;XYScale&gt;450249651.57241428&lt;/XYScale&gt;&lt;ZOrigin&gt;-100000&lt;/ZOrigin&gt;&lt;ZScale&gt;10000&lt;/ZScale&gt;&lt;MOrigin&gt;-100000&lt;/MOrigin&gt;&lt;MScale&gt;10000&lt;/MScale&gt;&lt;XYTolerance&gt;0.001&lt;/XYTolerance&gt;&lt;ZTolerance&gt;0.001&lt;/ZTolerance&gt;&lt;MTolerance&gt;0.001&lt;/MTolerance&gt;&lt;HighPrecision&gt;true&lt;/HighPrecision&gt;&lt;WKID&gt;102161&lt;/WKID&gt;&lt;LatestWKID&gt;102161&lt;/LatestWKID&gt;&lt;/ProjectedCoordinateSystem&gt;</peXml>
</coordRef>
</DataProperties>
<SyncDate>20150218</SyncDate>
<SyncTime>10363200</SyncTime>
<ModDate>20150218</ModDate>
<ModTime>10363200</ModTime>
</Esri>
<dataIdInfo>
<envirDesc Sync="TRUE">Microsoft Windows Server 2008 R2 Version 6.1 (Build 7601) Service Pack 1; Esri ArcGIS 10.2.0.3370</envirDesc>
<dataLang>
<languageCode Sync="TRUE" value="por"/>
<countryCode Sync="TRUE" value="PRT"/>
</dataLang>
<idCitation>
<resTitle Sync="TRUE">PROCESSOS_OBRAS</resTitle>
<presForm>
<PresFormCd Sync="TRUE" value="011"/>
</presForm>
</idCitation>
<spatRpType>
<SpatRepTypCd Sync="TRUE" value="002"/>
</spatRpType>
<dataExt>
<geoEle>
<GeoBndBox esriExtentType="search">
<exTypeCode Sync="TRUE">1</exTypeCode>
<westBL Sync="TRUE">-8.904428</westBL>
<eastBL Sync="TRUE">-8.613861</eastBL>
<northBL Sync="TRUE">41.827587</northBL>
<southBL Sync="TRUE">41.600934</southBL>
</GeoBndBox>
</geoEle>
</dataExt>
<idAbs/>
<idPurp/>
<idCredit/>
<resConst>
<Consts>
<useLimit/>
</Consts>
</resConst>
</dataIdInfo>
<mdLang>
<languageCode Sync="TRUE" value="por"/>
<countryCode Sync="TRUE" value="PRT"/>
</mdLang>
<distInfo>
<distFormat>
<formatName Sync="TRUE">File Geodatabase Raster Dataset</formatName>
</distFormat>
</distInfo>
<mdHrLv>
<ScopeCd Sync="TRUE" value="005"/>
</mdHrLv>
<mdHrLvName Sync="TRUE">dataset</mdHrLvName>
<refSysInfo>
<RefSystem>
<refSysID>
<identCode Sync="TRUE" code="102161"/>
<idCodeSpace Sync="TRUE">ESRI</idCodeSpace>
<idVersion Sync="TRUE">10.2.0</idVersion>
</refSysID>
</RefSystem>
</refSysInfo>
<spdoinfo>
<rastinfo>
<rasttype Sync="TRUE">Pixel</rasttype>
<rowcount Sync="TRUE">32605</rowcount>
<colcount Sync="TRUE">31301</colcount>
<rastxsz Sync="TRUE">0,766798</rastxsz>
<rastysz Sync="TRUE">0,766798</rastysz>
<rastbpp Sync="TRUE">8</rastbpp>
<vrtcount Sync="TRUE">1</vrtcount>
<rastorig Sync="TRUE">Upper Left</rastorig>
<rastcmap Sync="TRUE">FALSE</rastcmap>
<rastcomp Sync="TRUE">LZ77</rastcomp>
<rastband Sync="TRUE">3</rastband>
<rastdtyp Sync="TRUE">pixel codes</rastdtyp>
<rastifor Sync="TRUE">FGDBR</rastifor>
<rastplyr Sync="TRUE">TRUE</rastplyr>
</rastinfo>
</spdoinfo>
<spref>
<horizsys>
<planar>
<planci>
<plance Sync="TRUE">row and column</plance>
<coordrep>
<absres Sync="TRUE">0,766798</absres>
<ordres Sync="TRUE">0,766798</ordres>
</coordrep>
</planci>
</planar>
</horizsys>
</spref>
<mdDateSt Sync="TRUE">20150218</mdDateSt>
</metadata>
