<?xml version="1.0" encoding="UTF-8" standalone="no"?>
<metadata xml:lang="pt">
<Esri>
<MetaID>{46D6C03D-608E-4F0B-8ABA-C4152BCF8363}</MetaID>
<CreaDate>20081027</CreaDate>
<CreaTime>11194400</CreaTime>
<SyncOnce>FALSE</SyncOnce>
<DataProperties>
<lineage>
<Process Date="20081027" Time="111944" ToolSource="C:\Program Files\ArcGIS\ArcToolbox\Toolboxes\Data Management Tools.tbx\CreateRasterDataset">CreateRasterDataset \\mvc-geo\ESRI_MXD\RasterGeodatabase.gdb PUC_Zonamento # 8_BIT_UNSIGNED PROJCS['Lisboa_Hayford_Gauss_IPCC',GEOGCS['GCS_Datum_Lisboa_Hayford',DATUM['D_Datum_Lisboa_Hayford',SPHEROID['International_1924',6378388.0,297.0]],PRIMEM['Greenwich',0.0],UNIT['Degree',0.0174532925199433]],PROJECTION['Transverse_Mercator'],PARAMETER['False_Easting',0.0],PARAMETER['False_Northing',0.0],PARAMETER['Central_Meridian',-8.131906111111112],PARAMETER['Scale_Factor',1.0],PARAMETER['Latitude_Of_Origin',39.66666666666666],UNIT['Meter',1.0]] 3 # "PYRAMIDS -1 NEAREST" "128 128" LZ77 "-5623254,98073414 5609694,15872771" \\mvc-geo\ESRI_MXD\RasterGeodatabase.gdb\PUC_Zonamento</Process>
<Process Date="20081027" Time="113816" ToolSource="C:\Program Files\ArcGIS\ArcToolbox\Toolboxes\Data Management Tools.tbx\Mosaic">Mosaic W:\PMOT\puc\pdf\4011.jpg;W:\PMOT\puc\pdf\4012.jpg;W:\PMOT\puc\pdf\4013.jpg;W:\PMOT\puc\pdf\4014.jpg;W:\PMOT\puc\pdf\4021.jpg;W:\PMOT\puc\pdf\4023.jpg;W:\PMOT\puc\pdf\4032.jpg;W:\PMOT\puc\pdf\4041.jpg \\mvc-geo\ESRI_MXD\RasterGeodatabase.gdb\PUC_Zonamento LAST MATCH # # NONE 0 \\mvc-geo\ESRI_MXD\RasterGeodatabase.gdb\PUC_Zonamento NONE</Process>
<Process Date="20091202" Time="122817" ToolSource="C:\Program Files\ArcGIS\ArcToolbox\Toolboxes\Data Management Tools.tbx\CalculateStatistics">CalculateStatistics "Database Connections\Connection to mvc-geo.sde\GEO_ADMIN.PUC_ZONAMENTO" 1 1 # "Database Connections\Connection to mvc-geo.sde\GEO_ADMIN.PUC_ZONAMENTO"</Process>
<Process Date="20091203" Time="143744" ToolSource="C:\Programas\ArcGIS\ArcToolbox\Toolboxes\Data Management Tools.tbx\CopyRaster">CopyRaster "Database Connections\Connection to mvc-geo.sde\GEO_ADMIN.PUC_ZONAMENTO" X:\RasterGeodatabase.gdb\PUC_ZONAMENTO # # # NONE NONE #</Process>
<Process Date="20120229" Time="184858" ToolSource="c:\program files (x86)\arcgis\desktop10.0\ArcToolbox\Toolboxes\Data Management Tools.tbx\ProjectRaster">ProjectRaster \\mvc-geo\ESRI_MXD\RasterGeodatabase.gdb\PUC_ZONAMENTO \\mvc-geo\ESRI_MXD\RasterGeodatabase.gdb\PUC_ZONAMENTO_D73 PROJCS['Datum_73_Hayford_Gauss_IPCC',GEOGCS['GCS_Datum_73',DATUM['D_Datum_73',SPHEROID['International_1924',6378388.0,297.0]],PRIMEM['Greenwich',0.0],UNIT['Degree',0.0174532925199433]],PROJECTION['Transverse_Mercator'],PARAMETER['False_Easting',180.598],PARAMETER['False_Northing',-86.99],PARAMETER['Central_Meridian',-8.131906111111112],PARAMETER['Scale_Factor',1.0],PARAMETER['Latitude_Of_Origin',39.66666666666666],UNIT['Meter',1.0]] NEAREST 0.423513459973008 Datum_Lisboa_Hayford_To_Datum_73_2 # PROJCS['Lisboa_Hayford_Gauss_IPCC',GEOGCS['GCS_Datum_Lisboa_Hayford',DATUM['D_Datum_Lisboa_Hayford',SPHEROID['International_1924',6378388.0,297.0]],PRIMEM['Greenwich',0.0],UNIT['Degree',0.0174532925199433]],PROJECTION['Transverse_Mercator'],PARAMETER['False_Easting',0.0],PARAMETER['False_Northing',0.0],PARAMETER['Central_Meridian',-8.131906111111112],PARAMETER['Scale_Factor',1.0],PARAMETER['Latitude_Of_Origin',39.66666666666666],UNIT['Meter',1.0]]</Process>
<Process Date="20250207" Time="110228" ToolSource="c:\program files\arcgis\pro\Resources\ArcToolbox\toolboxes\Data Management Tools.tbx\ProjectRaster">ProjectRaster \\192.168.100.67\Esri_App\Geodata\RasterGeodatabase.gdb\PUC_ZONAMENTO_D73 \\192.168.100.67\Esri_App\Geodata\RasterGeodatabase.gdb\PUC_ZONAMENTO_ETRS PROJCS["ETRS_1989_Portugal_TM06",GEOGCS["GCS_ETRS_1989",DATUM["D_ETRS_1989",SPHEROID["GRS_1980",6378137.0,298.257222101]],PRIMEM["Greenwich",0.0],UNIT["Degree",0.0174532925199433]],PROJECTION["Transverse_Mercator"],PARAMETER["False_Easting",0.0],PARAMETER["False_Northing",0.0],PARAMETER["Central_Meridian",-8.133108333333334],PARAMETER["Scale_Factor",1.0],PARAMETER["Latitude_Of_Origin",39.66825833333333],UNIT["Meter",1.0]],VERTCS["Cascais",VDATUM["Cascais"],PARAMETER["Vertical_Shift",0.0],PARAMETER["Direction",1.0],UNIT["Meter",1.0]] "Nearest neighbor" "0,423513459973008 0,423513459973008" Datum_73_To_ETRS_1989_2009_7par # PROJCS["Datum_73_Hayford_Gauss_IPCC",GEOGCS["GCS_Datum_73",DATUM["D_Datum_73",SPHEROID["International_1924",6378388.0,297.0]],PRIMEM["Greenwich",0.0],UNIT["Degree",0.0174532925199433]],PROJECTION["Transverse_Mercator"],PARAMETER["False_Easting",180.598],PARAMETER["False_Northing",-86.99],PARAMETER["Central_Meridian",-8.131906111111112],PARAMETER["Scale_Factor",1.0],PARAMETER["Latitude_Of_Origin",39.66666666666666],UNIT["Meter",1.0]] NO_VERTICAL</Process>
</lineage>
<itemProps>
<itemName Sync="TRUE">PUC_ZONAMENTO_ETRS</itemName>
<imsContentType Sync="TRUE">002</imsContentType>
<nativeExtBox>
<westBL Sync="TRUE">-64000.687179</westBL>
<eastBL Sync="TRUE">-51999.162750</eastBL>
<southBL Sync="TRUE">222495.564844</southBL>
<northBL Sync="TRUE">229996.411734</northBL>
<exTypeCode Sync="TRUE">1</exTypeCode>
</nativeExtBox>
<itemLocation>
<linkage Sync="TRUE">file://\\192.168.100.67\Esri_App\Geodata\RasterGeodatabase.gdb</linkage>
<protocol Sync="TRUE">Local Area Network</protocol>
</itemLocation>
</itemProps>
<coordRef>
<type Sync="TRUE">Projected</type>
<geogcsn Sync="TRUE">GCS_ETRS_1989</geogcsn>
<csUnits Sync="TRUE">Linear Unit: Meter (1.000000)</csUnits>
<projcsn Sync="TRUE">ETRS_1989_Portugal_TM06</projcsn>
<peXml Sync="TRUE">&lt;ProjectedCoordinateSystem xsi:type='typens:ProjectedCoordinateSystem' xmlns:xsi='http://www.w3.org/2001/XMLSchema-instance' xmlns:xs='http://www.w3.org/2001/XMLSchema' xmlns:typens='http://www.esri.com/schemas/ArcGIS/3.3.0'&gt;&lt;WKT&gt;PROJCS[&amp;quot;ETRS_1989_Portugal_TM06&amp;quot;,GEOGCS[&amp;quot;GCS_ETRS_1989&amp;quot;,DATUM[&amp;quot;D_ETRS_1989&amp;quot;,SPHEROID[&amp;quot;GRS_1980&amp;quot;,6378137.0,298.257222101]],PRIMEM[&amp;quot;Greenwich&amp;quot;,0.0],UNIT[&amp;quot;Degree&amp;quot;,0.0174532925199433]],PROJECTION[&amp;quot;Transverse_Mercator&amp;quot;],PARAMETER[&amp;quot;False_Easting&amp;quot;,0.0],PARAMETER[&amp;quot;False_Northing&amp;quot;,0.0],PARAMETER[&amp;quot;Central_Meridian&amp;quot;,-8.133108333333334],PARAMETER[&amp;quot;Scale_Factor&amp;quot;,1.0],PARAMETER[&amp;quot;Latitude_Of_Origin&amp;quot;,39.66825833333333],UNIT[&amp;quot;Meter&amp;quot;,1.0],AUTHORITY[&amp;quot;EPSG&amp;quot;,3763]],VERTCS[&amp;quot;Cascais&amp;quot;,VDATUM[&amp;quot;Cascais&amp;quot;],PARAMETER[&amp;quot;Vertical_Shift&amp;quot;,0.0],PARAMETER[&amp;quot;Direction&amp;quot;,1.0],UNIT[&amp;quot;Meter&amp;quot;,1.0],AUTHORITY[&amp;quot;EPSG&amp;quot;,5780]]&lt;/WKT&gt;&lt;XOrigin&gt;-5623200&lt;/XOrigin&gt;&lt;YOrigin&gt;-14394800&lt;/YOrigin&gt;&lt;XYScale&gt;450265407.00157917&lt;/XYScale&gt;&lt;ZOrigin&gt;-100000&lt;/ZOrigin&gt;&lt;ZScale&gt;10000&lt;/ZScale&gt;&lt;MOrigin&gt;-100000&lt;/MOrigin&gt;&lt;MScale&gt;10000&lt;/MScale&gt;&lt;XYTolerance&gt;0.001&lt;/XYTolerance&gt;&lt;ZTolerance&gt;0.001&lt;/ZTolerance&gt;&lt;MTolerance&gt;0.001&lt;/MTolerance&gt;&lt;HighPrecision&gt;true&lt;/HighPrecision&gt;&lt;WKID&gt;3763&lt;/WKID&gt;&lt;LatestWKID&gt;3763&lt;/LatestWKID&gt;&lt;VCSWKID&gt;5780&lt;/VCSWKID&gt;&lt;LatestVCSWKID&gt;5780&lt;/LatestVCSWKID&gt;&lt;/ProjectedCoordinateSystem&gt;</peXml>
</coordRef>
</DataProperties>
<SyncDate>20250207</SyncDate>
<SyncTime>11021200</SyncTime>
<ModDate>20250207</ModDate>
<ModTime>11021200</ModTime>
</Esri>
<idinfo>
<native Sync="TRUE">Microsoft Windows XP Version 5.1 (Build 2600) Service Pack 3; ESRI ArcCatalog 9.3.1.3000</native>
<descript>
<langdata Sync="TRUE">pt</langdata>
<abstract>REQUIRED: A brief narrative summary of the data set.</abstract>
<purpose>REQUIRED: A summary of the intentions with which the data set was developed.</purpose>
</descript>
<citation>
<citeinfo>
<origin>REQUIRED: The name of an organization or individual that developed the data set.</origin>
<pubdate>REQUIRED: The date when the data set is published or otherwise made available for release.</pubdate>
<title Sync="TRUE">PUC_ZONAMENTO</title>
<ftname Sync="TRUE">PUC_ZONAMENTO</ftname>
<geoform Sync="TRUE">Fgdb raster digital data</geoform>
<onlink Sync="TRUE">\\mvc-geo\ESRI_MXD\RasterGeodatabase.gdb</onlink>
</citeinfo>
</citation>
<timeperd>
<current>REQUIRED: The basis on which the time period of content information is determined.</current>
<timeinfo>
<sngdate>
<caldate>REQUIRED: The year (and optionally month, or month and day) for which the data set corresponds to the ground.</caldate>
</sngdate>
</timeinfo>
</timeperd>
<status>
<progress>REQUIRED: The state of the data set.</progress>
<update>REQUIRED: The frequency with which changes and additions are made to the data set after the initial data set is completed.</update>
</status>
<spdom>
<bounding>
<westbc Sync="TRUE">-8.901165</westbc>
<eastbc Sync="TRUE">-8.756272</eastbc>
<northbc Sync="TRUE">41.736080</northbc>
<southbc Sync="TRUE">41.667687</southbc>
</bounding>
<lboundng>
<leftbc Sync="TRUE">-64000.331761</leftbc>
<rightbc Sync="TRUE">-51999.230556</rightbc>
<bottombc Sync="TRUE">222500.034100</bottombc>
<topbc Sync="TRUE">230000.033963</topbc>
</lboundng>
</spdom>
<keywords>
<theme>
<themekt>REQUIRED: Reference to a formally registered thesaurus or a similar authoritative source of theme keywords.</themekt>
<themekey>REQUIRED: Common-use word or phrase used to describe the subject of the data set.</themekey>
</theme>
</keywords>
<accconst>REQUIRED: Restrictions and legal prerequisites for accessing the data set.</accconst>
<useconst>REQUIRED: Restrictions and legal prerequisites for using the data set after access is granted.</useconst>
<natvform Sync="TRUE">File Geodatabase Raster Dataset</natvform>
</idinfo>
<dataIdInfo>
<envirDesc Sync="TRUE">Microsoft Windows 10 Version 10.0 (Build 22631) ; Esri ArcGIS 13.3.2.52636</envirDesc>
<dataLang>
<languageCode Sync="TRUE" value="por"/>
<countryCode Sync="TRUE" value="PRT"/>
</dataLang>
<idCitation>
<resTitle Sync="TRUE">PUC_ZONAMENTO</resTitle>
<presForm>
<PresFormCd Sync="TRUE" value="011"/>
</presForm>
</idCitation>
<dataExt>
<geoEle>
<GeoBndBox esriExtentType="native">
<westBL Sync="TRUE">-64000.331761</westBL>
<eastBL Sync="TRUE">-51999.230556</eastBL>
<northBL Sync="TRUE">230000.033963</northBL>
<southBL Sync="TRUE">222500.0341</southBL>
<exTypeCode Sync="TRUE">1</exTypeCode>
</GeoBndBox>
</geoEle>
</dataExt>
<geoBox esriExtentType="decdegrees">
<westBL Sync="TRUE">-8.901165</westBL>
<eastBL Sync="TRUE">-8.756272</eastBL>
<northBL Sync="TRUE">41.73608</northBL>
<southBL Sync="TRUE">41.667687</southBL>
<exTypeCode Sync="TRUE">1</exTypeCode>
</geoBox>
<spatRpType>
<SpatRepTypCd Sync="TRUE" value="002"/>
</spatRpType>
<dataExt>
<geoEle>
<GeoBndBox esriExtentType="search">
<exTypeCode Sync="TRUE">1</exTypeCode>
<westBL Sync="TRUE">-8.902425</westBL>
<eastBL Sync="TRUE">-8.757517</eastBL>
<northBL Sync="TRUE">41.737698</northBL>
<southBL Sync="TRUE">41.669295</southBL>
</GeoBndBox>
</geoEle>
</dataExt>
<idAbs/>
<idPurp/>
<idCredit/>
<resConst>
<Consts>
<useLimit/>
</Consts>
</resConst>
</dataIdInfo>
<metainfo>
<langmeta Sync="TRUE">pt</langmeta>
<metstdn Sync="TRUE">FGDC Content Standards for Digital Geospatial Metadata</metstdn>
<metstdv Sync="TRUE">FGDC-STD-001-1998</metstdv>
<mettc Sync="TRUE">local time</mettc>
<metc>
<cntinfo>
<cntorgp>
<cntper>REQUIRED: The person responsible for the metadata information.</cntper>
<cntorg>REQUIRED: The organization responsible for the metadata information.</cntorg>
</cntorgp>
<cntaddr>
<addrtype>REQUIRED: The mailing and/or physical address for the organization or individual.</addrtype>
<city>REQUIRED: The city of the address.</city>
<state>REQUIRED: The state or province of the address.</state>
<postal>REQUIRED: The ZIP or other postal code of the address.</postal>
</cntaddr>
<cntvoice>REQUIRED: The telephone number by which individuals can speak to the organization or individual.</cntvoice>
</cntinfo>
</metc>
<metd Sync="TRUE">20091203</metd>
</metainfo>
<mdLang>
<languageCode Sync="TRUE" value="por"/>
<countryCode Sync="TRUE" value="PRT"/>
</mdLang>
<mdStanName Sync="TRUE">ISO 19115 Geographic Information - Metadata</mdStanName>
<mdStanVer Sync="TRUE">DIS_ESRI1.0</mdStanVer>
<mdChar>
<CharSetCd Sync="TRUE" value="004"/>
</mdChar>
<mdHrLv>
<ScopeCd Sync="TRUE" value="005"/>
</mdHrLv>
<mdHrLvName Sync="TRUE">dataset</mdHrLvName>
<distinfo>
<resdesc Sync="TRUE">Downloadable Data</resdesc>
</distinfo>
<distInfo>
<distributor>
<distorTran>
<onLineSrc>
<orDesc Sync="TRUE">002</orDesc>
<linkage Sync="TRUE">file://\\mvc-geo\ESRI_MXD\RasterGeodatabase.gdb</linkage>
<protocol Sync="TRUE">Local Area Network</protocol>
</onLineSrc>
</distorTran>
<distorFormat>
<formatName Sync="TRUE">File Geodatabase Raster Dataset</formatName>
</distorFormat>
</distributor>
<distFormat>
<formatName Sync="TRUE">File Geodatabase Raster Dataset</formatName>
</distFormat>
</distInfo>
<spdoinfo>
<direct Sync="TRUE">Raster</direct>
<rastinfo>
<rasttype Sync="TRUE">Pixel</rasttype>
<rowcount Sync="TRUE">17711</rowcount>
<colcount Sync="TRUE">28338</colcount>
<rastxsz Sync="TRUE">0,423513</rastxsz>
<rastysz Sync="TRUE">0,423513</rastysz>
<rastbpp Sync="TRUE">8</rastbpp>
<vrtcount Sync="TRUE">1</vrtcount>
<rastorig Sync="TRUE">Upper Left</rastorig>
<rastcmap Sync="TRUE">FALSE</rastcmap>
<rastcomp Sync="TRUE">LZ77</rastcomp>
<rastband Sync="TRUE">3</rastband>
<rastdtyp Sync="TRUE">pixel codes</rastdtyp>
<rastifor Sync="TRUE">FGDBR</rastifor>
<rastplyr Sync="TRUE">TRUE</rastplyr>
</rastinfo>
</spdoinfo>
<spref>
<horizsys>
<cordsysn>
<geogcsn Sync="TRUE">GCS_Datum_Lisboa_Hayford</geogcsn>
<projcsn Sync="TRUE">Lisboa_Hayford_Gauss_IPCC</projcsn>
</cordsysn>
<planar>
<planci>
<plance Sync="TRUE">row and column</plance>
<plandu Sync="TRUE">meters</plandu>
<coordrep>
<absres Sync="TRUE">0,423513</absres>
<ordres Sync="TRUE">0,423513</ordres>
</coordrep>
</planci>
</planar>
<geodetic>
<horizdn Sync="TRUE">D_Datum_Lisboa_Hayford</horizdn>
<ellips Sync="TRUE">International_1924</ellips>
<semiaxis Sync="TRUE">6378388.000000</semiaxis>
<denflat Sync="TRUE">297.000000</denflat>
</geodetic>
</horizsys>
<vertdef>
<altsys>
<altenc Sync="TRUE">Explicit elevation coordinate included with horizontal coordinates</altenc>
<altres Sync="TRUE">1.000000</altres>
</altsys>
</vertdef>
</spref>
<refSysInfo>
<RefSystem>
<refSysID>
<identCode Sync="TRUE" code="3763" value="102161">Lisboa_Hayford_Gauss_IPCC</identCode>
<idCodeSpace Sync="TRUE">EPSG</idCodeSpace>
<idVersion Sync="TRUE">9.8.8(9.3.0.0)</idVersion>
</refSysID>
</RefSystem>
</refSysInfo>
<mdDateSt Sync="TRUE">20250207</mdDateSt>
</metadata>
