{
 "currentVersion": 11.0,
 "serviceDescription": "PUC_ZONAMENTO",
 "name": "PUC_ZONAMENTO",
 "description": "",
 "extent": {
  "xmin": -64000.68717912872,
  "ymin": 222495.5648440005,
  "xmax": -51999.16275041363,
  "ymax": 229996.41173358244,
  "spatialReference": {
   "wkid": 3763,
   "latestWkid": 3763,
   "vcsWkid": 5780,
   "latestVcsWkid": 5780
  }
 },
 "initialExtent": {
  "xmin": -64000.68717912872,
  "ymin": 222495.5648440005,
  "xmax": -51999.16275041363,
  "ymax": 229996.41173358244,
  "spatialReference": {
   "wkid": 3763,
   "latestWkid": 3763,
   "vcsWkid": 5780,
   "latestVcsWkid": 5780
  }
 },
 "fullExtent": {
  "xmin": -64000.68717912872,
  "ymin": 222495.5648440005,
  "xmax": -51999.16275041363,
  "ymax": 229996.41173358244,
  "spatialReference": {
   "wkid": 3763,
   "latestWkid": 3763,
   "vcsWkid": 5780,
   "latestVcsWkid": 5780
  }
 },
 "sortableFields": "",
 "heightModelInfo": {
  "heightModel": "gravity_related_height",
  "vertCRS": "Cascais",
  "heightUnit": "meter"
 },
 "bandCount": 3,
 "pixelType": "U8",
 "minValues": [
  0,
  0,
  0
 ],
 "maxValues": [
  255,
  255,
  255
 ],
 "meanValues": [
  209.6179034400426,
  221.23031476231208,
  217.12878511968535
 ],
 "stdvValues": [
  51.629922246147856,
  53.22459953049103,
  60.487911861867595
 ],
 "hasMultidimensions": false,
 "pixelSizeX": 0.4235134599730077,
 "pixelSizeY": 0.42351345997300766,
 "datasetFormat": "FGDBR",
 "uncompressedSize": 1505682954,
 "blockWidth": 128,
 "blockHeight": 128,
 "compressionType": "LZ77",
 "bandNames": [
  "Band_1",
  "Band_2",
  "Band_3"
 ],
 "allowCopy": true,
 "allowAnalysis": true,
 "minPixelSize": 0,
 "maxPixelSize": 0,
 "copyrightText": "",
 "serviceDataType": "esriImageServiceDataTypeRGB",
 "serviceSourceType": "esriImageServiceSourceTypeDataset",
 "objectIdField": "",
 "fields": [],
 "capabilities": "Image,Metadata,Mensuration",
 "defaultMosaicMethod": "Center",
 "allowedMosaicMethods": "",
 "sortField": "",
 "sortValue": null,
 "sortAscending": true,
 "mosaicOperator": "First",
 "defaultCompressionQuality": 75,
 "defaultResamplingMethod": "Bilinear",
 "maxImageHeight": 4100,
 "maxImageWidth": 15000,
 "allowRasterFunction": true,
 "rasterFunctionInfos": [
  {
   "name": "None",
   "description": "",
   "help": ""
  }
 ],
 "rasterTypeInfos": [
  {
   "name": "Raster Dataset",
   "description": "Supports all ArcGIS Raster Datasets",
   "help": ""
  }
 ],
 "mensurationCapabilities": "Basic",
 "hasHistograms": true,
 "hasColormap": false,
 "hasRasterAttributeTable": false,
 "minScale": 0,
 "maxScale": 0,
 "exportTilesAllowed": false,
 "supportsStatistics": false,
 "supportsAdvancedQueries": false,
 "editFieldsInfo": null,
 "ownershipBasedAccessControlForRasters": null,
 "allowComputeTiePoints": false,
 "useStandardizedQueries": true,
 "advancedQueryCapabilities": {
  "useStandardizedQueries": true,
  "supportsStatistics": false,
  "supportsOrderBy": false,
  "supportsDistinct": false,
  "supportsPagination": false
 },
 "spatialReference": {
  "wkid": 3763,
  "latestWkid": 3763,
  "vcsWkid": 5780,
  "latestVcsWkid": 5780
 }
}
