View In:
ArcGIS JavaScript
ArcGIS Online Map Viewer
ArcGIS Earth
ArcMap
View Footprint In:
ArcGIS Online Map Viewer
Service Description: CARTOGRAFIA_2K_1975
Name: CARTOGRAFIA_2K_1975
Description:
Single Fused Map Cache: false
Extent:
XMin: -61495.663010900855
YMin: 220996.61509464786
XMax: -53495.31699013965
YMax: 228996.61509464815
Spatial Reference: 102161
(102161)
Initial Extent:
XMin: -61495.663010900855
YMin: 220996.61509464786
XMax: -53495.31699013965
YMax: 228996.61509464815
Spatial Reference: 102161
(102161)
Full Extent:
XMin: -61495.663010900855
YMin: 220996.61509464786
XMax: -53495.31699013965
YMax: 228996.61509464815
Spatial Reference: 102161
(102161)
Pixel Size X: 0.08650519031141828
Pixel Size Y: 0.08650519031142183
Band Count: 1
Pixel Type: U8
RasterFunction Infos: {"rasterFunctionInfos": [{
"name": "None",
"description": "",
"help": ""
}]}
Mensuration Capabilities: Basic
Has Histograms: true
Has Colormap: false
Has Multi Dimensions : false
Rendering Rule:
Min Scale: 0
Max Scale: 0
Copyright Text:
Service Data Type: esriImageServiceDataTypeGeneric
Min Values: 0
Max Values: 255
Mean Values: 236.31431043259767
Standard Deviation Values: 46.32595379301779
Object ID Field:
Fields:
None
Default Mosaic Method: Center
Allowed Mosaic Methods:
SortField:
SortValue: null
Mosaic Operator: First
Default Compression Quality: 75
Default Resampling Method: Bilinear
Max Record Count: null
Max Image Height: 4100
Max Image Width: 15000
Max Download Image Count: null
Max Mosaic Image Count: null
Allow Raster Function: true
Allow Copy: true
Allow Analysis: true
Allow Compute TiePoints: false
Supports Statistics: false
Supports Advanced Queries: false
Use StandardizedQueries: true
Raster Type Infos:
Name: Raster Dataset
Description: Supports all ArcGIS Raster Datasets
Help:
Has Raster Attribute Table: false
Edit Fields Info: null
Ownership Based AccessControl For Rasters: null
Child Resources:
Info
Histograms
Statistics
Key Properties
Legend
Raster Function Infos
Supported Operations:
Export Image
Identify
Measure
Compute Histograms
Compute Statistics Histograms
Get Samples
Compute Class Statistics
Query Boundary
Compute Pixel Location
Compute Angles
Validate
Project