View In:
ArcGIS JavaScript
ArcGIS Online Map Viewer
ArcGIS Earth
ArcMap
View Footprint In:
ArcGIS Online Map Viewer
Service Description: CARTOGRAFIA_CADASTRAL_500_1868_19691
Name: CARTOGRAFIA_CADASTRAL_500_1868_19691
Description:
Single Fused Map Cache: false
Extent:
XMin: -59424.02086923923
YMin: 224179.25253998642
XMax: -56257.095290580546
YMax: 226525.12737955712
Spatial Reference: 102161
(102161)
Initial Extent:
XMin: -59424.02086923923
YMin: 224179.25253998642
XMax: -56257.095290580546
YMax: 226525.12737955712
Spatial Reference: 102161
(102161)
Full Extent:
XMin: -59424.02086923923
YMin: 224179.25253998642
XMax: -56257.095290580546
YMax: 226525.12737955712
Spatial Reference: 102161
(102161)
Pixel Size X: 0.10909523506351192
Pixel Size Y: 0.10909523506351176
Band Count: 3
Pixel Type: U8
RasterFunction Infos: {"rasterFunctionInfos": [{
"name": "None",
"description": "",
"help": ""
}]}
Mensuration Capabilities: Basic
Has Histograms: true
Has Colormap: false
Has Multi Dimensions : false
Rendering Rule:
Min Scale: 0
Max Scale: 0
Copyright Text:
Service Data Type: esriImageServiceDataTypeRGB
Min Values: 0, 0, 0
Max Values: 255, 255, 255
Mean Values: 228.23870889173796, 203.54001389832442, 187.89470540163651
Standard Deviation Values: 16.171223381581193, 22.114576592377432, 22.60792525477338
Object ID Field:
Fields:
None
Default Mosaic Method: Center
Allowed Mosaic Methods:
SortField:
SortValue: null
Mosaic Operator: First
Default Compression Quality: 75
Default Resampling Method: Bilinear
Max Record Count: null
Max Image Height: 4100
Max Image Width: 15000
Max Download Image Count: null
Max Mosaic Image Count: null
Allow Raster Function: true
Allow Copy: true
Allow Analysis: true
Allow Compute TiePoints: false
Supports Statistics: false
Supports Advanced Queries: false
Use StandardizedQueries: true
Raster Type Infos:
Name: Raster Dataset
Description: Supports all ArcGIS Raster Datasets
Help:
Has Raster Attribute Table: false
Edit Fields Info: null
Ownership Based AccessControl For Rasters: null
Child Resources:
Info
Histograms
Statistics
Key Properties
Legend
Raster Function Infos
Supported Operations:
Export Image
Identify
Measure
Compute Histograms
Compute Statistics Histograms
Get Samples
Compute Class Statistics
Query Boundary
Compute Pixel Location
Compute Angles
Validate
Project