View In:
ArcGIS JavaScript
ArcGIS Online Map Viewer
ArcGIS Earth
ArcMap
View Footprint In:
ArcGIS Online Map Viewer
Service Description: CARTOGRAFIA_MILITAR_25K_1949
Name: CARTOGRAFIA_MILITAR_25K_1949
Description:
Single Fused Map Cache: false
Extent:
XMin: -64001.0821541491
YMin: 210002.8803978306
XMax: -31998.917845850912
YMax: 240002.79289160165
Spatial Reference: 102161
(102161)
Initial Extent:
XMin: -64001.0821541491
YMin: 210002.8803978306
XMax: -31998.917845850912
YMax: 240002.79289160165
Spatial Reference: 102161
(102161)
Full Extent:
XMin: -64001.0821541491
YMin: 210002.8803978306
XMax: -31998.917845850912
YMax: 240002.79289160165
Spatial Reference: 102161
(102161)
Pixel Size X: 2.11654525848533
Pixel Size Y: 2.1165452584853295
Band Count: 3
Pixel Type: U8
RasterFunction Infos: {"rasterFunctionInfos": [{
"name": "None",
"description": "",
"help": ""
}]}
Mensuration Capabilities: Basic
Has Histograms: true
Has Colormap: false
Has Multi Dimensions : false
Rendering Rule:
Min Scale: 0
Max Scale: 0
Copyright Text:
Service Data Type: esriImageServiceDataTypeRGB
Min Values: 0, 0, 0
Max Values: 255, 255, 255
Mean Values: 220.22155260619527, 217.6712273963879, 203.9007240089724
Standard Deviation Values: 49.86203422462594, 50.676945157880915, 55.85363461379001
Object ID Field:
Fields:
None
Default Mosaic Method: Center
Allowed Mosaic Methods:
SortField:
SortValue: null
Mosaic Operator: First
Default Compression Quality: 75
Default Resampling Method: Bilinear
Max Record Count: null
Max Image Height: 4100
Max Image Width: 15000
Max Download Image Count: null
Max Mosaic Image Count: null
Allow Raster Function: true
Allow Copy: true
Allow Analysis: true
Allow Compute TiePoints: false
Supports Statistics: false
Supports Advanced Queries: false
Use StandardizedQueries: true
Raster Type Infos:
Name: Raster Dataset
Description: Supports all ArcGIS Raster Datasets
Help:
Has Raster Attribute Table: false
Edit Fields Info: null
Ownership Based AccessControl For Rasters: null
Child Resources:
Info
Histograms
Statistics
Key Properties
Legend
Raster Function Infos
Supported Operations:
Export Image
Identify
Measure
Compute Histograms
Compute Statistics Histograms
Get Samples
Compute Class Statistics
Query Boundary
Compute Pixel Location
Compute Angles
Validate
Project