View In:
ArcGIS JavaScript
ArcGIS Online Map Viewer
ArcGIS Earth
ArcMap
View Footprint In:
ArcGIS Online Map Viewer
Service Description: CONDICIONANTES_NEW
Name: CONDICIONANTES_NEW
Description:
Single Fused Map Cache: false
Extent:
XMin: -63999.867964735255
YMin: 214997.27823667464
XMax: -39994.44281590536
YMax: 240516.8031514883
Spatial Reference: 102161
(102161)
Initial Extent:
XMin: -63999.867964735255
YMin: 214997.27823667464
XMax: -39994.44281590536
YMax: 240516.8031514883
Spatial Reference: 102161
(102161)
Full Extent:
XMin: -63999.867964735255
YMin: 214997.27823667464
XMax: -39994.44281590536
YMax: 240516.8031514883
Spatial Reference: 102161
(102161)
Pixel Size X: 0.8468418227265636
Pixel Size Y: 0.8468119496553512
Band Count: 3
Pixel Type: U8
RasterFunction Infos: {"rasterFunctionInfos": [{
"name": "None",
"description": "",
"help": ""
}]}
Mensuration Capabilities: Basic
Has Histograms: true
Has Colormap: false
Has Multi Dimensions : false
Rendering Rule:
Min Scale: 0
Max Scale: 0
Copyright Text:
Service Data Type: esriImageServiceDataTypeRGB
Min Values: 0, 0, 0
Max Values: 255, 255, 255
Mean Values: 217.3950037504247, 225.05752981580503, 225.52451394180557
Standard Deviation Values: 62.84013370021521, 57.96169913333902, 62.43060141066641
Object ID Field:
Fields:
None
Default Mosaic Method: Center
Allowed Mosaic Methods:
SortField:
SortValue: null
Mosaic Operator: First
Default Compression Quality: 75
Default Resampling Method: Bilinear
Max Record Count: null
Max Image Height: 4100
Max Image Width: 15000
Max Download Image Count: null
Max Mosaic Image Count: null
Allow Raster Function: true
Allow Copy: true
Allow Analysis: true
Allow Compute TiePoints: false
Supports Statistics: false
Supports Advanced Queries: false
Use StandardizedQueries: true
Raster Type Infos:
Name: Raster Dataset
Description: Supports all ArcGIS Raster Datasets
Help:
Has Raster Attribute Table: false
Edit Fields Info: null
Ownership Based AccessControl For Rasters: null
Child Resources:
Info
Histograms
Statistics
Key Properties
Legend
Raster Function Infos
Supported Operations:
Export Image
Identify
Measure
Compute Histograms
Compute Statistics Histograms
Get Samples
Compute Class Statistics
Query Boundary
Compute Pixel Location
Compute Angles
Validate
Project