View In:
ArcGIS JavaScript
ArcGIS Online Map Viewer
ArcGIS Earth
ArcMap
View Footprint In:
ArcGIS Online Map Viewer
Service Description: ORTOS2003
Name: ORTOS2003
Description:
Single Fused Map Cache: false
Extent:
XMin: -65049.88273414038
YMin: 214950.08275780195
XMax: -39949.88273414038
YMax: 245050.00435603724
Spatial Reference: 102161
(102161)
Initial Extent:
XMin: -65049.88273414038
YMin: 214950.08275780195
XMax: -39949.88273414038
YMax: 245050.00435603724
Spatial Reference: 102161
(102161)
Full Extent:
XMin: -65049.88273414038
YMin: 214950.08275780195
XMax: -39949.88273414038
YMax: 245050.00435603724
Spatial Reference: 102161
(102161)
Pixel Size X: 0.25
Pixel Size Y: 0.24999519607843135
Band Count: 3
Pixel Type: U8
RasterFunction Infos: {"rasterFunctionInfos": [{
"name": "None",
"description": "",
"help": ""
}]}
Mensuration Capabilities: Basic
Has Histograms: true
Has Colormap: false
Has Multi Dimensions : false
Rendering Rule:
Min Scale: 0
Max Scale: 0
Copyright Text:
Service Data Type: esriImageServiceDataTypeRGB
Min Values: 0, 0, 0
Max Values: 255, 255, 255
Mean Values: 171.84751950118496, 167.26532749814146, 143.38219994021392
Standard Deviation Values: 67.63613500875194, 69.39249291134874, 80.78260412383615
Object ID Field:
Fields:
None
Default Mosaic Method: Center
Allowed Mosaic Methods:
SortField:
SortValue: null
Mosaic Operator: First
Default Compression Quality: 75
Default Resampling Method: Bilinear
Max Record Count: null
Max Image Height: 4100
Max Image Width: 15000
Max Download Image Count: null
Max Mosaic Image Count: null
Allow Raster Function: true
Allow Copy: true
Allow Analysis: true
Allow Compute TiePoints: false
Supports Statistics: false
Supports Advanced Queries: false
Use StandardizedQueries: true
Raster Type Infos:
Name: Raster Dataset
Description: Supports all ArcGIS Raster Datasets
Help:
Has Raster Attribute Table: false
Edit Fields Info: null
Ownership Based AccessControl For Rasters: null
Child Resources:
Info
Histograms
Statistics
Key Properties
Legend
Raster Function Infos
Supported Operations:
Export Image
Identify
Measure
Compute Histograms
Compute Statistics Histograms
Get Samples
Compute Class Statistics
Query Boundary
Compute Pixel Location
Compute Angles
Validate
Project