View In:
ArcGIS JavaScript
ArcGIS Online Map Viewer
ArcGIS Earth
ArcMap
View Footprint In:
ArcGIS Online Map Viewer
Service Description: ORTOS_10K_2021
Name: ORTOS_10K_2021
Description:
Single Fused Map Cache: false
Extent:
XMin: -63999.97291200049
YMin: 214999.95637001097
XMax: -39999.97291200049
YMax: 242499.95637001097
Spatial Reference: 3763
(3763)
Initial Extent:
XMin: -63999.97291200049
YMin: 214999.95637001097
XMax: -39999.97291200049
YMax: 242499.95637001097
Spatial Reference: 3763
(3763)
Full Extent:
XMin: -63999.97291200049
YMin: 214999.95637001097
XMax: -39999.97291200049
YMax: 242499.95637001097
Spatial Reference: 3763
(3763)
Pixel Size X: 0.25
Pixel Size Y: 0.25
Band Count: 4
Pixel Type: U8
RasterFunction Infos: {"rasterFunctionInfos": [{
"name": "None",
"description": "",
"help": ""
}]}
Mensuration Capabilities: Basic
Has Histograms: true
Has Colormap: false
Has Multi Dimensions : false
Rendering Rule:
Min Scale: 0
Max Scale: 0
Copyright Text:
Service Data Type: esriImageServiceDataTypeGeneric
Min Values: 0, 0, 0, 0
Max Values: 255, 255, 255, 255
Mean Values: 70.1807943471591, 71.76007060009469, 68.84569211837122, 87.29372633475379
Standard Deviation Values: 52.23418773412168, 50.23793375647414, 46.62689611016793, 62.91996496858102
Object ID Field:
Fields:
None
Default Mosaic Method: Center
Allowed Mosaic Methods:
SortField:
SortValue: null
Mosaic Operator: First
Default Compression Quality: 75
Default Resampling Method: Bilinear
Max Record Count: null
Max Image Height: 4100
Max Image Width: 15000
Max Download Image Count: null
Max Mosaic Image Count: null
Allow Raster Function: true
Allow Copy: true
Allow Analysis: true
Allow Compute TiePoints: false
Supports Statistics: false
Supports Advanced Queries: false
Use StandardizedQueries: true
Raster Type Infos:
Name: Raster Dataset
Description: Supports all ArcGIS Raster Datasets
Help:
Has Raster Attribute Table: false
Edit Fields Info: null
Ownership Based AccessControl For Rasters: null
Child Resources:
Info
Histograms
Statistics
Key Properties
Legend
Raster Function Infos
Supported Operations:
Export Image
Identify
Measure
Compute Histograms
Compute Statistics Histograms
Get Samples
Compute Class Statistics
Query Boundary
Compute Pixel Location
Compute Angles
Validate
Project