View In:
ArcGIS JavaScript
ArcGIS Online Map Viewer
ArcGIS Earth
ArcMap
View Footprint In:
ArcGIS Online Map Viewer
Service Description: ORTOS_25K_2018
Name: ORTOS_25K_2018
Description:
Single Fused Map Cache: false
Extent:
XMin: -5623012.4729120005
YMin: -4991344.543629989
XMax: 4977601.5270879995
YMax: 5609269.456370011
Spatial Reference: 3763
(3763)
Initial Extent:
XMin: -5623012.4729120005
YMin: -4991344.543629989
XMax: 4977601.5270879995
YMax: 5609269.456370011
Spatial Reference: 3763
(3763)
Full Extent:
XMin: -5623012.4729120005
YMin: -4991344.543629989
XMax: 4977601.5270879995
YMax: 5609269.456370011
Spatial Reference: 3763
(3763)
Pixel Size X: 1.0600614E7
Pixel Size Y: 1.0600614E7
Band Count: 3
Pixel Type: U8
RasterFunction Infos: {"rasterFunctionInfos": [{
"name": "None",
"description": "",
"help": ""
}]}
Mensuration Capabilities: Basic
Has Histograms: true
Has Colormap: false
Has Multi Dimensions : false
Rendering Rule:
Min Scale: 0
Max Scale: 0
Copyright Text:
Service Data Type: esriImageServiceDataTypeRGB
Min Values: 0, 0, 0
Max Values: 0, 0, 0
Mean Values: 0, 0, 0
Standard Deviation Values: 0, 0, 0
Object ID Field:
Fields:
None
Default Mosaic Method: Center
Allowed Mosaic Methods:
SortField:
SortValue: null
Mosaic Operator: First
Default Compression Quality: 75
Default Resampling Method: Bilinear
Max Record Count: null
Max Image Height: 4100
Max Image Width: 15000
Max Download Image Count: null
Max Mosaic Image Count: null
Allow Raster Function: true
Allow Copy: true
Allow Analysis: true
Allow Compute TiePoints: false
Supports Statistics: false
Supports Advanced Queries: false
Use StandardizedQueries: true
Raster Type Infos:
Name: Raster Dataset
Description: Supports all ArcGIS Raster Datasets
Help:
Has Raster Attribute Table: false
Edit Fields Info: null
Ownership Based AccessControl For Rasters: null
Child Resources:
Info
Histograms
Statistics
Key Properties
Legend
Raster Function Infos
Supported Operations:
Export Image
Identify
Measure
Compute Histograms
Compute Statistics Histograms
Get Samples
Compute Class Statistics
Query Boundary
Compute Pixel Location
Compute Angles
Validate
Project