View In:
ArcGIS JavaScript
ArcGIS Online Map Viewer
ArcGIS Earth
ArcMap
View Footprint In:
ArcGIS Online Map Viewer
Service Description: ORTOS_2K_PIER
Name: ORTOS_2K_PIER
Description:
Single Fused Map Cache: false
Extent:
XMin: -63010
YMin: 224990.05000000002
XMax: -58989.99999999999
YMax: 237009.99999999994
Spatial Reference: 3763
(3763)
Initial Extent:
XMin: -63010
YMin: 224990.05000000002
XMax: -58989.99999999999
YMax: 237009.99999999994
Spatial Reference: 3763
(3763)
Full Extent:
XMin: -63010
YMin: 224990.05000000002
XMax: -58989.99999999999
YMax: 237009.99999999994
Spatial Reference: 3763
(3763)
Pixel Size X: 0.15000000000000027
Pixel Size Y: 0.14999999999999905
Band Count: 3
Pixel Type: U8
RasterFunction Infos: {"rasterFunctionInfos": [{
"name": "None",
"description": "",
"help": ""
}]}
Mensuration Capabilities: Basic
Has Histograms: true
Has Colormap: false
Has Multi Dimensions : false
Rendering Rule:
Min Scale: 0
Max Scale: 0
Copyright Text:
Service Data Type: esriImageServiceDataTypeRGB
Min Values: 0, 0, 2
Max Values: 255, 255, 255
Mean Values: 163.40912920618604, 173.5510533471556, 167.78541653958627
Standard Deviation Values: 83.39407491230845, 73.64142435760631, 77.64094463025862
Object ID Field:
Fields:
None
Default Mosaic Method: Center
Allowed Mosaic Methods:
SortField:
SortValue: null
Mosaic Operator: First
Default Compression Quality: 75
Default Resampling Method: Bilinear
Max Record Count: null
Max Image Height: 4100
Max Image Width: 15000
Max Download Image Count: null
Max Mosaic Image Count: null
Allow Raster Function: true
Allow Copy: true
Allow Analysis: true
Allow Compute TiePoints: false
Supports Statistics: false
Supports Advanced Queries: false
Use StandardizedQueries: true
Raster Type Infos:
Name: Raster Dataset
Description: Supports all ArcGIS Raster Datasets
Help:
Has Raster Attribute Table: false
Edit Fields Info: null
Ownership Based AccessControl For Rasters: null
Child Resources:
Info
Histograms
Statistics
Key Properties
Legend
Raster Function Infos
Supported Operations:
Export Image
Identify
Measure
Compute Histograms
Compute Statistics Histograms
Get Samples
Compute Class Statistics
Query Boundary
Compute Pixel Location
Compute Angles
Validate
Project