View In:
ArcGIS JavaScript
ArcGIS Online Map Viewer
ArcGIS Earth
ArcMap
View Footprint In:
ArcGIS Online Map Viewer
Service Description: ORTOS_5K2019
Name: ORTOS_5K2019
Description:
Single Fused Map Cache: false
Extent:
XMin: -64000.096522006206
YMin: 214999.75642765124
XMax: -39999.716555006235
YMax: 245000.10631765125
Spatial Reference: 3763
(3763)
Initial Extent:
XMin: -64000.096522006206
YMin: 214999.75642765124
XMax: -39999.716555006235
YMax: 245000.10631765125
Spatial Reference: 3763
(3763)
Full Extent:
XMin: -64000.096522006206
YMin: 214999.75642765124
XMax: -39999.716555006235
YMax: 245000.10631765125
Spatial Reference: 3763
(3763)
Pixel Size X: 0.24001099999999972
Pixel Size Y: 0.24000663922622772
Band Count: 3
Pixel Type: U8
RasterFunction Infos: {"rasterFunctionInfos": [{
"name": "None",
"description": "",
"help": ""
}]}
Mensuration Capabilities: Basic
Has Histograms: true
Has Colormap: false
Has Multi Dimensions : false
Rendering Rule:
Min Scale: 0
Max Scale: 0
Copyright Text:
Service Data Type: esriImageServiceDataTypeRGB
Min Values: 0, 0, 0
Max Values: 255, 255, 255
Mean Values: 154.9446251669917, 160.61306345355754, 158.32174534360612
Standard Deviation Values: 88.69427151113271, 82.6573504053257, 83.52127124824725
Object ID Field:
Fields:
None
Default Mosaic Method: Center
Allowed Mosaic Methods:
SortField:
SortValue: null
Mosaic Operator: First
Default Compression Quality: 75
Default Resampling Method: Bilinear
Max Record Count: null
Max Image Height: 4100
Max Image Width: 15000
Max Download Image Count: null
Max Mosaic Image Count: null
Allow Raster Function: true
Allow Copy: true
Allow Analysis: true
Allow Compute TiePoints: false
Supports Statistics: false
Supports Advanced Queries: false
Use StandardizedQueries: true
Raster Type Infos:
Name: Raster Dataset
Description: Supports all ArcGIS Raster Datasets
Help:
Has Raster Attribute Table: false
Edit Fields Info: null
Ownership Based AccessControl For Rasters: null
Child Resources:
Info
Histograms
Statistics
Key Properties
Legend
Raster Function Infos
Supported Operations:
Export Image
Identify
Measure
Compute Histograms
Compute Statistics Histograms
Get Samples
Compute Class Statistics
Query Boundary
Compute Pixel Location
Compute Angles
Validate
Project