View In:
ArcGIS JavaScript
ArcGIS Online Map Viewer
ArcGIS Earth
ArcMap
View Footprint In:
ArcGIS Online Map Viewer
Service Description: ORTOS_LITORAL2009
Name: ORTOS_LITORAL2009
Description:
Single Fused Map Cache: false
Extent:
XMin: -62499.98273421153
YMin: 214999.87872730472
XMax: -52999.942734211625
YMax: 236999.92872730643
Spatial Reference: 102161
(102161)
Initial Extent:
XMin: -62499.98273421153
YMin: 214999.87872730472
XMax: -52999.942734211625
YMax: 236999.92872730643
Spatial Reference: 102161
(102161)
Full Extent:
XMin: -62499.98273421153
YMin: 214999.87872730472
XMax: -52999.942734211625
YMax: 236999.92872730643
Spatial Reference: 102161
(102161)
Pixel Size X: 0.08999999999999911
Pixel Size Y: 0.09000000000000698
Band Count: 3
Pixel Type: U8
RasterFunction Infos: {"rasterFunctionInfos": [{
"name": "None",
"description": "",
"help": ""
}]}
Mensuration Capabilities: Basic
Has Histograms: true
Has Colormap: false
Has Multi Dimensions : false
Rendering Rule:
Min Scale: 0
Max Scale: 0
Copyright Text:
Service Data Type: esriImageServiceDataTypeRGB
Min Values: 0, 0, 0
Max Values: 255, 255, 255
Mean Values: 161.28314040458702, 161.42705157319725, 157.81258866973872
Standard Deviation Values: 88.81460130280703, 88.38454533703397, 91.05785633074171
Object ID Field:
Fields:
None
Default Mosaic Method: Center
Allowed Mosaic Methods:
SortField:
SortValue: null
Mosaic Operator: First
Default Compression Quality: 75
Default Resampling Method: Bilinear
Max Record Count: null
Max Image Height: 4100
Max Image Width: 15000
Max Download Image Count: null
Max Mosaic Image Count: null
Allow Raster Function: true
Allow Copy: true
Allow Analysis: true
Allow Compute TiePoints: false
Supports Statistics: false
Supports Advanced Queries: false
Use StandardizedQueries: true
Raster Type Infos:
Name: Raster Dataset
Description: Supports all ArcGIS Raster Datasets
Help:
Has Raster Attribute Table: false
Edit Fields Info: null
Ownership Based AccessControl For Rasters: null
Child Resources:
Info
Histograms
Statistics
Key Properties
Legend
Raster Function Infos
Supported Operations:
Export Image
Identify
Measure
Compute Histograms
Compute Statistics Histograms
Get Samples
Compute Class Statistics
Query Boundary
Compute Pixel Location
Compute Angles
Validate
Project