View In:
ArcGIS JavaScript
ArcGIS Online Map Viewer
ArcGIS Earth
ArcMap
View Footprint In:
ArcGIS Online Map Viewer
Service Description: ORTO_SAT_2023
Name: ORTO_SAT_2023
Description:
Single Fused Map Cache: false
Extent:
XMin: -62707.476364292204
YMin: 214937.95971925277
XMax: -41863.77637723368
YMax: 240707.0597032532
Spatial Reference: 3763
(3763)
Initial Extent:
XMin: -62707.476364292204
YMin: 214937.95971925277
XMax: -41863.77637723368
YMax: 240707.0597032532
Spatial Reference: 3763
(3763)
Full Extent:
XMin: -62707.476364292204
YMin: 214937.95971925277
XMax: -41863.77637723368
YMax: 240707.0597032532
Spatial Reference: 3763
(3763)
Pixel Size X: 0.2999999998137355
Pixel Size Y: 0.2999999998137355
Band Count: 3
Pixel Type: U8
RasterFunction Infos: {"rasterFunctionInfos": [{
"name": "None",
"description": "",
"help": ""
}]}
Mensuration Capabilities: Basic
Has Histograms: true
Has Colormap: false
Has Multi Dimensions : false
Rendering Rule:
Min Scale: 0
Max Scale: 0
Copyright Text:
Service Data Type: esriImageServiceDataTypeRGB
Min Values: 0, 0, 0
Max Values: 255, 255, 255
Mean Values: 62.80726920807885, 67.38465491446833, 52.7297785750335
Standard Deviation Values: 39.6482834244777, 34.51557905901798, 32.818508856752494
Object ID Field:
Fields:
None
Default Mosaic Method: Center
Allowed Mosaic Methods:
SortField:
SortValue: null
Mosaic Operator: First
Default Compression Quality: 75
Default Resampling Method: Bilinear
Max Record Count: null
Max Image Height: 4100
Max Image Width: 15000
Max Download Image Count: null
Max Mosaic Image Count: null
Allow Raster Function: true
Allow Copy: true
Allow Analysis: true
Allow Compute TiePoints: false
Supports Statistics: false
Supports Advanced Queries: false
Use StandardizedQueries: true
Raster Type Infos:
Name: Raster Dataset
Description: Supports all ArcGIS Raster Datasets
Help:
Has Raster Attribute Table: false
Edit Fields Info: null
Ownership Based AccessControl For Rasters: null
Child Resources:
Info
Histograms
Statistics
Key Properties
Legend
Raster Function Infos
Supported Operations:
Export Image
Identify
Measure
Compute Histograms
Compute Statistics Histograms
Get Samples
Compute Class Statistics
Query Boundary
Compute Pixel Location
Compute Angles
Validate
Project