View In:
ArcGIS JavaScript
ArcGIS Online Map Viewer
ArcGIS Earth
ArcMap
View Footprint In:
ArcGIS Online Map Viewer
Service Description: PIER_CONDICIONANTES
Name: PIER_CONDICIONANTES
Description:
Single Fused Map Cache: false
Extent:
XMin: -62649.08603580855
YMin: 225028.19939132963
XMax: -56866.593912075325
YMax: 237043.12061718293
Spatial Reference: 3763
(3763)
Initial Extent:
XMin: -62649.08603580855
YMin: 225028.19939132963
XMax: -56866.593912075325
YMax: 237043.12061718293
Spatial Reference: 3763
(3763)
Full Extent:
XMin: -62649.08603580855
YMin: 225028.19939132963
XMax: -56866.593912075325
YMax: 237043.12061718293
Spatial Reference: 3763
(3763)
Pixel Size X: 0.8441594341216385
Pixel Size Y: 0.8477929174324932
Band Count: 3
Pixel Type: U8
RasterFunction Infos: {"rasterFunctionInfos": [{
"name": "None",
"description": "",
"help": ""
}]}
Mensuration Capabilities: Basic
Has Histograms: true
Has Colormap: false
Has Multi Dimensions : false
Rendering Rule:
Min Scale: 0
Max Scale: 0
Copyright Text:
Service Data Type: esriImageServiceDataTypeRGB
Min Values: 0, 0, 0
Max Values: 255, 255, 255
Mean Values: 244.8874200649671, 245.0011193873049, 243.68102787456627
Standard Deviation Values: 46.74798745410288, 37.54718771675611, 47.42596213066789
Object ID Field:
Fields:
None
Default Mosaic Method: Center
Allowed Mosaic Methods:
SortField:
SortValue: null
Mosaic Operator: First
Default Compression Quality: 75
Default Resampling Method: Bilinear
Max Record Count: null
Max Image Height: 4100
Max Image Width: 15000
Max Download Image Count: null
Max Mosaic Image Count: null
Allow Raster Function: true
Allow Copy: true
Allow Analysis: true
Allow Compute TiePoints: false
Supports Statistics: false
Supports Advanced Queries: false
Use StandardizedQueries: true
Raster Type Infos:
Name: Raster Dataset
Description: Supports all ArcGIS Raster Datasets
Help:
Has Raster Attribute Table: false
Edit Fields Info: null
Ownership Based AccessControl For Rasters: null
Child Resources:
Info
Histograms
Statistics
Key Properties
Legend
Raster Function Infos
Supported Operations:
Export Image
Identify
Measure
Compute Histograms
Compute Statistics Histograms
Get Samples
Compute Class Statistics
Query Boundary
Compute Pixel Location
Compute Angles
Validate
Project