View In:
ArcGIS JavaScript
ArcGIS Online Map Viewer
ArcGIS Earth
ArcMap
View Footprint In:
ArcGIS Online Map Viewer
Service Description: PIER_CONDICIONANTES_AA_25Anos
Name: PIER_CONDICIONANTES_AA_25Anos
Description:
Single Fused Map Cache: false
Extent:
XMin: -62896.382106892765
YMin: 225092.52536212324
XMax: -57095.81780689277
YMax: 237093.34248031303
Spatial Reference: 3763
(3763)
Initial Extent:
XMin: -62896.382106892765
YMin: 225092.52536212324
XMax: -57095.81780689277
YMax: 237093.34248031303
Spatial Reference: 3763
(3763)
Full Extent:
XMin: -62896.382106892765
YMin: 225092.52536212324
XMax: -57095.81780689277
YMax: 237093.34248031303
Spatial Reference: 3763
(3763)
Pixel Size X: 1.6935954160583937
Pixel Size Y: 1.6935954160583957
Band Count: 3
Pixel Type: U8
RasterFunction Infos: {"rasterFunctionInfos": [{
"name": "None",
"description": "",
"help": ""
}]}
Mensuration Capabilities: Basic
Has Histograms: true
Has Colormap: false
Has Multi Dimensions : false
Rendering Rule:
Min Scale: 0
Max Scale: 0
Copyright Text:
Service Data Type: esriImageServiceDataTypeRGB
Min Values: 0, 0, 0
Max Values: 255, 255, 255
Mean Values: 251.3346458834218, 251.28733540588928, 251.28990467478795
Standard Deviation Values: 25.32101397395015, 25.405972633582245, 25.40829973813666
Object ID Field:
Fields:
None
Default Mosaic Method: Center
Allowed Mosaic Methods:
SortField:
SortValue: null
Mosaic Operator: First
Default Compression Quality: 75
Default Resampling Method: Bilinear
Max Record Count: null
Max Image Height: 4100
Max Image Width: 15000
Max Download Image Count: null
Max Mosaic Image Count: null
Allow Raster Function: true
Allow Copy: true
Allow Analysis: true
Allow Compute TiePoints: false
Supports Statistics: false
Supports Advanced Queries: false
Use StandardizedQueries: true
Raster Type Infos:
Name: Raster Dataset
Description: Supports all ArcGIS Raster Datasets
Help:
Has Raster Attribute Table: false
Edit Fields Info: null
Ownership Based AccessControl For Rasters: null
Child Resources:
Info
Histograms
Statistics
Key Properties
Legend
Raster Function Infos
Supported Operations:
Export Image
Identify
Measure
Compute Histograms
Compute Statistics Histograms
Get Samples
Compute Class Statistics
Query Boundary
Compute Pixel Location
Compute Angles
Validate
Project