View In:
ArcGIS JavaScript
ArcGIS Online Map Viewer
ArcGIS Earth
ArcMap
View Footprint In:
ArcGIS Online Map Viewer
Service Description: PIER_CONDICIONANTES_ZA
Name: PIER_CONDICIONANTES_ZA
Description:
Single Fused Map Cache: false
Extent:
XMin: -62912.668809895404
YMin: 224958.79269415763
XMax: -57112.2487098954
YMax: 236959.31147623062
Spatial Reference: 3763
(3763)
Initial Extent:
XMin: -62912.668809895404
YMin: 224958.79269415763
XMax: -57112.2487098954
YMax: 236959.31147623062
Spatial Reference: 3763
(3763)
Full Extent:
XMin: -62912.668809895404
YMin: 224958.79269415763
XMax: -57112.2487098954
YMax: 236959.31147623062
Spatial Reference: 3763
(3763)
Pixel Size X: 1.693553313868614
Pixel Size Y: 1.693553313868613
Band Count: 3
Pixel Type: U8
RasterFunction Infos: {"rasterFunctionInfos": [{
"name": "None",
"description": "",
"help": ""
}]}
Mensuration Capabilities: Basic
Has Histograms: true
Has Colormap: false
Has Multi Dimensions : false
Rendering Rule:
Min Scale: 0
Max Scale: 0
Copyright Text:
Service Data Type: esriImageServiceDataTypeRGB
Min Values: 0, 0, 0
Max Values: 255, 255, 255
Mean Values: 251.47702849867426, 251.47702849867426, 251.11735990160508
Standard Deviation Values: 24.979875479866806, 24.979875479866806, 25.617060197387687
Object ID Field:
Fields:
None
Default Mosaic Method: Center
Allowed Mosaic Methods:
SortField:
SortValue: null
Mosaic Operator: First
Default Compression Quality: 75
Default Resampling Method: Bilinear
Max Record Count: null
Max Image Height: 4100
Max Image Width: 15000
Max Download Image Count: null
Max Mosaic Image Count: null
Allow Raster Function: true
Allow Copy: true
Allow Analysis: true
Allow Compute TiePoints: false
Supports Statistics: false
Supports Advanced Queries: false
Use StandardizedQueries: true
Raster Type Infos:
Name: Raster Dataset
Description: Supports all ArcGIS Raster Datasets
Help:
Has Raster Attribute Table: false
Edit Fields Info: null
Ownership Based AccessControl For Rasters: null
Child Resources:
Info
Histograms
Statistics
Key Properties
Legend
Raster Function Infos
Supported Operations:
Export Image
Identify
Measure
Compute Histograms
Compute Statistics Histograms
Get Samples
Compute Class Statistics
Query Boundary
Compute Pixel Location
Compute Angles
Validate
Project