View In:
ArcGIS JavaScript
ArcGIS Online Map Viewer
ArcGIS Earth
ArcMap
View Footprint In:
ArcGIS Online Map Viewer
Service Description: PIER_IMPLANTACAO
Name: PIER_IMPLANTACAO
Description:
Single Fused Map Cache: false
Extent:
XMin: -62641.43704081047
YMin: 225055.00196533432
XMax: -56864.25467617673
YMax: 237074.91482091974
Spatial Reference: 3763
(3763)
Initial Extent:
XMin: -62641.43704081047
YMin: 225055.00196533432
XMax: -56864.25467617673
YMax: 237074.91482091974
Spatial Reference: 3763
(3763)
Full Extent:
XMin: -62641.43704081047
YMin: 225055.00196533432
XMax: -56864.25467617673
YMax: 237074.91482091974
Spatial Reference: 3763
(3763)
Pixel Size X: 0.8433842868078457
Pixel Size Y: 0.8481451351669084
Band Count: 3
Pixel Type: U8
RasterFunction Infos: {"rasterFunctionInfos": [{
"name": "None",
"description": "",
"help": ""
}]}
Mensuration Capabilities: Basic
Has Histograms: true
Has Colormap: false
Has Multi Dimensions : false
Rendering Rule:
Min Scale: 0
Max Scale: 0
Copyright Text:
Service Data Type: esriImageServiceDataTypeRGB
Min Values: 0, 0, 0
Max Values: 255, 255, 255
Mean Values: 247.75059282258385, 246.78765587916305, 240.81516613009555
Standard Deviation Values: 34.16301507753819, 32.78299884323461, 42.640784805012686
Object ID Field:
Fields:
None
Default Mosaic Method: Center
Allowed Mosaic Methods:
SortField:
SortValue: null
Mosaic Operator: First
Default Compression Quality: 75
Default Resampling Method: Bilinear
Max Record Count: null
Max Image Height: 4100
Max Image Width: 15000
Max Download Image Count: null
Max Mosaic Image Count: null
Allow Raster Function: true
Allow Copy: true
Allow Analysis: true
Allow Compute TiePoints: false
Supports Statistics: false
Supports Advanced Queries: false
Use StandardizedQueries: true
Raster Type Infos:
Name: Raster Dataset
Description: Supports all ArcGIS Raster Datasets
Help:
Has Raster Attribute Table: false
Edit Fields Info: null
Ownership Based AccessControl For Rasters: null
Child Resources:
Info
Histograms
Statistics
Key Properties
Legend
Raster Function Infos
Supported Operations:
Export Image
Identify
Measure
Compute Histograms
Compute Statistics Histograms
Get Samples
Compute Class Statistics
Query Boundary
Compute Pixel Location
Compute Angles
Validate
Project