View In:
ArcGIS JavaScript
ArcGIS Online Map Viewer
ArcGIS Earth
ArcMap
View Footprint In:
ArcGIS Online Map Viewer
Service Description: PP_FRCA_IMPLANTACAO_2010
Name: PP_FRCA_IMPLANTACAO_2010
Description:
Single Fused Map Cache: false
Extent:
XMin: -59505.5568601942
YMin: 223817.20090553365
XMax: -57201.25982919309
YMax: 226031.05782610425
Spatial Reference: 3763
(3763)
Initial Extent:
XMin: -59505.5568601942
YMin: 223817.20090553365
XMax: -57201.25982919309
YMax: 226031.05782610425
Spatial Reference: 3763
(3763)
Full Extent:
XMin: -59505.5568601942
YMin: 223817.20090553365
XMax: -57201.25982919309
YMax: 226031.05782610425
Spatial Reference: 3763
(3763)
Pixel Size X: 0.19527940940687355
Pixel Size Y: 0.25186085558254845
Band Count: 4
Pixel Type: U8
RasterFunction Infos: {"rasterFunctionInfos": [{
"name": "None",
"description": "",
"help": ""
}]}
Mensuration Capabilities: Basic
Has Histograms: true
Has Colormap: false
Has Multi Dimensions : false
Rendering Rule:
Min Scale: 0
Max Scale: 0
Copyright Text:
Service Data Type: esriImageServiceDataTypeGeneric
Min Values: 0, 0, 0, 255
Max Values: 255, 255, 255, 255
Mean Values: 239.07223693464937, 243.41499093861418, 236.42961155325725, 255
Standard Deviation Values: 44.37493213110613, 37.62247213060146, 48.8428134072432, 0
Object ID Field:
Fields:
None
Default Mosaic Method: Center
Allowed Mosaic Methods:
SortField:
SortValue: null
Mosaic Operator: First
Default Compression Quality: 75
Default Resampling Method: Bilinear
Max Record Count: null
Max Image Height: 4100
Max Image Width: 15000
Max Download Image Count: null
Max Mosaic Image Count: null
Allow Raster Function: true
Allow Copy: true
Allow Analysis: true
Allow Compute TiePoints: false
Supports Statistics: false
Supports Advanced Queries: false
Use StandardizedQueries: true
Raster Type Infos:
Name: Raster Dataset
Description: Supports all ArcGIS Raster Datasets
Help:
Has Raster Attribute Table: false
Edit Fields Info: null
Ownership Based AccessControl For Rasters: null
Child Resources:
Info
Histograms
Statistics
Key Properties
Legend
Raster Function Infos
Supported Operations:
Export Image
Identify
Measure
Compute Histograms
Compute Statistics Histograms
Get Samples
Compute Class Statistics
Query Boundary
Compute Pixel Location
Compute Angles
Validate
Project