View In:
ArcGIS JavaScript
ArcGIS Online Map Viewer
ArcGIS Earth
ArcMap
View Footprint In:
ArcGIS Online Map Viewer
Service Description: PROCESSOS_OBRAS
Name: PROCESSOS_OBRAS
Description:
Single Fused Map Cache: false
Extent:
XMin: -64000.67430799496
YMin: 214999.7637841563
XMax: -39999.14071267252
YMax: 240001.2015297711
Spatial Reference: 102161
(102161)
Initial Extent:
XMin: -64000.67430799496
YMin: 214999.7637841563
XMax: -39999.14071267252
YMax: 240001.2015297711
Spatial Reference: 102161
(102161)
Full Extent:
XMin: -64000.67430799496
YMin: 214999.7637841563
XMax: -39999.14071267252
YMax: 240001.2015297711
Spatial Reference: 102161
(102161)
Pixel Size X: 0.7667976612671302
Pixel Size Y: 0.7667976612671306
Band Count: 3
Pixel Type: U8
RasterFunction Infos: {"rasterFunctionInfos": [{
"name": "None",
"description": "",
"help": ""
}]}
Mensuration Capabilities: Basic
Has Histograms: true
Has Colormap: false
Has Multi Dimensions : false
Rendering Rule:
Min Scale: 0
Max Scale: 0
Copyright Text:
Service Data Type: esriImageServiceDataTypeRGB
Min Values: 0, 0, 0
Max Values: 255, 255, 255
Mean Values: 191.50926973121693, 164.33773874095212, 142.29441248317548
Standard Deviation Values: 29.134452761165292, 27.074490381153755, 24.69065867091908
Object ID Field:
Fields:
None
Default Mosaic Method: Center
Allowed Mosaic Methods:
SortField:
SortValue: null
Mosaic Operator: First
Default Compression Quality: 75
Default Resampling Method: Bilinear
Max Record Count: null
Max Image Height: 4100
Max Image Width: 15000
Max Download Image Count: null
Max Mosaic Image Count: null
Allow Raster Function: true
Allow Copy: true
Allow Analysis: true
Allow Compute TiePoints: false
Supports Statistics: false
Supports Advanced Queries: false
Use StandardizedQueries: true
Raster Type Infos:
Name: Raster Dataset
Description: Supports all ArcGIS Raster Datasets
Help:
Has Raster Attribute Table: false
Edit Fields Info: null
Ownership Based AccessControl For Rasters: null
Child Resources:
Info
Histograms
Statistics
Key Properties
Legend
Raster Function Infos
Supported Operations:
Export Image
Identify
Measure
Compute Histograms
Compute Statistics Histograms
Get Samples
Compute Class Statistics
Query Boundary
Compute Pixel Location
Compute Angles
Validate
Project