View In:
ArcGIS JavaScript
ArcGIS Online Map Viewer
ArcGIS Earth
ArcMap
View Footprint In:
ArcGIS Online Map Viewer
Service Description: CARTOGRAFIA_10K_1974
Name: CARTOGRAFIA_10K_1974
Description:
Single Fused Map Cache: false
Extent:
XMin: -64000.291403247604
YMin: 214999.7088381686
XMax: -39997.765264658345
YMax: 245001.21458255875
Spatial Reference: 102161
(102161)
Initial Extent:
XMin: -64000.291403247604
YMin: 214999.7088381686
XMax: -39997.765264658345
YMax: 245001.21458255875
Spatial Reference: 102161
(102161)
Full Extent:
XMin: -64000.291403247604
YMin: 214999.7088381686
XMax: -39997.765264658345
YMax: 245001.21458255875
Spatial Reference: 102161
(102161)
Pixel Size X: 0.8259644232136703
Pixel Size Y: 0.8259644232136707
Band Count: 3
Pixel Type: U8
RasterFunction Infos: {"rasterFunctionInfos": [{
"name": "None",
"description": "",
"help": ""
}]}
Mensuration Capabilities: Basic
Has Histograms: true
Has Colormap: false
Has Multi Dimensions : false
Rendering Rule:
Min Scale: 0
Max Scale: 0
Copyright Text:
Service Data Type: esriImageServiceDataTypeRGB
Min Values: 0, 0, 0
Max Values: 255, 255, 253
Mean Values: 188.8052841578102, 194.78193042598122, 179.37386947376555
Standard Deviation Values: 41.18381158299033, 37.6130505675733, 35.627604417737736
Object ID Field:
Fields:
None
Default Mosaic Method: Center
Allowed Mosaic Methods:
SortField:
SortValue: null
Mosaic Operator: First
Default Compression Quality: 75
Default Resampling Method: Bilinear
Max Record Count: null
Max Image Height: 4100
Max Image Width: 15000
Max Download Image Count: null
Max Mosaic Image Count: null
Allow Raster Function: true
Allow Copy: true
Allow Analysis: true
Allow Compute TiePoints: false
Supports Statistics: false
Supports Advanced Queries: false
Use StandardizedQueries: true
Raster Type Infos:
Name: Raster Dataset
Description: Supports all ArcGIS Raster Datasets
Help:
Has Raster Attribute Table: false
Edit Fields Info: null
Ownership Based AccessControl For Rasters: null
Child Resources:
Info
Histograms
Statistics
Key Properties
Legend
Raster Function Infos
Supported Operations:
Export Image
Identify
Measure
Compute Histograms
Compute Statistics Histograms
Get Samples
Compute Class Statistics
Query Boundary
Compute Pixel Location
Compute Angles
Validate
Project