View In:
ArcGIS JavaScript
ArcGIS Online Map Viewer
ArcGIS Earth
ArcMap
View Footprint In:
ArcGIS Online Map Viewer
Service Description: CARTOGRAFIA_2K_1981
Name: CARTOGRAFIA_2K_1981
Description:
Single Fused Map Cache: false
Extent:
XMin: -62400
YMin: 216999.9562574067
XMax: -43199.34545600003
YMax: 235999.978747
Spatial Reference: 102165
(102165)
Initial Extent:
XMin: -62400
YMin: 216999.9562574067
XMax: -43199.34545600003
YMax: 235999.978747
Spatial Reference: 102165
(102165)
Full Extent:
XMin: -62400
YMin: 216999.9562574067
XMax: -43199.34545600003
YMax: 235999.978747
Spatial Reference: 102165
(102165)
Pixel Size X: 0.16894399999999973
Pixel Size Y: 0.16894164842033768
Band Count: 1
Pixel Type: U8
RasterFunction Infos: {"rasterFunctionInfos": [{
"name": "None",
"description": "",
"help": ""
}]}
Mensuration Capabilities:
Has Histograms: true
Has Colormap: false
Has Multi Dimensions : false
Rendering Rule:
Min Scale: 0
Max Scale: 0
Copyright Text:
Service Data Type: esriImageServiceDataTypeGeneric
Min Values: 0
Max Values: 255
Mean Values: 236.83500690996766
Standard Deviation Values: 65.58928512066316
Object ID Field:
Fields:
None
Default Mosaic Method: Center
Allowed Mosaic Methods:
SortField:
SortValue: null
Mosaic Operator: First
Default Compression Quality: 75
Default Resampling Method: Bilinear
Max Record Count: null
Max Image Height: 4100
Max Image Width: 15000
Max Download Image Count: null
Max Mosaic Image Count: null
Allow Raster Function: true
Allow Copy: true
Allow Analysis: true
Allow Compute TiePoints: false
Supports Statistics: false
Supports Advanced Queries: false
Use StandardizedQueries: true
Raster Type Infos:
Name: Raster Dataset
Description: Supports all ArcGIS Raster Datasets
Help:
Has Raster Attribute Table: true
Edit Fields Info: null
Ownership Based AccessControl For Rasters: null
Child Resources:
Info
Raster Attribute Table
Histograms
Statistics
Key Properties
Legend
Raster Function Infos
Supported Operations:
Export Image
Identify
Compute Histograms
Compute Statistics Histograms
Get Samples
Compute Class Statistics
Query Boundary
Compute Pixel Location
Compute Angles
Validate
Project