View In:
ArcGIS JavaScript
ArcGIS Online Map Viewer
ArcGIS Earth
ArcMap
View Footprint In:
ArcGIS Online Map Viewer
Service Description: CARTOGRAFIA_MILITAR_25K_1997
Name: CARTOGRAFIA_MILITAR_25K_1997
Description:
Single Fused Map Cache: false
Extent:
XMin: -64002.39623120753
YMin: 209998.13093971807
XMax: -31998.332223271504
YMax: 240003.73812056376
Spatial Reference: 102161
(102161)
Initial Extent:
XMin: -64002.39623120753
YMin: 209998.13093971807
XMax: -31998.332223271504
YMax: 240003.73812056376
Spatial Reference: 102161
(102161)
Full Extent:
XMin: -64002.39623120753
YMin: 209998.13093971807
XMax: -31998.332223271504
YMax: 240003.73812056376
Spatial Reference: 102161
(102161)
Pixel Size X: 2.39623120754238
Pixel Size Y: 2.396231207542381
Band Count: 3
Pixel Type: U8
RasterFunction Infos: {"rasterFunctionInfos": [{
"name": "None",
"description": "",
"help": ""
}]}
Mensuration Capabilities: Basic
Has Histograms: true
Has Colormap: false
Has Multi Dimensions : false
Rendering Rule:
Min Scale: 0
Max Scale: 0
Copyright Text:
Service Data Type: esriImageServiceDataTypeRGB
Min Values: 0, 0, 0
Max Values: 255, 255, 255
Mean Values: 225.74553610443462, 227.83433451225872, 228.8068019333592
Standard Deviation Values: 38.69992076091542, 40.55167802924707, 41.26358501646312
Object ID Field:
Fields:
None
Default Mosaic Method: Center
Allowed Mosaic Methods:
SortField:
SortValue: null
Mosaic Operator: First
Default Compression Quality: 75
Default Resampling Method: Bilinear
Max Record Count: null
Max Image Height: 4100
Max Image Width: 15000
Max Download Image Count: null
Max Mosaic Image Count: null
Allow Raster Function: true
Allow Copy: true
Allow Analysis: true
Allow Compute TiePoints: false
Supports Statistics: false
Supports Advanced Queries: false
Use StandardizedQueries: true
Raster Type Infos:
Name: Raster Dataset
Description: Supports all ArcGIS Raster Datasets
Help:
Has Raster Attribute Table: false
Edit Fields Info: null
Ownership Based AccessControl For Rasters: null
Child Resources:
Info
Histograms
Statistics
Key Properties
Legend
Raster Function Infos
Supported Operations:
Export Image
Identify
Measure
Compute Histograms
Compute Statistics Histograms
Get Samples
Compute Class Statistics
Query Boundary
Compute Pixel Location
Compute Angles
Validate
Project