View In:
ArcGIS JavaScript
ArcGIS Online Map Viewer
ArcGIS Earth
ArcMap
View Footprint In:
ArcGIS Online Map Viewer
Service Description: LEVANTAMENTO_CIDADE_1K_1938
Name: LEVANTAMENTO_CIDADE_1K_1938
Description:
Single Fused Map Cache: false
Extent:
XMin: -60126.757938345705
YMin: 223845.7867267182
XMax: -56144.36342226631
YMax: 226672.15206072046
Spatial Reference: 102161
(102161)
Initial Extent:
XMin: -60126.757938345705
YMin: 223845.7867267182
XMax: -56144.36342226631
YMax: 226672.15206072046
Spatial Reference: 102161
(102161)
Full Extent:
XMin: -60126.757938345705
YMin: 223845.7867267182
XMax: -56144.36342226631
YMax: 226672.15206072046
Spatial Reference: 102161
(102161)
Pixel Size X: 0.12643726437690558
Pixel Size Y: 0.16153428210563364
Band Count: 3
Pixel Type: U8
RasterFunction Infos: {"rasterFunctionInfos": [{
"name": "None",
"description": "",
"help": ""
}]}
Mensuration Capabilities: Basic
Has Histograms: true
Has Colormap: false
Has Multi Dimensions : false
Rendering Rule:
Min Scale: 0
Max Scale: 0
Copyright Text:
Service Data Type: esriImageServiceDataTypeRGB
Min Values: 0, 0, 0
Max Values: 255, 255, 255
Mean Values: 164.2979645026761, 164.09713344170837, 165.06131595808435
Standard Deviation Values: 96.737388499099, 96.75679065314715, 97.47547724154504
Object ID Field:
Fields:
None
Default Mosaic Method: Center
Allowed Mosaic Methods:
SortField:
SortValue: null
Mosaic Operator: First
Default Compression Quality: 75
Default Resampling Method: Bilinear
Max Record Count: null
Max Image Height: 4100
Max Image Width: 15000
Max Download Image Count: null
Max Mosaic Image Count: null
Allow Raster Function: true
Allow Copy: true
Allow Analysis: true
Allow Compute TiePoints: false
Supports Statistics: false
Supports Advanced Queries: false
Use StandardizedQueries: true
Raster Type Infos:
Name: Raster Dataset
Description: Supports all ArcGIS Raster Datasets
Help:
Has Raster Attribute Table: false
Edit Fields Info: null
Ownership Based AccessControl For Rasters: null
Child Resources:
Info
Histograms
Statistics
Key Properties
Legend
Raster Function Infos
Supported Operations:
Export Image
Identify
Measure
Compute Histograms
Compute Statistics Histograms
Get Samples
Compute Class Statistics
Query Boundary
Compute Pixel Location
Compute Angles
Validate
Project