View In:
ArcGIS JavaScript
ArcGIS Online Map Viewer
ArcGIS Earth
ArcMap
View Footprint In:
ArcGIS Online Map Viewer
Service Description: ORTOS2007
Name: ORTOS2007
Description:
Single Fused Map Cache: false
Extent:
XMin: -65050.228607083634
YMin: 214950.07193118584
XMax: -39949.91329019797
YMax: 245050.07519338114
Spatial Reference: 102165
(102165)
Initial Extent:
XMin: -65050.228607083634
YMin: 214950.07193118584
XMax: -39949.91329019797
YMax: 245050.07519338114
Spatial Reference: 102165
(102165)
Full Extent:
XMin: -65050.228607083634
YMin: 214950.07193118584
XMax: -39949.91329019797
YMax: 245050.07519338114
Spatial Reference: 102165
(102165)
Pixel Size X: 0.3499862700700754
Pixel Size Y: 0.3499796902760921
Band Count: 3
Pixel Type: U8
RasterFunction Infos: {"rasterFunctionInfos": [{
"name": "None",
"description": "",
"help": ""
}]}
Mensuration Capabilities: Basic
Has Histograms: true
Has Colormap: false
Has Multi Dimensions : false
Rendering Rule:
Min Scale: 0
Max Scale: 0
Copyright Text:
Service Data Type: esriImageServiceDataTypeRGB
Min Values: 0, 0, 0
Max Values: 255, 255, 255
Mean Values: 173.5237120394391, 174.7478085342518, 159.48765826695941
Standard Deviation Values: 67.72500232791214, 65.50563957460287, 75.1517913348365
Object ID Field:
Fields:
None
Default Mosaic Method: Center
Allowed Mosaic Methods:
SortField:
SortValue: null
Mosaic Operator: First
Default Compression Quality: 75
Default Resampling Method: Bilinear
Max Record Count: null
Max Image Height: 4100
Max Image Width: 15000
Max Download Image Count: null
Max Mosaic Image Count: null
Allow Raster Function: true
Allow Copy: true
Allow Analysis: true
Allow Compute TiePoints: false
Supports Statistics: false
Supports Advanced Queries: false
Use StandardizedQueries: true
Raster Type Infos:
Name: Raster Dataset
Description: Supports all ArcGIS Raster Datasets
Help:
Has Raster Attribute Table: false
Edit Fields Info: null
Ownership Based AccessControl For Rasters: null
Child Resources:
Info
Histograms
Statistics
Key Properties
Legend
Raster Function Infos
Supported Operations:
Export Image
Identify
Measure
Compute Histograms
Compute Statistics Histograms
Get Samples
Compute Class Statistics
Query Boundary
Compute Pixel Location
Compute Angles
Validate
Project