View In:
ArcGIS JavaScript
ArcGIS Online Map Viewer
ArcGIS Earth
ArcMap
View Footprint In:
ArcGIS Online Map Viewer
Service Description: ORTOS_2K_2014
Name: ORTOS_2K_2014
Description:
Single Fused Map Cache: false
Extent:
XMin: -63996.08235947175
YMin: 214963.68987871142
XMax: -41955.82143398722
YMax: 241254.04931718003
Spatial Reference: 102161
(102161)
Initial Extent:
XMin: -63996.08235947175
YMin: 214963.68987871142
XMax: -41955.82143398722
YMax: 241254.04931718003
Spatial Reference: 102161
(102161)
Full Extent:
XMin: -63996.08235947175
YMin: 214963.68987871142
XMax: -41955.82143398722
YMax: 241254.04931718003
Spatial Reference: 102161
(102161)
Pixel Size X: 0.25000579550000035
Pixel Size Y: 0.2500057954000001
Band Count: 3
Pixel Type: U8
RasterFunction Infos: {"rasterFunctionInfos": [{
"name": "None",
"description": "",
"help": ""
}]}
Mensuration Capabilities: Basic
Has Histograms: true
Has Colormap: false
Has Multi Dimensions : false
Rendering Rule:
Min Scale: 0
Max Scale: 0
Copyright Text:
Service Data Type: esriImageServiceDataTypeRGB
Min Values: 0, 0, 0
Max Values: 255, 255, 255
Mean Values: 80.99865524442232, 87.96681510879847, 98.86355389301548
Standard Deviation Values: 56.187654945485995, 47.25457512686057, 39.777672953205546
Object ID Field:
Fields:
None
Default Mosaic Method: Center
Allowed Mosaic Methods:
SortField:
SortValue: null
Mosaic Operator: First
Default Compression Quality: 75
Default Resampling Method: Bilinear
Max Record Count: null
Max Image Height: 4100
Max Image Width: 15000
Max Download Image Count: null
Max Mosaic Image Count: null
Allow Raster Function: true
Allow Copy: true
Allow Analysis: true
Allow Compute TiePoints: false
Supports Statistics: false
Supports Advanced Queries: false
Use StandardizedQueries: true
Raster Type Infos:
Name: Raster Dataset
Description: Supports all ArcGIS Raster Datasets
Help:
Has Raster Attribute Table: false
Edit Fields Info: null
Ownership Based AccessControl For Rasters: null
Child Resources:
Info
Histograms
Statistics
Key Properties
Legend
Raster Function Infos
Supported Operations:
Export Image
Identify
Measure
Compute Histograms
Compute Statistics Histograms
Get Samples
Compute Class Statistics
Query Boundary
Compute Pixel Location
Compute Angles
Validate
Project