View In:
ArcGIS JavaScript
ArcGIS Online Map Viewer
ArcGIS Earth
ArcMap
View Footprint In:
ArcGIS Online Map Viewer
Service Description: PDM_ORDENAMENTO
Name: PDM_ORDENAMENTO
Description:
Single Fused Map Cache: false
Extent:
XMin: -64000.444628074765
YMin: 215000.22850784392
XMax: -39999.428641339735
YMax: 245000.2285124711
Spatial Reference: 102165
(102165)
Initial Extent:
XMin: -64000.444628074765
YMin: 215000.22850784392
XMax: -39999.428641339735
YMax: 245000.2285124711
Spatial Reference: 102165
(102165)
Full Extent:
XMin: -64000.444628074765
YMin: 215000.22850784392
XMax: -39999.428641339735
YMax: 245000.2285124711
Spatial Reference: 102165
(102165)
Pixel Size X: 1.2699622195214049
Pixel Size Y: 1.2700025402009647
Band Count: 3
Pixel Type: U8
RasterFunction Infos: {"rasterFunctionInfos": [{
"name": "None",
"description": "",
"help": ""
}]}
Mensuration Capabilities: Basic
Has Histograms: true
Has Colormap: false
Has Multi Dimensions : false
Rendering Rule:
Min Scale: 0
Max Scale: 0
Copyright Text:
Service Data Type: esriImageServiceDataTypeRGB
Min Values: 0, 0, 0
Max Values: 255, 255, 255
Mean Values: 205.71379661989442, 209.7249130726447, 201.4862537618919
Standard Deviation Values: 60.927213491779185, 64.16408148911748, 68.88695106329139
Object ID Field:
Fields:
None
Default Mosaic Method: Center
Allowed Mosaic Methods:
SortField:
SortValue: null
Mosaic Operator: First
Default Compression Quality: 75
Default Resampling Method: Bilinear
Max Record Count: null
Max Image Height: 4100
Max Image Width: 15000
Max Download Image Count: null
Max Mosaic Image Count: null
Allow Raster Function: true
Allow Copy: true
Allow Analysis: true
Allow Compute TiePoints: false
Supports Statistics: false
Supports Advanced Queries: false
Use StandardizedQueries: true
Raster Type Infos:
Name: Raster Dataset
Description: Supports all ArcGIS Raster Datasets
Help:
Has Raster Attribute Table: false
Edit Fields Info: null
Ownership Based AccessControl For Rasters: null
Child Resources:
Info
Histograms
Statistics
Key Properties
Legend
Raster Function Infos
Supported Operations:
Export Image
Identify
Measure
Compute Histograms
Compute Statistics Histograms
Get Samples
Compute Class Statistics
Query Boundary
Compute Pixel Location
Compute Angles
Validate
Project