View In:
ArcGIS JavaScript
ArcGIS Online Map Viewer
ArcGIS Earth
ArcMap
View Footprint In:
ArcGIS Online Map Viewer
Service Description: PIER_CONDICIONANTES_PIR
Name: PIER_CONDICIONANTES_PIR
Description:
Single Fused Map Cache: false
Extent:
XMin: -62976.80121231545
YMin: 225048.93753749077
XMax: -57227.72157770277
YMax: 237050.0354374908
Spatial Reference: 3763
(3763)
Initial Extent:
XMin: -62976.80121231545
YMin: 225048.93753749077
XMax: -57227.72157770277
YMax: 237050.0354374908
Spatial Reference: 3763
(3763)
Full Extent:
XMin: -62976.80121231545
YMin: 225048.93753749077
XMax: -57227.72157770277
YMax: 237050.0354374908
Spatial Reference: 3763
(3763)
Pixel Size X: 1.693396063214339
Pixel Size Y: 1.6933960632143392
Band Count: 3
Pixel Type: U8
RasterFunction Infos: {"rasterFunctionInfos": [{
"name": "None",
"description": "",
"help": ""
}]}
Mensuration Capabilities: Basic
Has Histograms: true
Has Colormap: false
Has Multi Dimensions : false
Rendering Rule:
Min Scale: 0
Max Scale: 0
Copyright Text:
Service Data Type: esriImageServiceDataTypeRGB
Min Values: 0, 0, 0
Max Values: 255, 255, 255
Mean Values: 252.2511842609204, 252.1827548750819, 252.03098294643493
Standard Deviation Values: 20.618313258755183, 20.845531791079104, 21.75543381127547
Object ID Field:
Fields:
None
Default Mosaic Method: Center
Allowed Mosaic Methods:
SortField:
SortValue: null
Mosaic Operator: First
Default Compression Quality: 75
Default Resampling Method: Bilinear
Max Record Count: null
Max Image Height: 4100
Max Image Width: 15000
Max Download Image Count: null
Max Mosaic Image Count: null
Allow Raster Function: true
Allow Copy: true
Allow Analysis: true
Allow Compute TiePoints: false
Supports Statistics: false
Supports Advanced Queries: false
Use StandardizedQueries: true
Raster Type Infos:
Name: Raster Dataset
Description: Supports all ArcGIS Raster Datasets
Help:
Has Raster Attribute Table: false
Edit Fields Info: null
Ownership Based AccessControl For Rasters: null
Child Resources:
Info
Histograms
Statistics
Key Properties
Legend
Raster Function Infos
Supported Operations:
Export Image
Identify
Measure
Compute Histograms
Compute Statistics Histograms
Get Samples
Compute Class Statistics
Query Boundary
Compute Pixel Location
Compute Angles
Validate
Project