View In:
ArcGIS JavaScript
ArcGIS Online Map Viewer
ArcGIS Earth
ArcMap
View Footprint In:
ArcGIS Online Map Viewer
Service Description: PP_CH_IMPLATACAO
Name: PP_CH_IMPLATACAO
Description:
Single Fused Map Cache: false
Extent:
XMin: -58680.9086023224
YMin: 224592.25145070918
XMax: -57240.6075725509
YMax: 225596.88579409485
Spatial Reference: 102165
(102165)
Initial Extent:
XMin: -58680.9086023224
YMin: 224592.25145070918
XMax: -57240.6075725509
YMax: 225596.88579409485
Spatial Reference: 102165
(102165)
Full Extent:
XMin: -58680.9086023224
YMin: 224592.25145070918
XMax: -57240.6075725509
YMax: 225596.88579409485
Spatial Reference: 102165
(102165)
Pixel Size X: 0.1016013706102921
Pixel Size Y: 0.10160136967897121
Band Count: 3
Pixel Type: U8
RasterFunction Infos: {"rasterFunctionInfos": [{
"name": "None",
"description": "",
"help": ""
}]}
Mensuration Capabilities: Basic
Has Histograms: true
Has Colormap: false
Has Multi Dimensions : false
Rendering Rule:
Min Scale: 0
Max Scale: 0
Copyright Text:
Service Data Type: esriImageServiceDataTypeRGB
Min Values: 0, 0, 0
Max Values: 255, 255, 255
Mean Values: 236.26490897401916, 230.29493503737342, 210.86172517209678
Standard Deviation Values: 52.847665929361895, 58.26858274115775, 68.75176126769846
Object ID Field:
Fields:
None
Default Mosaic Method: Center
Allowed Mosaic Methods:
SortField:
SortValue: null
Mosaic Operator: First
Default Compression Quality: 75
Default Resampling Method: Bilinear
Max Record Count: null
Max Image Height: 4100
Max Image Width: 15000
Max Download Image Count: null
Max Mosaic Image Count: null
Allow Raster Function: true
Allow Copy: true
Allow Analysis: true
Allow Compute TiePoints: false
Supports Statistics: false
Supports Advanced Queries: false
Use StandardizedQueries: true
Raster Type Infos:
Name: Raster Dataset
Description: Supports all ArcGIS Raster Datasets
Help:
Has Raster Attribute Table: false
Edit Fields Info: null
Ownership Based AccessControl For Rasters: null
Child Resources:
Info
Histograms
Statistics
Key Properties
Legend
Raster Function Infos
Supported Operations:
Export Image
Identify
Measure
Compute Histograms
Compute Statistics Histograms
Get Samples
Compute Class Statistics
Query Boundary
Compute Pixel Location
Compute Angles
Validate
Project