View In:
ArcGIS JavaScript
ArcGIS Online Map Viewer
ArcGIS Earth
ArcMap
View Footprint In:
ArcGIS Online Map Viewer
Service Description: PP_DARQUE_IMPLANTACAO
Name: PP_DARQUE_IMPLANTACAO
Description:
Single Fused Map Cache: false
Extent:
XMin: -56748.01493917592
YMin: 223894.6545716982
XMax: -53499.57910724367
YMax: 224664.79731484503
Spatial Reference: 102161
(102161)
VCSWkid(5780)
LatestVCSWkid(5780)
Initial Extent:
XMin: -56748.01493917592
YMin: 223894.6545716982
XMax: -53499.57910724367
YMax: 224664.79731484503
Spatial Reference: 102161
(102161)
VCSWkid(5780)
LatestVCSWkid(5780)
Full Extent:
XMin: -56748.01493917592
YMin: 223894.6545716982
XMax: -53499.57910724367
YMax: 224664.79731484503
Spatial Reference: 102161
(102161)
VCSWkid(5780)
LatestVCSWkid(5780)
Pixel Size X: 0.16933047497561765
Pixel Size Y: 0.16933657501029745
Band Count: 3
Pixel Type: U8
RasterFunction Infos: {"rasterFunctionInfos": [{
"name": "None",
"description": "",
"help": ""
}]}
Mensuration Capabilities: Basic
Has Histograms: true
Has Colormap: false
Has Multi Dimensions : false
Rendering Rule:
Min Scale: 0
Max Scale: 0
Copyright Text:
Service Data Type: esriImageServiceDataTypeRGB
Min Values: 0, 0, 0
Max Values: 255, 255, 255
Mean Values: 225.79701211358338, 226.2678479753173, 217.0931757573557
Standard Deviation Values: 53.2735820546136, 53.88593710372118, 60.593853404406104
Object ID Field:
Fields:
None
Default Mosaic Method: Center
Allowed Mosaic Methods:
SortField:
SortValue: null
Mosaic Operator: First
Default Compression Quality: 75
Default Resampling Method: Bilinear
Max Record Count: null
Max Image Height: 4100
Max Image Width: 15000
Max Download Image Count: null
Max Mosaic Image Count: null
Allow Raster Function: true
Allow Copy: true
Allow Analysis: true
Allow Compute TiePoints: false
Supports Statistics: false
Supports Advanced Queries: false
Use StandardizedQueries: true
Raster Type Infos:
Name: Raster Dataset
Description: Supports all ArcGIS Raster Datasets
Help:
Has Raster Attribute Table: false
Edit Fields Info: null
Ownership Based AccessControl For Rasters: null
Child Resources:
Info
Histograms
Statistics
Key Properties
Legend
Raster Function Infos
Supported Operations:
Export Image
Identify
Measure
Compute Histograms
Compute Statistics Histograms
Get Samples
Compute Class Statistics
Query Boundary
Compute Pixel Location
Compute Angles
Validate
Project