View In:
ArcGIS JavaScript
ArcGIS Online Map Viewer
ArcGIS Earth
ArcMap
View Footprint In:
ArcGIS Online Map Viewer
Service Description: PP_PC_IMPLANTACAO
Name: PP_PC_IMPLANTACAO
Description:
Single Fused Map Cache: false
Extent:
XMin: -57633.097304011884
YMin: 224832.5257329411
XMax: -55986.82694371362
YMax: 226336.00042635942
Spatial Reference: 3763
(3763)
VCSWkid(5780)
LatestVCSWkid(5780)
Initial Extent:
XMin: -57633.097304011884
YMin: 224832.5257329411
XMax: -55986.82694371362
YMax: 226336.00042635942
Spatial Reference: 3763
(3763)
VCSWkid(5780)
LatestVCSWkid(5780)
Full Extent:
XMin: -57633.097304011884
YMin: 224832.5257329411
XMax: -55986.82694371362
YMax: 226336.00042635942
Spatial Reference: 3763
(3763)
VCSWkid(5780)
LatestVCSWkid(5780)
Pixel Size X: 0.11288195010273351
Pixel Size Y: 0.11288195010273337
Band Count: 3
Pixel Type: U8
RasterFunction Infos: {"rasterFunctionInfos": [{
"name": "None",
"description": "",
"help": ""
}]}
Mensuration Capabilities: Basic
Has Histograms: true
Has Colormap: false
Has Multi Dimensions : false
Rendering Rule:
Min Scale: 0
Max Scale: 0
Copyright Text:
Service Data Type: esriImageServiceDataTypeRGB
Min Values: 0, 0, 0
Max Values: 255, 255, 255
Mean Values: 246.50470580919176, 251.0082728794426, 252.07211537466273
Standard Deviation Values: 24.22207470555033, 21.128652574876273, 21.687961988311578
Object ID Field:
Fields:
None
Default Mosaic Method: Center
Allowed Mosaic Methods:
SortField:
SortValue: null
Mosaic Operator: First
Default Compression Quality: 75
Default Resampling Method: Bilinear
Max Record Count: null
Max Image Height: 4100
Max Image Width: 15000
Max Download Image Count: null
Max Mosaic Image Count: null
Allow Raster Function: true
Allow Copy: true
Allow Analysis: true
Allow Compute TiePoints: false
Supports Statistics: false
Supports Advanced Queries: false
Use StandardizedQueries: true
Raster Type Infos:
Name: Raster Dataset
Description: Supports all ArcGIS Raster Datasets
Help:
Has Raster Attribute Table: false
Edit Fields Info: null
Ownership Based AccessControl For Rasters: null
Child Resources:
Info
Histograms
Statistics
Key Properties
Legend
Raster Function Infos
Supported Operations:
Export Image
Identify
Measure
Compute Histograms
Compute Statistics Histograms
Get Samples
Compute Class Statistics
Query Boundary
Compute Pixel Location
Compute Angles
Validate
Project