View In:
ArcGIS JavaScript
ArcGIS Online Map Viewer
ArcGIS Earth
ArcMap
View Footprint In:
ArcGIS Online Map Viewer
Service Description: PUC_ZONAMENTO
Name: PUC_ZONAMENTO
Description:
Single Fused Map Cache: false
Extent:
XMin: -64000.68717912872
YMin: 222495.5648440005
XMax: -51999.16275041363
YMax: 229996.41173358244
Spatial Reference: 3763
(3763)
VCSWkid(5780)
LatestVCSWkid(5780)
Initial Extent:
XMin: -64000.68717912872
YMin: 222495.5648440005
XMax: -51999.16275041363
YMax: 229996.41173358244
Spatial Reference: 3763
(3763)
VCSWkid(5780)
LatestVCSWkid(5780)
Full Extent:
XMin: -64000.68717912872
YMin: 222495.5648440005
XMax: -51999.16275041363
YMax: 229996.41173358244
Spatial Reference: 3763
(3763)
VCSWkid(5780)
LatestVCSWkid(5780)
Pixel Size X: 0.4235134599730077
Pixel Size Y: 0.42351345997300766
Band Count: 3
Pixel Type: U8
RasterFunction Infos: {"rasterFunctionInfos": [{
"name": "None",
"description": "",
"help": ""
}]}
Mensuration Capabilities: Basic
Has Histograms: true
Has Colormap: false
Has Multi Dimensions : false
Rendering Rule:
Min Scale: 0
Max Scale: 0
Copyright Text:
Service Data Type: esriImageServiceDataTypeRGB
Min Values: 0, 0, 0
Max Values: 255, 255, 255
Mean Values: 209.6179034400426, 221.23031476231208, 217.12878511968535
Standard Deviation Values: 51.629922246147856, 53.22459953049103, 60.487911861867595
Object ID Field:
Fields:
None
Default Mosaic Method: Center
Allowed Mosaic Methods:
SortField:
SortValue: null
Mosaic Operator: First
Default Compression Quality: 75
Default Resampling Method: Bilinear
Max Record Count: null
Max Image Height: 4100
Max Image Width: 15000
Max Download Image Count: null
Max Mosaic Image Count: null
Allow Raster Function: true
Allow Copy: true
Allow Analysis: true
Allow Compute TiePoints: false
Supports Statistics: false
Supports Advanced Queries: false
Use StandardizedQueries: true
Raster Type Infos:
Name: Raster Dataset
Description: Supports all ArcGIS Raster Datasets
Help:
Has Raster Attribute Table: false
Edit Fields Info: null
Ownership Based AccessControl For Rasters: null
Child Resources:
Info
Histograms
Statistics
Key Properties
Legend
Raster Function Infos
Supported Operations:
Export Image
Identify
Measure
Compute Histograms
Compute Statistics Histograms
Get Samples
Compute Class Statistics
Query Boundary
Compute Pixel Location
Compute Angles
Validate
Project